BEGIN:VCALENDAR
VERSION:2.0
PRODID:-//Centre for ADHD and Autism Support - ECPv6.15.20//NONSGML v1.0//EN
CALSCALE:GREGORIAN
METHOD:PUBLISH
X-WR-CALNAME:Centre for ADHD and Autism Support
X-ORIGINAL-URL:https://adhdandautism.org
X-WR-CALDESC:Events for Centre for ADHD and Autism Support
REFRESH-INTERVAL;VALUE=DURATION:PT1H
X-Robots-Tag:noindex
X-PUBLISHED-TTL:PT1H
BEGIN:VTIMEZONE
TZID:Europe/London
BEGIN:DAYLIGHT
TZOFFSETFROM:+0000
TZOFFSETTO:+0100
TZNAME:BST
DTSTART:20250330T010000
END:DAYLIGHT
BEGIN:STANDARD
TZOFFSETFROM:+0100
TZOFFSETTO:+0000
TZNAME:GMT
DTSTART:20251026T010000
END:STANDARD
BEGIN:DAYLIGHT
TZOFFSETFROM:+0000
TZOFFSETTO:+0100
TZNAME:BST
DTSTART:20260329T010000
END:DAYLIGHT
BEGIN:STANDARD
TZOFFSETFROM:+0100
TZOFFSETTO:+0000
TZNAME:GMT
DTSTART:20261025T010000
END:STANDARD
BEGIN:DAYLIGHT
TZOFFSETFROM:+0000
TZOFFSETTO:+0100
TZNAME:BST
DTSTART:20270328T010000
END:DAYLIGHT
BEGIN:STANDARD
TZOFFSETFROM:+0100
TZOFFSETTO:+0000
TZNAME:GMT
DTSTART:20271031T010000
END:STANDARD
END:VTIMEZONE
BEGIN:VEVENT
DTSTART;TZID=Europe/London:20260421T140000
DTEND;TZID=Europe/London:20260421T140000
DTSTAMP:20260421T120810
CREATED:20250902T102637Z
LAST-MODIFIED:20260223T150434Z
UID:10020006-1776780000-1776780000@adhdandautism.org
SUMMARY:Creative Coffee Connects (Drop-ins) - Bay20 (3rd Tuesday)
DESCRIPTION:If you’re an adult NWL resident who identifies as autistic or ADHD\, come along to one of our Coffee Connects drop-in sessions! \nWhether you’re interested in catching up with friends\, having a cuppa\, or just looking for a relaxing place to unwind with like-minded people – our drop-ins are for you. \nEven if you’re completely new to CAAS\, all are welcome. No registration necessary\, just pop by during one of the sessions for a snack\, a warm drink and some friendly chit-chat; free crafts available for anyone who would like to join in. \nThis session takes place in Bay20 Community Centre as part of Creative Coffee Drop-in’s efforts to go into different boroughs over the next few months. \n 
URL:https://adhdandautism.org/event/ccc-bay20/2026-04-21/
LOCATION:Bay 20 Community Centre\, 71 St Marks Road\, London\, W10 6JG\, United Kingdom
CATEGORIES:Adults
ORGANIZER;CN="Adult Team":MAILTO:adults@adhdandautism.org
END:VEVENT
BEGIN:VEVENT
DTSTART;TZID=Europe/London:20260421T190000
DTEND;TZID=Europe/London:20260421T210000
DTSTAMP:20260421T120810
CREATED:20250701T090724Z
LAST-MODIFIED:20260106T135858Z
UID:10022479-1776798000-1776805200@adhdandautism.org
SUMMARY:Autistic Adults Social Group
DESCRIPTION:This group creates a space where individuals can discuss any issues in their lives\, their worries and anxieties in a safe\, non-judgmental environment. Discussions will be based on issues that impact daily life\, as well as celebrating successes. Alternative months will be a social event out in the community.
URL:https://adhdandautism.org/event/autistic-adults-social-group/2026-04-21/
LOCATION:CAAS Centre\, 269 Field End Road\, Eastcote\, HA4 9XA\, United Kingdom
CATEGORIES:Adults
ORGANIZER;CN="Adult Team":MAILTO:adults@adhdandautism.org
END:VEVENT
END:VCALENDAR