BEGIN:VCALENDAR
VERSION:2.0
PRODID:-//Centre for ADHD and Autism Support - ECPv6.15.20//NONSGML v1.0//EN
CALSCALE:GREGORIAN
METHOD:PUBLISH
X-WR-CALNAME:Centre for ADHD and Autism Support
X-ORIGINAL-URL:https://adhdandautism.org
X-WR-CALDESC:Events for Centre for ADHD and Autism Support
REFRESH-INTERVAL;VALUE=DURATION:PT1H
X-Robots-Tag:noindex
X-PUBLISHED-TTL:PT1H
BEGIN:VTIMEZONE
TZID:Europe/London
BEGIN:DAYLIGHT
TZOFFSETFROM:+0000
TZOFFSETTO:+0100
TZNAME:BST
DTSTART:20240331T010000
END:DAYLIGHT
BEGIN:STANDARD
TZOFFSETFROM:+0100
TZOFFSETTO:+0000
TZNAME:GMT
DTSTART:20241027T010000
END:STANDARD
BEGIN:DAYLIGHT
TZOFFSETFROM:+0000
TZOFFSETTO:+0100
TZNAME:BST
DTSTART:20250330T010000
END:DAYLIGHT
BEGIN:STANDARD
TZOFFSETFROM:+0100
TZOFFSETTO:+0000
TZNAME:GMT
DTSTART:20251026T010000
END:STANDARD
BEGIN:DAYLIGHT
TZOFFSETFROM:+0000
TZOFFSETTO:+0100
TZNAME:BST
DTSTART:20260329T010000
END:DAYLIGHT
BEGIN:STANDARD
TZOFFSETFROM:+0100
TZOFFSETTO:+0000
TZNAME:GMT
DTSTART:20261025T010000
END:STANDARD
END:VTIMEZONE
BEGIN:VEVENT
DTSTART;TZID=Europe/London:20251212T103000
DTEND;TZID=Europe/London:20251212T123000
DTSTAMP:20260420T132124
CREATED:20240909T181559Z
LAST-MODIFIED:20260223T145417Z
UID:10016699-1765535400-1765542600@adhdandautism.org
SUMMARY:Drop-In Support Group (CAAS) (Wednesdays and Fridays)
DESCRIPTION:The support sessions are a great introduction to our services where you can meet the Family Support Team\, find out about the help we can provide for you and your family\, as well as be able to connect with other parents/carers in a similar situation. Now open to residents of North-West London. \n 
URL:https://adhdandautism.org/event/daytime-drop-in/2025-12-12/
CATEGORIES:Parent / Carer
ORGANIZER;CN="CAAS Enquiries":MAILTO:enquiries@adhdandautism.org
END:VEVENT
BEGIN:VEVENT
DTSTART;TZID=Europe/London:20251210T103000
DTEND;TZID=Europe/London:20251210T123000
DTSTAMP:20260420T132124
CREATED:20240909T181559Z
LAST-MODIFIED:20260223T145417Z
UID:10016698-1765362600-1765369800@adhdandautism.org
SUMMARY:Drop-In Support Group (CAAS) (Wednesdays and Fridays)
DESCRIPTION:The support sessions are a great introduction to our services where you can meet the Family Support Team\, find out about the help we can provide for you and your family\, as well as be able to connect with other parents/carers in a similar situation. Now open to residents of North-West London. \n 
URL:https://adhdandautism.org/event/daytime-drop-in/2025-12-10/
CATEGORIES:Parent / Carer
ORGANIZER;CN="CAAS Enquiries":MAILTO:enquiries@adhdandautism.org
END:VEVENT
BEGIN:VEVENT
DTSTART;TZID=Europe/London:20251210T103000
DTEND;TZID=Europe/London:20251210T120000
DTSTAMP:20260420T132124
CREATED:20250912T090042Z
LAST-MODIFIED:20251025T091438Z
UID:10020358-1765362600-1765368000@adhdandautism.org
SUMMARY:Drop-In Support Group (Bay20) (Wednesdays)
DESCRIPTION:The support sessions are a great introduction to our services: you can meet someone from both the Family Support and Youth Teams and find out about the help we can provide for you and your family\, as well as connect with other parents/carers in a similar situation. \n 
URL:https://adhdandautism.org/event/drop-in-support-group-bay20-wednesdays-2/2025-12-10/
LOCATION:Bay 20 Community Centre\, 71 St Marks Road\, London\, W10 6JG\, United Kingdom
CATEGORIES:Parent / Carer
ORGANIZER;CN="CAAS Enquiries":MAILTO:enquiries@adhdandautism.org
END:VEVENT
BEGIN:VEVENT
DTSTART;TZID=Europe/London:20251209T120000
DTEND;TZID=Europe/London:20251209T133000
DTSTAMP:20260420T132124
CREATED:20251014T143509Z
LAST-MODIFIED:20251216T133638Z
UID:10021793-1765281600-1765287000@adhdandautism.org
SUMMARY:Online Parents Drop-In (Tuesdays)
DESCRIPTION:Our online drop-in support groups are a wonderful opportunity to talk to our family support team\, who are here to offer guidance and support. Connect with other parents to share stories\, offer advice\, and build a supportive community. You are welcome whether your child is formally diagnosed\, on the pathway\, or if you suspect your child might need an assessment and want to know the next steps. \nFor residents of North-West London. \nRegister for Mondays: https://us06web.zoom.us/meeting/register/tZclcO-srDwrH9E6NF02XmLxHa3ueNh6Bbc5
URL:https://adhdandautism.org/event/online-parents-drop-in-tuesdays-2/2025-12-09/
LOCATION:Online
CATEGORIES:Parent / Carer
ORGANIZER;CN="CAAS Enquiries":MAILTO:enquiries@adhdandautism.org
END:VEVENT
BEGIN:VEVENT
DTSTART;TZID=Europe/London:20251208T103000
DTEND;TZID=Europe/London:20251208T120000
DTSTAMP:20260420T132124
CREATED:20250912T090755Z
LAST-MODIFIED:20251025T091208Z
UID:10021145-1765189800-1765195200@adhdandautism.org
SUMMARY:Drop-In Support Group (WEST Youth Zone) (Mondays)
DESCRIPTION:The support sessions are a great introduction to our services: you can meet someone from both the Family Support and Youth Teams and find out about the help we can provide for you and your family\, as well as connect with other parents/carers in a similar situation. \n 
URL:https://adhdandautism.org/event/drop-in-west-youth-zone/2025-12-08/
LOCATION:WEST Youth Zone\, 2 EdCity Walk\, London\, W12 7TF\, United Kingdom
CATEGORIES:Parent / Carer
ORGANIZER;CN="CAAS Enquiries":MAILTO:enquiries@adhdandautism.org
END:VEVENT
BEGIN:VEVENT
DTSTART;TZID=Europe/London:20251205T103000
DTEND;TZID=Europe/London:20251205T123000
DTSTAMP:20260420T132124
CREATED:20240909T181559Z
LAST-MODIFIED:20260223T145417Z
UID:10016697-1764930600-1764937800@adhdandautism.org
SUMMARY:Drop-In Support Group (CAAS) (Wednesdays and Fridays)
DESCRIPTION:The support sessions are a great introduction to our services where you can meet the Family Support Team\, find out about the help we can provide for you and your family\, as well as be able to connect with other parents/carers in a similar situation. Now open to residents of North-West London. \n 
URL:https://adhdandautism.org/event/daytime-drop-in/2025-12-05/
CATEGORIES:Parent / Carer
ORGANIZER;CN="CAAS Enquiries":MAILTO:enquiries@adhdandautism.org
END:VEVENT
BEGIN:VEVENT
DTSTART;TZID=Europe/London:20251203T103000
DTEND;TZID=Europe/London:20251203T123000
DTSTAMP:20260420T132124
CREATED:20240909T181559Z
LAST-MODIFIED:20260223T145417Z
UID:10016696-1764757800-1764765000@adhdandautism.org
SUMMARY:Drop-In Support Group (CAAS) (Wednesdays and Fridays)
DESCRIPTION:The support sessions are a great introduction to our services where you can meet the Family Support Team\, find out about the help we can provide for you and your family\, as well as be able to connect with other parents/carers in a similar situation. Now open to residents of North-West London. \n 
URL:https://adhdandautism.org/event/daytime-drop-in/2025-12-03/
CATEGORIES:Parent / Carer
ORGANIZER;CN="CAAS Enquiries":MAILTO:enquiries@adhdandautism.org
END:VEVENT
BEGIN:VEVENT
DTSTART;TZID=Europe/London:20251203T103000
DTEND;TZID=Europe/London:20251203T120000
DTSTAMP:20260420T132124
CREATED:20250912T090042Z
LAST-MODIFIED:20251025T091438Z
UID:10020356-1764757800-1764763200@adhdandautism.org
SUMMARY:Drop-In Support Group (Bay20) (Wednesdays)
DESCRIPTION:The support sessions are a great introduction to our services: you can meet someone from both the Family Support and Youth Teams and find out about the help we can provide for you and your family\, as well as connect with other parents/carers in a similar situation. \n 
URL:https://adhdandautism.org/event/drop-in-support-group-bay20-wednesdays-2/2025-12-03/
LOCATION:Bay 20 Community Centre\, 71 St Marks Road\, London\, W10 6JG\, United Kingdom
CATEGORIES:Parent / Carer
ORGANIZER;CN="CAAS Enquiries":MAILTO:enquiries@adhdandautism.org
END:VEVENT
BEGIN:VEVENT
DTSTART;TZID=Europe/London:20251201T103000
DTEND;TZID=Europe/London:20251201T120000
DTSTAMP:20260420T132124
CREATED:20250912T090755Z
LAST-MODIFIED:20251025T091208Z
UID:10021144-1764585000-1764590400@adhdandautism.org
SUMMARY:Drop-In Support Group (WEST Youth Zone) (Mondays)
DESCRIPTION:The support sessions are a great introduction to our services: you can meet someone from both the Family Support and Youth Teams and find out about the help we can provide for you and your family\, as well as connect with other parents/carers in a similar situation. \n 
URL:https://adhdandautism.org/event/drop-in-west-youth-zone/2025-12-01/
LOCATION:WEST Youth Zone\, 2 EdCity Walk\, London\, W12 7TF\, United Kingdom
CATEGORIES:Parent / Carer
ORGANIZER;CN="CAAS Enquiries":MAILTO:enquiries@adhdandautism.org
END:VEVENT
BEGIN:VEVENT
DTSTART;TZID=Europe/London:20251128T103000
DTEND;TZID=Europe/London:20251128T123000
DTSTAMP:20260420T132124
CREATED:20240909T181559Z
LAST-MODIFIED:20260223T145417Z
UID:10016695-1764325800-1764333000@adhdandautism.org
SUMMARY:Drop-In Support Group (CAAS) (Wednesdays and Fridays)
DESCRIPTION:The support sessions are a great introduction to our services where you can meet the Family Support Team\, find out about the help we can provide for you and your family\, as well as be able to connect with other parents/carers in a similar situation. Now open to residents of North-West London. \n 
URL:https://adhdandautism.org/event/daytime-drop-in/2025-11-28/
CATEGORIES:Parent / Carer
ORGANIZER;CN="CAAS Enquiries":MAILTO:enquiries@adhdandautism.org
END:VEVENT
BEGIN:VEVENT
DTSTART;TZID=Europe/London:20251126T190000
DTEND;TZID=Europe/London:20251126T203000
DTSTAMP:20260420T132124
CREATED:20241007T171833Z
LAST-MODIFIED:20251025T091955Z
UID:10017909-1764183600-1764189000@adhdandautism.org
SUMMARY:Online Parents Drop-In (4th Wednesday)
DESCRIPTION:Our online drop-in support groups are a wonderful opportunity to talk to our family support team\, who are here to offer guidance and support. Connect with other parents to share stories\, offer advice\, and build a supportive community. You are welcome whether your child is formally diagnosed\, on the pathway\, or if you suspect your child might need an assessment and want to know the next steps. \nFor residents of North-West London. \nRegister for Wednesdays: https://us06web.zoom.us/meeting/register/tZYud-yvrDoiHt2lokyjUwWnT2oKXBA1FGmm
URL:https://adhdandautism.org/event/online-parents-drop-in-wednesdays-2/2025-11-26/
LOCATION:Online
CATEGORIES:Parent / Carer
ORGANIZER;CN="CAAS Enquiries":MAILTO:enquiries@adhdandautism.org
END:VEVENT
BEGIN:VEVENT
DTSTART;TZID=Europe/London:20251126T103000
DTEND;TZID=Europe/London:20251126T123000
DTSTAMP:20260420T132124
CREATED:20240909T181559Z
LAST-MODIFIED:20260223T145417Z
UID:10016694-1764153000-1764160200@adhdandautism.org
SUMMARY:Drop-In Support Group (CAAS) (Wednesdays and Fridays)
DESCRIPTION:The support sessions are a great introduction to our services where you can meet the Family Support Team\, find out about the help we can provide for you and your family\, as well as be able to connect with other parents/carers in a similar situation. Now open to residents of North-West London. \n 
URL:https://adhdandautism.org/event/daytime-drop-in/2025-11-26/
CATEGORIES:Parent / Carer
ORGANIZER;CN="CAAS Enquiries":MAILTO:enquiries@adhdandautism.org
END:VEVENT
BEGIN:VEVENT
DTSTART;TZID=Europe/London:20251126T103000
DTEND;TZID=Europe/London:20251126T120000
DTSTAMP:20260420T132124
CREATED:20250912T090042Z
LAST-MODIFIED:20251025T091438Z
UID:10020354-1764153000-1764158400@adhdandautism.org
SUMMARY:Drop-In Support Group (Bay20) (Wednesdays)
DESCRIPTION:The support sessions are a great introduction to our services: you can meet someone from both the Family Support and Youth Teams and find out about the help we can provide for you and your family\, as well as connect with other parents/carers in a similar situation. \n 
URL:https://adhdandautism.org/event/drop-in-support-group-bay20-wednesdays-2/2025-11-26/
LOCATION:Bay 20 Community Centre\, 71 St Marks Road\, London\, W10 6JG\, United Kingdom
CATEGORIES:Parent / Carer
ORGANIZER;CN="CAAS Enquiries":MAILTO:enquiries@adhdandautism.org
END:VEVENT
BEGIN:VEVENT
DTSTART;TZID=Europe/London:20251125T120000
DTEND;TZID=Europe/London:20251125T133000
DTSTAMP:20260420T132124
CREATED:20251014T143509Z
LAST-MODIFIED:20251216T133638Z
UID:10021792-1764072000-1764077400@adhdandautism.org
SUMMARY:Online Parents Drop-In (Tuesdays)
DESCRIPTION:Our online drop-in support groups are a wonderful opportunity to talk to our family support team\, who are here to offer guidance and support. Connect with other parents to share stories\, offer advice\, and build a supportive community. You are welcome whether your child is formally diagnosed\, on the pathway\, or if you suspect your child might need an assessment and want to know the next steps. \nFor residents of North-West London. \nRegister for Mondays: https://us06web.zoom.us/meeting/register/tZclcO-srDwrH9E6NF02XmLxHa3ueNh6Bbc5
URL:https://adhdandautism.org/event/online-parents-drop-in-tuesdays-2/2025-11-25/
LOCATION:Online
CATEGORIES:Parent / Carer
ORGANIZER;CN="CAAS Enquiries":MAILTO:enquiries@adhdandautism.org
END:VEVENT
BEGIN:VEVENT
DTSTART;TZID=Europe/London:20251124T123000
DTEND;TZID=Europe/London:20251124T144500
DTSTAMP:20260420T132124
CREATED:20250104T150733Z
LAST-MODIFIED:20260223T151048Z
UID:10021470-1763987400-1763995500@adhdandautism.org
SUMMARY:DLA Workshop (Monthly)
DESCRIPTION:This monthly workshop will help parents understand the process of completing a DLA form and will go through the form question by question giving examples of the kind of information required. \nAvailable to residents of North-West London.
URL:https://adhdandautism.org/event/dla-workshop-monthly/2025-11-24/
LOCATION:Centre for ADHD & Autism Support\, Television House 269 Field End Road\, Eastcote\, Middlesex\, HA4 9XA\, UK
CATEGORIES:Parent / Carer
ORGANIZER;CN="CAAS Enquiries":MAILTO:enquiries@adhdandautism.org
END:VEVENT
BEGIN:VEVENT
DTSTART;TZID=Europe/London:20251124T103000
DTEND;TZID=Europe/London:20251124T120000
DTSTAMP:20260420T132124
CREATED:20250912T090755Z
LAST-MODIFIED:20251025T091208Z
UID:10021143-1763980200-1763985600@adhdandautism.org
SUMMARY:Drop-In Support Group (WEST Youth Zone) (Mondays)
DESCRIPTION:The support sessions are a great introduction to our services: you can meet someone from both the Family Support and Youth Teams and find out about the help we can provide for you and your family\, as well as connect with other parents/carers in a similar situation. \n 
URL:https://adhdandautism.org/event/drop-in-west-youth-zone/2025-11-24/
LOCATION:WEST Youth Zone\, 2 EdCity Walk\, London\, W12 7TF\, United Kingdom
CATEGORIES:Parent / Carer
ORGANIZER;CN="CAAS Enquiries":MAILTO:enquiries@adhdandautism.org
END:VEVENT
BEGIN:VEVENT
DTSTART;TZID=Europe/London:20251121T103000
DTEND;TZID=Europe/London:20251121T123000
DTSTAMP:20260420T132124
CREATED:20240909T181559Z
LAST-MODIFIED:20260223T145417Z
UID:10016693-1763721000-1763728200@adhdandautism.org
SUMMARY:Drop-In Support Group (CAAS) (Wednesdays and Fridays)
DESCRIPTION:The support sessions are a great introduction to our services where you can meet the Family Support Team\, find out about the help we can provide for you and your family\, as well as be able to connect with other parents/carers in a similar situation. Now open to residents of North-West London. \n 
URL:https://adhdandautism.org/event/daytime-drop-in/2025-11-21/
CATEGORIES:Parent / Carer
ORGANIZER;CN="CAAS Enquiries":MAILTO:enquiries@adhdandautism.org
END:VEVENT
BEGIN:VEVENT
DTSTART;TZID=Europe/London:20251119T103000
DTEND;TZID=Europe/London:20251119T123000
DTSTAMP:20260420T132124
CREATED:20240909T181559Z
LAST-MODIFIED:20260223T145417Z
UID:10016692-1763548200-1763555400@adhdandautism.org
SUMMARY:Drop-In Support Group (CAAS) (Wednesdays and Fridays)
DESCRIPTION:The support sessions are a great introduction to our services where you can meet the Family Support Team\, find out about the help we can provide for you and your family\, as well as be able to connect with other parents/carers in a similar situation. Now open to residents of North-West London. \n 
URL:https://adhdandautism.org/event/daytime-drop-in/2025-11-19/
CATEGORIES:Parent / Carer
ORGANIZER;CN="CAAS Enquiries":MAILTO:enquiries@adhdandautism.org
END:VEVENT
BEGIN:VEVENT
DTSTART;TZID=Europe/London:20251119T103000
DTEND;TZID=Europe/London:20251119T120000
DTSTAMP:20260420T132124
CREATED:20250912T090042Z
LAST-MODIFIED:20251025T091438Z
UID:10020352-1763548200-1763553600@adhdandautism.org
SUMMARY:Drop-In Support Group (Bay20) (Wednesdays)
DESCRIPTION:The support sessions are a great introduction to our services: you can meet someone from both the Family Support and Youth Teams and find out about the help we can provide for you and your family\, as well as connect with other parents/carers in a similar situation. \n 
URL:https://adhdandautism.org/event/drop-in-support-group-bay20-wednesdays-2/2025-11-19/
LOCATION:Bay 20 Community Centre\, 71 St Marks Road\, London\, W10 6JG\, United Kingdom
CATEGORIES:Parent / Carer
ORGANIZER;CN="CAAS Enquiries":MAILTO:enquiries@adhdandautism.org
END:VEVENT
BEGIN:VEVENT
DTSTART;TZID=Europe/London:20251117T190000
DTEND;TZID=Europe/London:20251117T210000
DTSTAMP:20260420T132124
CREATED:20240519T143946Z
LAST-MODIFIED:20241003T144314Z
UID:10011146-1763406000-1763413200@adhdandautism.org
SUMMARY:Evening Drop In Support Group (3rd Monday)
DESCRIPTION:Now open to residents of North-West London. \nThe support sessions are a great introduction to our services where you can meet the Family Support Team\, find out about the help we can provide for you and your family\, as well as be able to connect with other parents/carers in a similar situation.
URL:https://adhdandautism.org/event/parent-carer-evening-drop-in/2025-11-17/
LOCATION:Centre for ADHD & Autism Support\, Television House 269 Field End Road\, Eastcote\, Middlesex\, HA4 9XA\, UK
CATEGORIES:Parent / Carer
ORGANIZER;CN="CAAS Enquiries":MAILTO:enquiries@adhdandautism.org
END:VEVENT
BEGIN:VEVENT
DTSTART;TZID=Europe/London:20251117T103000
DTEND;TZID=Europe/London:20251117T120000
DTSTAMP:20260420T132124
CREATED:20250912T090755Z
LAST-MODIFIED:20251025T091208Z
UID:10021142-1763375400-1763380800@adhdandautism.org
SUMMARY:Drop-In Support Group (WEST Youth Zone) (Mondays)
DESCRIPTION:The support sessions are a great introduction to our services: you can meet someone from both the Family Support and Youth Teams and find out about the help we can provide for you and your family\, as well as connect with other parents/carers in a similar situation. \n 
URL:https://adhdandautism.org/event/drop-in-west-youth-zone/2025-11-17/
LOCATION:WEST Youth Zone\, 2 EdCity Walk\, London\, W12 7TF\, United Kingdom
CATEGORIES:Parent / Carer
ORGANIZER;CN="CAAS Enquiries":MAILTO:enquiries@adhdandautism.org
END:VEVENT
BEGIN:VEVENT
DTSTART;TZID=Europe/London:20251114T103000
DTEND;TZID=Europe/London:20251114T123000
DTSTAMP:20260420T132124
CREATED:20240909T181559Z
LAST-MODIFIED:20260223T145417Z
UID:10016691-1763116200-1763123400@adhdandautism.org
SUMMARY:Drop-In Support Group (CAAS) (Wednesdays and Fridays)
DESCRIPTION:The support sessions are a great introduction to our services where you can meet the Family Support Team\, find out about the help we can provide for you and your family\, as well as be able to connect with other parents/carers in a similar situation. Now open to residents of North-West London. \n 
URL:https://adhdandautism.org/event/daytime-drop-in/2025-11-14/
CATEGORIES:Parent / Carer
ORGANIZER;CN="CAAS Enquiries":MAILTO:enquiries@adhdandautism.org
END:VEVENT
BEGIN:VEVENT
DTSTART;TZID=Europe/London:20251112T103000
DTEND;TZID=Europe/London:20251112T123000
DTSTAMP:20260420T132124
CREATED:20240909T181559Z
LAST-MODIFIED:20260223T145417Z
UID:10016690-1762943400-1762950600@adhdandautism.org
SUMMARY:Drop-In Support Group (CAAS) (Wednesdays and Fridays)
DESCRIPTION:The support sessions are a great introduction to our services where you can meet the Family Support Team\, find out about the help we can provide for you and your family\, as well as be able to connect with other parents/carers in a similar situation. Now open to residents of North-West London. \n 
URL:https://adhdandautism.org/event/daytime-drop-in/2025-11-12/
CATEGORIES:Parent / Carer
ORGANIZER;CN="CAAS Enquiries":MAILTO:enquiries@adhdandautism.org
END:VEVENT
BEGIN:VEVENT
DTSTART;TZID=Europe/London:20251112T103000
DTEND;TZID=Europe/London:20251112T120000
DTSTAMP:20260420T132124
CREATED:20250912T090042Z
LAST-MODIFIED:20251025T091438Z
UID:10020350-1762943400-1762948800@adhdandautism.org
SUMMARY:Drop-In Support Group (Bay20) (Wednesdays)
DESCRIPTION:The support sessions are a great introduction to our services: you can meet someone from both the Family Support and Youth Teams and find out about the help we can provide for you and your family\, as well as connect with other parents/carers in a similar situation. \n 
URL:https://adhdandautism.org/event/drop-in-support-group-bay20-wednesdays-2/2025-11-12/
LOCATION:Bay 20 Community Centre\, 71 St Marks Road\, London\, W10 6JG\, United Kingdom
CATEGORIES:Parent / Carer
ORGANIZER;CN="CAAS Enquiries":MAILTO:enquiries@adhdandautism.org
END:VEVENT
BEGIN:VEVENT
DTSTART;TZID=Europe/London:20251111T120000
DTEND;TZID=Europe/London:20251111T133000
DTSTAMP:20260420T132124
CREATED:20251014T143509Z
LAST-MODIFIED:20251216T133638Z
UID:10021791-1762862400-1762867800@adhdandautism.org
SUMMARY:Online Parents Drop-In (Tuesdays)
DESCRIPTION:Our online drop-in support groups are a wonderful opportunity to talk to our family support team\, who are here to offer guidance and support. Connect with other parents to share stories\, offer advice\, and build a supportive community. You are welcome whether your child is formally diagnosed\, on the pathway\, or if you suspect your child might need an assessment and want to know the next steps. \nFor residents of North-West London. \nRegister for Mondays: https://us06web.zoom.us/meeting/register/tZclcO-srDwrH9E6NF02XmLxHa3ueNh6Bbc5
URL:https://adhdandautism.org/event/online-parents-drop-in-tuesdays-2/2025-11-11/
LOCATION:Online
CATEGORIES:Parent / Carer
ORGANIZER;CN="CAAS Enquiries":MAILTO:enquiries@adhdandautism.org
END:VEVENT
BEGIN:VEVENT
DTSTART;TZID=Europe/London:20251110T103000
DTEND;TZID=Europe/London:20251110T120000
DTSTAMP:20260420T132124
CREATED:20250912T090755Z
LAST-MODIFIED:20251025T091208Z
UID:10021141-1762770600-1762776000@adhdandautism.org
SUMMARY:Drop-In Support Group (WEST Youth Zone) (Mondays)
DESCRIPTION:The support sessions are a great introduction to our services: you can meet someone from both the Family Support and Youth Teams and find out about the help we can provide for you and your family\, as well as connect with other parents/carers in a similar situation. \n 
URL:https://adhdandautism.org/event/drop-in-west-youth-zone/2025-11-10/
LOCATION:WEST Youth Zone\, 2 EdCity Walk\, London\, W12 7TF\, United Kingdom
CATEGORIES:Parent / Carer
ORGANIZER;CN="CAAS Enquiries":MAILTO:enquiries@adhdandautism.org
END:VEVENT
BEGIN:VEVENT
DTSTART;TZID=Europe/London:20251107T103000
DTEND;TZID=Europe/London:20251107T123000
DTSTAMP:20260420T132124
CREATED:20240909T181559Z
LAST-MODIFIED:20260223T145417Z
UID:10016689-1762511400-1762518600@adhdandautism.org
SUMMARY:Drop-In Support Group (CAAS) (Wednesdays and Fridays)
DESCRIPTION:The support sessions are a great introduction to our services where you can meet the Family Support Team\, find out about the help we can provide for you and your family\, as well as be able to connect with other parents/carers in a similar situation. Now open to residents of North-West London. \n 
URL:https://adhdandautism.org/event/daytime-drop-in/2025-11-07/
CATEGORIES:Parent / Carer
ORGANIZER;CN="CAAS Enquiries":MAILTO:enquiries@adhdandautism.org
END:VEVENT
BEGIN:VEVENT
DTSTART;TZID=Europe/London:20251105T103000
DTEND;TZID=Europe/London:20251105T123000
DTSTAMP:20260420T132124
CREATED:20240909T181559Z
LAST-MODIFIED:20260223T145417Z
UID:10016688-1762338600-1762345800@adhdandautism.org
SUMMARY:Drop-In Support Group (CAAS) (Wednesdays and Fridays)
DESCRIPTION:The support sessions are a great introduction to our services where you can meet the Family Support Team\, find out about the help we can provide for you and your family\, as well as be able to connect with other parents/carers in a similar situation. Now open to residents of North-West London. \n 
URL:https://adhdandautism.org/event/daytime-drop-in/2025-11-05/
CATEGORIES:Parent / Carer
ORGANIZER;CN="CAAS Enquiries":MAILTO:enquiries@adhdandautism.org
END:VEVENT
BEGIN:VEVENT
DTSTART;TZID=Europe/London:20251105T103000
DTEND;TZID=Europe/London:20251105T120000
DTSTAMP:20260420T132124
CREATED:20250912T090042Z
LAST-MODIFIED:20251025T091438Z
UID:10020348-1762338600-1762344000@adhdandautism.org
SUMMARY:Drop-In Support Group (Bay20) (Wednesdays)
DESCRIPTION:The support sessions are a great introduction to our services: you can meet someone from both the Family Support and Youth Teams and find out about the help we can provide for you and your family\, as well as connect with other parents/carers in a similar situation. \n 
URL:https://adhdandautism.org/event/drop-in-support-group-bay20-wednesdays-2/2025-11-05/
LOCATION:Bay 20 Community Centre\, 71 St Marks Road\, London\, W10 6JG\, United Kingdom
CATEGORIES:Parent / Carer
ORGANIZER;CN="CAAS Enquiries":MAILTO:enquiries@adhdandautism.org
END:VEVENT
BEGIN:VEVENT
DTSTART;TZID=Europe/London:20251103T103000
DTEND;TZID=Europe/London:20251103T120000
DTSTAMP:20260420T132124
CREATED:20250912T090755Z
LAST-MODIFIED:20251025T091208Z
UID:10021140-1762165800-1762171200@adhdandautism.org
SUMMARY:Drop-In Support Group (WEST Youth Zone) (Mondays)
DESCRIPTION:The support sessions are a great introduction to our services: you can meet someone from both the Family Support and Youth Teams and find out about the help we can provide for you and your family\, as well as connect with other parents/carers in a similar situation. \n 
URL:https://adhdandautism.org/event/drop-in-west-youth-zone/2025-11-03/
LOCATION:WEST Youth Zone\, 2 EdCity Walk\, London\, W12 7TF\, United Kingdom
CATEGORIES:Parent / Carer
ORGANIZER;CN="CAAS Enquiries":MAILTO:enquiries@adhdandautism.org
END:VEVENT
END:VCALENDAR