BEGIN:VCALENDAR
VERSION:2.0
PRODID:-//Centre for ADHD and Autism Support - ECPv6.15.20//NONSGML v1.0//EN
CALSCALE:GREGORIAN
METHOD:PUBLISH
X-ORIGINAL-URL:https://adhdandautism.org
X-WR-CALDESC:Events for Centre for ADHD and Autism Support
REFRESH-INTERVAL;VALUE=DURATION:PT1H
X-Robots-Tag:noindex
X-PUBLISHED-TTL:PT1H
BEGIN:VTIMEZONE
TZID:Europe/London
BEGIN:DAYLIGHT
TZOFFSETFROM:+0000
TZOFFSETTO:+0100
TZNAME:BST
DTSTART:20250330T010000
END:DAYLIGHT
BEGIN:STANDARD
TZOFFSETFROM:+0100
TZOFFSETTO:+0000
TZNAME:GMT
DTSTART:20251026T010000
END:STANDARD
BEGIN:DAYLIGHT
TZOFFSETFROM:+0000
TZOFFSETTO:+0100
TZNAME:BST
DTSTART:20260329T010000
END:DAYLIGHT
BEGIN:STANDARD
TZOFFSETFROM:+0100
TZOFFSETTO:+0000
TZNAME:GMT
DTSTART:20261025T010000
END:STANDARD
BEGIN:DAYLIGHT
TZOFFSETFROM:+0000
TZOFFSETTO:+0100
TZNAME:BST
DTSTART:20270328T010000
END:DAYLIGHT
BEGIN:STANDARD
TZOFFSETFROM:+0100
TZOFFSETTO:+0000
TZNAME:GMT
DTSTART:20271031T010000
END:STANDARD
END:VTIMEZONE
BEGIN:VEVENT
DTSTART;TZID=Europe/London:20260323T123000
DTEND;TZID=Europe/London:20260323T144500
DTSTAMP:20260419T230047
CREATED:20250104T150733Z
LAST-MODIFIED:20260223T151048Z
UID:10022244-1774269000-1774277100@adhdandautism.org
SUMMARY:DLA Workshop (Monthly)
DESCRIPTION:This monthly workshop will help parents understand the process of completing a DLA form and will go through the form question by question giving examples of the kind of information required. \nAvailable to residents of North-West London.
URL:https://adhdandautism.org/event/dla-workshop-monthly/2026-03-23/
LOCATION:Centre for ADHD & Autism Support\, Television House 269 Field End Road\, Eastcote\, Middlesex\, HA4 9XA\, UK
CATEGORIES:Parent / Carer
ORGANIZER;CN="CAAS Enquiries":MAILTO:enquiries@adhdandautism.org
END:VEVENT
BEGIN:VEVENT
DTSTART;TZID=Europe/London:20260323T103000
DTEND;TZID=Europe/London:20260323T120000
DTSTAMP:20260419T230047
CREATED:20250912T090755Z
LAST-MODIFIED:20251025T091208Z
UID:10021160-1774261800-1774267200@adhdandautism.org
SUMMARY:Drop-In Support Group (WEST Youth Zone) (Mondays)
DESCRIPTION:The support sessions are a great introduction to our services: you can meet someone from both the Family Support and Youth Teams and find out about the help we can provide for you and your family\, as well as connect with other parents/carers in a similar situation. \n 
URL:https://adhdandautism.org/event/drop-in-west-youth-zone/2026-03-23/
LOCATION:WEST Youth Zone\, 2 EdCity Walk\, London\, W12 7TF\, United Kingdom
CATEGORIES:Parent / Carer
ORGANIZER;CN="CAAS Enquiries":MAILTO:enquiries@adhdandautism.org
END:VEVENT
BEGIN:VEVENT
DTSTART;TZID=Europe/London:20260320T103000
DTEND;TZID=Europe/London:20260320T123000
DTSTAMP:20260419T230047
CREATED:20240909T181559Z
LAST-MODIFIED:20260223T145417Z
UID:10016727-1774002600-1774009800@adhdandautism.org
SUMMARY:Drop-In Support Group (CAAS) (Wednesdays and Fridays)
DESCRIPTION:The support sessions are a great introduction to our services where you can meet the Family Support Team\, find out about the help we can provide for you and your family\, as well as be able to connect with other parents/carers in a similar situation. Now open to residents of North-West London. \n 
URL:https://adhdandautism.org/event/daytime-drop-in/2026-03-20/
CATEGORIES:Parent / Carer
ORGANIZER;CN="CAAS Enquiries":MAILTO:enquiries@adhdandautism.org
END:VEVENT
BEGIN:VEVENT
DTSTART;TZID=Europe/London:20260318T103000
DTEND;TZID=Europe/London:20260318T123000
DTSTAMP:20260419T230047
CREATED:20240909T181559Z
LAST-MODIFIED:20260223T145417Z
UID:10016726-1773829800-1773837000@adhdandautism.org
SUMMARY:Drop-In Support Group (CAAS) (Wednesdays and Fridays)
DESCRIPTION:The support sessions are a great introduction to our services where you can meet the Family Support Team\, find out about the help we can provide for you and your family\, as well as be able to connect with other parents/carers in a similar situation. Now open to residents of North-West London. \n 
URL:https://adhdandautism.org/event/daytime-drop-in/2026-03-18/
CATEGORIES:Parent / Carer
ORGANIZER;CN="CAAS Enquiries":MAILTO:enquiries@adhdandautism.org
END:VEVENT
BEGIN:VEVENT
DTSTART;TZID=Europe/London:20260318T103000
DTEND;TZID=Europe/London:20260318T120000
DTSTAMP:20260419T230047
CREATED:20250912T090042Z
LAST-MODIFIED:20251025T091438Z
UID:10020386-1773829800-1773835200@adhdandautism.org
SUMMARY:Drop-In Support Group (Bay20) (Wednesdays)
DESCRIPTION:The support sessions are a great introduction to our services: you can meet someone from both the Family Support and Youth Teams and find out about the help we can provide for you and your family\, as well as connect with other parents/carers in a similar situation. \n 
URL:https://adhdandautism.org/event/drop-in-support-group-bay20-wednesdays-2/2026-03-18/
LOCATION:Bay 20 Community Centre\, 71 St Marks Road\, London\, W10 6JG\, United Kingdom
CATEGORIES:Parent / Carer
ORGANIZER;CN="CAAS Enquiries":MAILTO:enquiries@adhdandautism.org
END:VEVENT
BEGIN:VEVENT
DTSTART;TZID=Europe/London:20260317T120000
DTEND;TZID=Europe/London:20260317T133000
DTSTAMP:20260419T230047
CREATED:20251014T143509Z
LAST-MODIFIED:20251216T133638Z
UID:10021800-1773748800-1773754200@adhdandautism.org
SUMMARY:Online Parents Drop-In (Tuesdays)
DESCRIPTION:Our online drop-in support groups are a wonderful opportunity to talk to our family support team\, who are here to offer guidance and support. Connect with other parents to share stories\, offer advice\, and build a supportive community. You are welcome whether your child is formally diagnosed\, on the pathway\, or if you suspect your child might need an assessment and want to know the next steps. \nFor residents of North-West London. \nRegister for Mondays: https://us06web.zoom.us/meeting/register/tZclcO-srDwrH9E6NF02XmLxHa3ueNh6Bbc5
URL:https://adhdandautism.org/event/online-parents-drop-in-tuesdays-2/2026-03-17/
LOCATION:Online
CATEGORIES:Parent / Carer
ORGANIZER;CN="CAAS Enquiries":MAILTO:enquiries@adhdandautism.org
END:VEVENT
BEGIN:VEVENT
DTSTART;TZID=Europe/London:20260316T190000
DTEND;TZID=Europe/London:20260316T210000
DTSTAMP:20260419T230047
CREATED:20240519T143946Z
LAST-MODIFIED:20241003T144314Z
UID:10011150-1773687600-1773694800@adhdandautism.org
SUMMARY:Evening Drop In Support Group (3rd Monday)
DESCRIPTION:Now open to residents of North-West London. \nThe support sessions are a great introduction to our services where you can meet the Family Support Team\, find out about the help we can provide for you and your family\, as well as be able to connect with other parents/carers in a similar situation.
URL:https://adhdandautism.org/event/parent-carer-evening-drop-in/2026-03-16/
LOCATION:Centre for ADHD & Autism Support\, Television House 269 Field End Road\, Eastcote\, Middlesex\, HA4 9XA\, UK
CATEGORIES:Parent / Carer
ORGANIZER;CN="CAAS Enquiries":MAILTO:enquiries@adhdandautism.org
END:VEVENT
BEGIN:VEVENT
DTSTART;TZID=Europe/London:20260316T103000
DTEND;TZID=Europe/London:20260316T120000
DTSTAMP:20260419T230047
CREATED:20250912T090755Z
LAST-MODIFIED:20251025T091208Z
UID:10021159-1773657000-1773662400@adhdandautism.org
SUMMARY:Drop-In Support Group (WEST Youth Zone) (Mondays)
DESCRIPTION:The support sessions are a great introduction to our services: you can meet someone from both the Family Support and Youth Teams and find out about the help we can provide for you and your family\, as well as connect with other parents/carers in a similar situation. \n 
URL:https://adhdandautism.org/event/drop-in-west-youth-zone/2026-03-16/
LOCATION:WEST Youth Zone\, 2 EdCity Walk\, London\, W12 7TF\, United Kingdom
CATEGORIES:Parent / Carer
ORGANIZER;CN="CAAS Enquiries":MAILTO:enquiries@adhdandautism.org
END:VEVENT
BEGIN:VEVENT
DTSTART;TZID=Europe/London:20260313T103000
DTEND;TZID=Europe/London:20260313T123000
DTSTAMP:20260419T230047
CREATED:20240909T181559Z
LAST-MODIFIED:20260223T145417Z
UID:10016725-1773397800-1773405000@adhdandautism.org
SUMMARY:Drop-In Support Group (CAAS) (Wednesdays and Fridays)
DESCRIPTION:The support sessions are a great introduction to our services where you can meet the Family Support Team\, find out about the help we can provide for you and your family\, as well as be able to connect with other parents/carers in a similar situation. Now open to residents of North-West London. \n 
URL:https://adhdandautism.org/event/daytime-drop-in/2026-03-13/
CATEGORIES:Parent / Carer
ORGANIZER;CN="CAAS Enquiries":MAILTO:enquiries@adhdandautism.org
END:VEVENT
BEGIN:VEVENT
DTSTART;TZID=Europe/London:20260311T103000
DTEND;TZID=Europe/London:20260311T123000
DTSTAMP:20260419T230047
CREATED:20240909T181559Z
LAST-MODIFIED:20260223T145417Z
UID:10016724-1773225000-1773232200@adhdandautism.org
SUMMARY:Drop-In Support Group (CAAS) (Wednesdays and Fridays)
DESCRIPTION:The support sessions are a great introduction to our services where you can meet the Family Support Team\, find out about the help we can provide for you and your family\, as well as be able to connect with other parents/carers in a similar situation. Now open to residents of North-West London. \n 
URL:https://adhdandautism.org/event/daytime-drop-in/2026-03-11/
CATEGORIES:Parent / Carer
ORGANIZER;CN="CAAS Enquiries":MAILTO:enquiries@adhdandautism.org
END:VEVENT
BEGIN:VEVENT
DTSTART;TZID=Europe/London:20260311T103000
DTEND;TZID=Europe/London:20260311T120000
DTSTAMP:20260419T230047
CREATED:20250912T090042Z
LAST-MODIFIED:20251025T091438Z
UID:10020384-1773225000-1773230400@adhdandautism.org
SUMMARY:Drop-In Support Group (Bay20) (Wednesdays)
DESCRIPTION:The support sessions are a great introduction to our services: you can meet someone from both the Family Support and Youth Teams and find out about the help we can provide for you and your family\, as well as connect with other parents/carers in a similar situation. \n 
URL:https://adhdandautism.org/event/drop-in-support-group-bay20-wednesdays-2/2026-03-11/
LOCATION:Bay 20 Community Centre\, 71 St Marks Road\, London\, W10 6JG\, United Kingdom
CATEGORIES:Parent / Carer
ORGANIZER;CN="CAAS Enquiries":MAILTO:enquiries@adhdandautism.org
END:VEVENT
BEGIN:VEVENT
DTSTART;TZID=Europe/London:20260309T103000
DTEND;TZID=Europe/London:20260309T120000
DTSTAMP:20260419T230047
CREATED:20250912T090755Z
LAST-MODIFIED:20251025T091208Z
UID:10021158-1773052200-1773057600@adhdandautism.org
SUMMARY:Drop-In Support Group (WEST Youth Zone) (Mondays)
DESCRIPTION:The support sessions are a great introduction to our services: you can meet someone from both the Family Support and Youth Teams and find out about the help we can provide for you and your family\, as well as connect with other parents/carers in a similar situation. \n 
URL:https://adhdandautism.org/event/drop-in-west-youth-zone/2026-03-09/
LOCATION:WEST Youth Zone\, 2 EdCity Walk\, London\, W12 7TF\, United Kingdom
CATEGORIES:Parent / Carer
ORGANIZER;CN="CAAS Enquiries":MAILTO:enquiries@adhdandautism.org
END:VEVENT
BEGIN:VEVENT
DTSTART;TZID=Europe/London:20260306T103000
DTEND;TZID=Europe/London:20260306T123000
DTSTAMP:20260419T230047
CREATED:20240909T181559Z
LAST-MODIFIED:20260223T145417Z
UID:10016723-1772793000-1772800200@adhdandautism.org
SUMMARY:Drop-In Support Group (CAAS) (Wednesdays and Fridays)
DESCRIPTION:The support sessions are a great introduction to our services where you can meet the Family Support Team\, find out about the help we can provide for you and your family\, as well as be able to connect with other parents/carers in a similar situation. Now open to residents of North-West London. \n 
URL:https://adhdandautism.org/event/daytime-drop-in/2026-03-06/
CATEGORIES:Parent / Carer
ORGANIZER;CN="CAAS Enquiries":MAILTO:enquiries@adhdandautism.org
END:VEVENT
BEGIN:VEVENT
DTSTART;TZID=Europe/London:20260304T103000
DTEND;TZID=Europe/London:20260304T123000
DTSTAMP:20260419T230047
CREATED:20240909T181559Z
LAST-MODIFIED:20260223T145417Z
UID:10016722-1772620200-1772627400@adhdandautism.org
SUMMARY:Drop-In Support Group (CAAS) (Wednesdays and Fridays)
DESCRIPTION:The support sessions are a great introduction to our services where you can meet the Family Support Team\, find out about the help we can provide for you and your family\, as well as be able to connect with other parents/carers in a similar situation. Now open to residents of North-West London. \n 
URL:https://adhdandautism.org/event/daytime-drop-in/2026-03-04/
CATEGORIES:Parent / Carer
ORGANIZER;CN="CAAS Enquiries":MAILTO:enquiries@adhdandautism.org
END:VEVENT
BEGIN:VEVENT
DTSTART;TZID=Europe/London:20260304T103000
DTEND;TZID=Europe/London:20260304T120000
DTSTAMP:20260419T230047
CREATED:20250912T090042Z
LAST-MODIFIED:20251025T091438Z
UID:10020382-1772620200-1772625600@adhdandautism.org
SUMMARY:Drop-In Support Group (Bay20) (Wednesdays)
DESCRIPTION:The support sessions are a great introduction to our services: you can meet someone from both the Family Support and Youth Teams and find out about the help we can provide for you and your family\, as well as connect with other parents/carers in a similar situation. \n 
URL:https://adhdandautism.org/event/drop-in-support-group-bay20-wednesdays-2/2026-03-04/
LOCATION:Bay 20 Community Centre\, 71 St Marks Road\, London\, W10 6JG\, United Kingdom
CATEGORIES:Parent / Carer
ORGANIZER;CN="CAAS Enquiries":MAILTO:enquiries@adhdandautism.org
END:VEVENT
BEGIN:VEVENT
DTSTART;TZID=Europe/London:20260303T120000
DTEND;TZID=Europe/London:20260303T133000
DTSTAMP:20260419T230047
CREATED:20251014T143509Z
LAST-MODIFIED:20251216T133638Z
UID:10021799-1772539200-1772544600@adhdandautism.org
SUMMARY:Online Parents Drop-In (Tuesdays)
DESCRIPTION:Our online drop-in support groups are a wonderful opportunity to talk to our family support team\, who are here to offer guidance and support. Connect with other parents to share stories\, offer advice\, and build a supportive community. You are welcome whether your child is formally diagnosed\, on the pathway\, or if you suspect your child might need an assessment and want to know the next steps. \nFor residents of North-West London. \nRegister for Mondays: https://us06web.zoom.us/meeting/register/tZclcO-srDwrH9E6NF02XmLxHa3ueNh6Bbc5
URL:https://adhdandautism.org/event/online-parents-drop-in-tuesdays-2/2026-03-03/
LOCATION:Online
CATEGORIES:Parent / Carer
ORGANIZER;CN="CAAS Enquiries":MAILTO:enquiries@adhdandautism.org
END:VEVENT
BEGIN:VEVENT
DTSTART;TZID=Europe/London:20260302T103000
DTEND;TZID=Europe/London:20260302T120000
DTSTAMP:20260419T230047
CREATED:20250912T090755Z
LAST-MODIFIED:20251025T091208Z
UID:10021157-1772447400-1772452800@adhdandautism.org
SUMMARY:Drop-In Support Group (WEST Youth Zone) (Mondays)
DESCRIPTION:The support sessions are a great introduction to our services: you can meet someone from both the Family Support and Youth Teams and find out about the help we can provide for you and your family\, as well as connect with other parents/carers in a similar situation. \n 
URL:https://adhdandautism.org/event/drop-in-west-youth-zone/2026-03-02/
LOCATION:WEST Youth Zone\, 2 EdCity Walk\, London\, W12 7TF\, United Kingdom
CATEGORIES:Parent / Carer
ORGANIZER;CN="CAAS Enquiries":MAILTO:enquiries@adhdandautism.org
END:VEVENT
BEGIN:VEVENT
DTSTART;TZID=Europe/London:20260227T103000
DTEND;TZID=Europe/London:20260227T123000
DTSTAMP:20260419T230047
CREATED:20240909T181559Z
LAST-MODIFIED:20260223T145417Z
UID:10016721-1772188200-1772195400@adhdandautism.org
SUMMARY:Drop-In Support Group (CAAS) (Wednesdays and Fridays)
DESCRIPTION:The support sessions are a great introduction to our services where you can meet the Family Support Team\, find out about the help we can provide for you and your family\, as well as be able to connect with other parents/carers in a similar situation. Now open to residents of North-West London. \n 
URL:https://adhdandautism.org/event/daytime-drop-in/2026-02-27/
CATEGORIES:Parent / Carer
ORGANIZER;CN="CAAS Enquiries":MAILTO:enquiries@adhdandautism.org
END:VEVENT
BEGIN:VEVENT
DTSTART;TZID=Europe/London:20260225T190000
DTEND;TZID=Europe/London:20260225T203000
DTSTAMP:20260419T230047
CREATED:20241007T171833Z
LAST-MODIFIED:20251025T091955Z
UID:10017912-1772046000-1772051400@adhdandautism.org
SUMMARY:Online Parents Drop-In (4th Wednesday)
DESCRIPTION:Our online drop-in support groups are a wonderful opportunity to talk to our family support team\, who are here to offer guidance and support. Connect with other parents to share stories\, offer advice\, and build a supportive community. You are welcome whether your child is formally diagnosed\, on the pathway\, or if you suspect your child might need an assessment and want to know the next steps. \nFor residents of North-West London. \nRegister for Wednesdays: https://us06web.zoom.us/meeting/register/tZYud-yvrDoiHt2lokyjUwWnT2oKXBA1FGmm
URL:https://adhdandautism.org/event/online-parents-drop-in-wednesdays-2/2026-02-25/
LOCATION:Online
CATEGORIES:Parent / Carer
ORGANIZER;CN="CAAS Enquiries":MAILTO:enquiries@adhdandautism.org
END:VEVENT
BEGIN:VEVENT
DTSTART;TZID=Europe/London:20260225T103000
DTEND;TZID=Europe/London:20260225T123000
DTSTAMP:20260419T230047
CREATED:20240909T181559Z
LAST-MODIFIED:20260223T145417Z
UID:10016720-1772015400-1772022600@adhdandautism.org
SUMMARY:Drop-In Support Group (CAAS) (Wednesdays and Fridays)
DESCRIPTION:The support sessions are a great introduction to our services where you can meet the Family Support Team\, find out about the help we can provide for you and your family\, as well as be able to connect with other parents/carers in a similar situation. Now open to residents of North-West London. \n 
URL:https://adhdandautism.org/event/daytime-drop-in/2026-02-25/
CATEGORIES:Parent / Carer
ORGANIZER;CN="CAAS Enquiries":MAILTO:enquiries@adhdandautism.org
END:VEVENT
BEGIN:VEVENT
DTSTART;TZID=Europe/London:20260225T103000
DTEND;TZID=Europe/London:20260225T120000
DTSTAMP:20260419T230047
CREATED:20250912T090042Z
LAST-MODIFIED:20251025T091438Z
UID:10020380-1772015400-1772020800@adhdandautism.org
SUMMARY:Drop-In Support Group (Bay20) (Wednesdays)
DESCRIPTION:The support sessions are a great introduction to our services: you can meet someone from both the Family Support and Youth Teams and find out about the help we can provide for you and your family\, as well as connect with other parents/carers in a similar situation. \n 
URL:https://adhdandautism.org/event/drop-in-support-group-bay20-wednesdays-2/2026-02-25/
LOCATION:Bay 20 Community Centre\, 71 St Marks Road\, London\, W10 6JG\, United Kingdom
CATEGORIES:Parent / Carer
ORGANIZER;CN="CAAS Enquiries":MAILTO:enquiries@adhdandautism.org
END:VEVENT
BEGIN:VEVENT
DTSTART;TZID=Europe/London:20260224T100000
DTEND;TZID=Europe/London:20260224T120000
DTSTAMP:20260419T230047
CREATED:20260106T132408Z
LAST-MODIFIED:20260106T132425Z
UID:10022380-1771927200-1771934400@adhdandautism.org
SUMMARY:Understanding ADHD Daytime (Tuesdays)
DESCRIPTION:Understanding ADHD is a 6-week course that focuses on increasing parents understanding of their ADHD child/teenager and looking at how best to support them\, The course provides in-depth information as well as providing a safe space for parents/carers to ask questions and connect with others. The 6 sessions will include the following topics:- \n\nIntroductory session\nOverview of ADHD and the opportunity to learn from a young ADHD person\nUnderstanding the impact of Executive Functioning and ADHD\nUnderstanding Behaviour\nUnderstanding Emotion Dysregulation\nUnderstanding Sensory and Communication Differences\nADHD and the Family\n\nEach session is for two hours and the courses are held either online in the evenings or daytime at CAAS. Booking is required. \nFor further information contact our Family Support Team on enquiries@adhdandautism.org or complete the following form: https://forms.office.com/e/bXJYGXnBVt 
URL:https://adhdandautism.org/event/understanding-adhd-morning-2-3-2/2026-02-24/
LOCATION:CAAS Centre\, 269 Field End Road\, Eastcote\, HA4 9XA\, United Kingdom
CATEGORIES:Parent / Carer
ORGANIZER;CN="CAAS Enquiries":MAILTO:enquiries@adhdandautism.org
END:VEVENT
BEGIN:VEVENT
DTSTART;TZID=Europe/London:20260223T123000
DTEND;TZID=Europe/London:20260223T144500
DTSTAMP:20260419T230047
CREATED:20250104T150733Z
LAST-MODIFIED:20260223T151048Z
UID:10022243-1771849800-1771857900@adhdandautism.org
SUMMARY:DLA Workshop (Monthly)
DESCRIPTION:This monthly workshop will help parents understand the process of completing a DLA form and will go through the form question by question giving examples of the kind of information required. \nAvailable to residents of North-West London.
URL:https://adhdandautism.org/event/dla-workshop-monthly/2026-02-23/
LOCATION:Centre for ADHD & Autism Support\, Television House 269 Field End Road\, Eastcote\, Middlesex\, HA4 9XA\, UK
CATEGORIES:Parent / Carer
ORGANIZER;CN="CAAS Enquiries":MAILTO:enquiries@adhdandautism.org
END:VEVENT
BEGIN:VEVENT
DTSTART;TZID=Europe/London:20260223T103000
DTEND;TZID=Europe/London:20260223T120000
DTSTAMP:20260419T230047
CREATED:20250912T090755Z
LAST-MODIFIED:20251025T091208Z
UID:10021156-1771842600-1771848000@adhdandautism.org
SUMMARY:Drop-In Support Group (WEST Youth Zone) (Mondays)
DESCRIPTION:The support sessions are a great introduction to our services: you can meet someone from both the Family Support and Youth Teams and find out about the help we can provide for you and your family\, as well as connect with other parents/carers in a similar situation. \n 
URL:https://adhdandautism.org/event/drop-in-west-youth-zone/2026-02-23/
LOCATION:WEST Youth Zone\, 2 EdCity Walk\, London\, W12 7TF\, United Kingdom
CATEGORIES:Parent / Carer
ORGANIZER;CN="CAAS Enquiries":MAILTO:enquiries@adhdandautism.org
END:VEVENT
BEGIN:VEVENT
DTSTART;TZID=Europe/London:20260219T100000
DTEND;TZID=Europe/London:20260219T120000
DTSTAMP:20260419T230047
CREATED:20241028T183459Z
LAST-MODIFIED:20260106T133113Z
UID:10022470-1771495200-1771502400@adhdandautism.org
SUMMARY:Understanding Autism Daytime (Thursdays)
DESCRIPTION:Understanding Autism is a 6-week course that focuses on increasing parents understanding of their autistic child/teenager and looking at how best to support them. The course provides in-depth information as well as providing a safe space for parent/carers to ask questions and connect with others. The 6 Sessions will include the following topics:- \n\nIntroductory session\nOverview of autism and the opportunity to learn from young autistic people\nUnderstanding Communication Differences\nUnderstanding Sensory Differences\nUnderstanding Behaviour\nAutism and the Family\n\nEach session is for two hours and the courses are held either online in the evenings or daytime at CAAS. Booking is required. \nFor further information contact our Family Support Team on enquiries@adhdandautism.org or complete the following form: https://forms.office.com/e/bXJYGXnBVt
URL:https://adhdandautism.org/event/understanding-autism-daytime-2-2/2026-02-19/
LOCATION:CAAS Centre\, 269 Field End Road\, Eastcote\, HA4 9XA\, United Kingdom
CATEGORIES:Parent / Carer
ORGANIZER;CN="CAAS Enquiries":MAILTO:enquiries@adhdandautism.org
END:VEVENT
BEGIN:VEVENT
DTSTART;TZID=Europe/London:20260218T190000
DTEND;TZID=Europe/London:20260218T203000
DTSTAMP:20260419T230047
CREATED:20241007T171833Z
LAST-MODIFIED:20251025T091955Z
UID:10021968-1771441200-1771446600@adhdandautism.org
SUMMARY:Online Parents Drop-In (4th Wednesday)
DESCRIPTION:Our online drop-in support groups are a wonderful opportunity to talk to our family support team\, who are here to offer guidance and support. Connect with other parents to share stories\, offer advice\, and build a supportive community. You are welcome whether your child is formally diagnosed\, on the pathway\, or if you suspect your child might need an assessment and want to know the next steps. \nFor residents of North-West London. \nRegister for Wednesdays: https://us06web.zoom.us/meeting/register/tZYud-yvrDoiHt2lokyjUwWnT2oKXBA1FGmm
URL:https://adhdandautism.org/event/online-parents-drop-in-wednesdays-2/2026-02-18/
LOCATION:Online
CATEGORIES:Parent / Carer
ORGANIZER;CN="CAAS Enquiries":MAILTO:enquiries@adhdandautism.org
END:VEVENT
BEGIN:VEVENT
DTSTART;TZID=Europe/London:20260217T120000
DTEND;TZID=Europe/London:20260217T133000
DTSTAMP:20260419T230047
CREATED:20251014T143509Z
LAST-MODIFIED:20251216T133638Z
UID:10021798-1771329600-1771335000@adhdandautism.org
SUMMARY:Online Parents Drop-In (Tuesdays)
DESCRIPTION:Our online drop-in support groups are a wonderful opportunity to talk to our family support team\, who are here to offer guidance and support. Connect with other parents to share stories\, offer advice\, and build a supportive community. You are welcome whether your child is formally diagnosed\, on the pathway\, or if you suspect your child might need an assessment and want to know the next steps. \nFor residents of North-West London. \nRegister for Mondays: https://us06web.zoom.us/meeting/register/tZclcO-srDwrH9E6NF02XmLxHa3ueNh6Bbc5
URL:https://adhdandautism.org/event/online-parents-drop-in-tuesdays-2/2026-02-17/
LOCATION:Online
CATEGORIES:Parent / Carer
ORGANIZER;CN="CAAS Enquiries":MAILTO:enquiries@adhdandautism.org
END:VEVENT
BEGIN:VEVENT
DTSTART;TZID=Europe/London:20260217T100000
DTEND;TZID=Europe/London:20260217T120000
DTSTAMP:20260419T230047
CREATED:20260106T132408Z
LAST-MODIFIED:20260106T132425Z
UID:10022379-1771322400-1771329600@adhdandautism.org
SUMMARY:Understanding ADHD Daytime (Tuesdays)
DESCRIPTION:Understanding ADHD is a 6-week course that focuses on increasing parents understanding of their ADHD child/teenager and looking at how best to support them\, The course provides in-depth information as well as providing a safe space for parents/carers to ask questions and connect with others. The 6 sessions will include the following topics:- \n\nIntroductory session\nOverview of ADHD and the opportunity to learn from a young ADHD person\nUnderstanding the impact of Executive Functioning and ADHD\nUnderstanding Behaviour\nUnderstanding Emotion Dysregulation\nUnderstanding Sensory and Communication Differences\nADHD and the Family\n\nEach session is for two hours and the courses are held either online in the evenings or daytime at CAAS. Booking is required. \nFor further information contact our Family Support Team on enquiries@adhdandautism.org or complete the following form: https://forms.office.com/e/bXJYGXnBVt 
URL:https://adhdandautism.org/event/understanding-adhd-morning-2-3-2/2026-02-17/
LOCATION:CAAS Centre\, 269 Field End Road\, Eastcote\, HA4 9XA\, United Kingdom
CATEGORIES:Parent / Carer
ORGANIZER;CN="CAAS Enquiries":MAILTO:enquiries@adhdandautism.org
END:VEVENT
BEGIN:VEVENT
DTSTART;TZID=Europe/London:20260216T190000
DTEND;TZID=Europe/London:20260216T210000
DTSTAMP:20260419T230047
CREATED:20240519T143946Z
LAST-MODIFIED:20241003T144314Z
UID:10011149-1771268400-1771275600@adhdandautism.org
SUMMARY:Evening Drop In Support Group (3rd Monday)
DESCRIPTION:Now open to residents of North-West London. \nThe support sessions are a great introduction to our services where you can meet the Family Support Team\, find out about the help we can provide for you and your family\, as well as be able to connect with other parents/carers in a similar situation.
URL:https://adhdandautism.org/event/parent-carer-evening-drop-in/2026-02-16/
LOCATION:Centre for ADHD & Autism Support\, Television House 269 Field End Road\, Eastcote\, Middlesex\, HA4 9XA\, UK
CATEGORIES:Parent / Carer
ORGANIZER;CN="CAAS Enquiries":MAILTO:enquiries@adhdandautism.org
END:VEVENT
BEGIN:VEVENT
DTSTART;TZID=Europe/London:20260213T103000
DTEND;TZID=Europe/London:20260213T123000
DTSTAMP:20260419T230047
CREATED:20240909T181559Z
LAST-MODIFIED:20260223T145417Z
UID:10016717-1770978600-1770985800@adhdandautism.org
SUMMARY:Drop-In Support Group (CAAS) (Wednesdays and Fridays)
DESCRIPTION:The support sessions are a great introduction to our services where you can meet the Family Support Team\, find out about the help we can provide for you and your family\, as well as be able to connect with other parents/carers in a similar situation. Now open to residents of North-West London. \n 
URL:https://adhdandautism.org/event/daytime-drop-in/2026-02-13/
CATEGORIES:Parent / Carer
ORGANIZER;CN="CAAS Enquiries":MAILTO:enquiries@adhdandautism.org
END:VEVENT
END:VCALENDAR