BEGIN:VCALENDAR
VERSION:2.0
PRODID:-//Centre for ADHD and Autism Support - ECPv6.15.20//NONSGML v1.0//EN
CALSCALE:GREGORIAN
METHOD:PUBLISH
X-ORIGINAL-URL:https://adhdandautism.org
X-WR-CALDESC:Events for Centre for ADHD and Autism Support
REFRESH-INTERVAL;VALUE=DURATION:PT1H
X-Robots-Tag:noindex
X-PUBLISHED-TTL:PT1H
BEGIN:VTIMEZONE
TZID:Europe/London
BEGIN:DAYLIGHT
TZOFFSETFROM:+0000
TZOFFSETTO:+0100
TZNAME:BST
DTSTART:20250330T010000
END:DAYLIGHT
BEGIN:STANDARD
TZOFFSETFROM:+0100
TZOFFSETTO:+0000
TZNAME:GMT
DTSTART:20251026T010000
END:STANDARD
BEGIN:DAYLIGHT
TZOFFSETFROM:+0000
TZOFFSETTO:+0100
TZNAME:BST
DTSTART:20260329T010000
END:DAYLIGHT
BEGIN:STANDARD
TZOFFSETFROM:+0100
TZOFFSETTO:+0000
TZNAME:GMT
DTSTART:20261025T010000
END:STANDARD
BEGIN:DAYLIGHT
TZOFFSETFROM:+0000
TZOFFSETTO:+0100
TZNAME:BST
DTSTART:20270328T010000
END:DAYLIGHT
BEGIN:STANDARD
TZOFFSETFROM:+0100
TZOFFSETTO:+0000
TZNAME:GMT
DTSTART:20271031T010000
END:STANDARD
END:VTIMEZONE
BEGIN:VEVENT
DTSTART;TZID=Europe/London:20260705T103000
DTEND;TZID=Europe/London:20260705T120000
DTSTAMP:20260419T232537
CREATED:20230216T174438Z
LAST-MODIFIED:20260330T103423Z
UID:10022925-1783247400-1783252800@adhdandautism.org
SUMMARY:Creative Club (1st Saturday)
DESCRIPTION:For Autistic or ADHD young people aged 8-12 living in Harrow or Hillingdon. Places must be booked. \nThis monthly group will feature creative activities such as music or art. The groups will enable those who face isolation a place to meet like-minded peers in a place that feels safe\, secure and accepting of difference.  You may be asked to create something in advance to discuss and share during the session. \nPre-registration and session booking are required.
URL:https://adhdandautism.org/event/creative-club/2026-07-05/
LOCATION:Centre for ADHD & Autism Support\, Television House 269 Field End Road\, Eastcote\, Middlesex\, HA4 9XA\, UK
CATEGORIES:Youth
ORGANIZER;CN="Niloofur Italia":MAILTO:niloofur@adhdandautism.org
END:VEVENT
BEGIN:VEVENT
DTSTART;TZID=Europe/London:20260705T123000
DTEND;TZID=Europe/London:20260705T140000
DTSTAMP:20260419T232537
CREATED:20241122T153819Z
LAST-MODIFIED:20260330T103332Z
UID:10022861-1783254600-1783260000@adhdandautism.org
SUMMARY:Creative Club Plus (1st Saturday)
DESCRIPTION:This monthly group will feature creative activities such as music or art. The group enables neurodivergent children to meet like-minded peers in a place that feels safe\, secure and accepting of their differences. It is an opportunity for friendships to develop through immersion in the creative process. \nFor ADHD/Autistic young people aged 12-15.
URL:https://adhdandautism.org/event/creative-club-plus/2026-07-05/
LOCATION:CAAS Centre\, 269 Field End Road\, Eastcote\, HA4 9XA\, United Kingdom
CATEGORIES:Youth
END:VEVENT
BEGIN:VEVENT
DTSTART;TZID=Europe/London:20260707T163000
DTEND;TZID=Europe/London:20260707T180000
DTSTAMP:20260419T232537
CREATED:20260106T130924Z
LAST-MODIFIED:20260223T145816Z
UID:10022261-1783441800-1783447200@adhdandautism.org
SUMMARY:Social Group for Young People (14-17) (1st Tuesday)
DESCRIPTION:For ADHD/Autistic people in school years 10 to 12. Places must be booked. \nThrough games\, quizzes\, arts/crafts and discussion\, this group gives ADHD/autistic young people the opportunity to develop friendships and connections with other people as well as increase their understanding of what being neurodivergent means to them. \nPre-registration and session-booking are required.
URL:https://adhdandautism.org/event/social-group-plus/2026-07-07/
LOCATION:Bay 20 Community Centre\, 71 St Marks Road\, London\, W10 6JG\, United Kingdom
CATEGORIES:Youth
ORGANIZER;CN="Karen Crocker":MAILTO:karen@adhdandautism.org
END:VEVENT
BEGIN:VEVENT
DTSTART;TZID=Europe/London:20260713T163000
DTEND;TZID=Europe/London:20260713T180000
DTSTAMP:20260419T232537
CREATED:20260106T130950Z
LAST-MODIFIED:20260223T145837Z
UID:10022321-1783960200-1783965600@adhdandautism.org
SUMMARY:Social Group for Young People (11-14) (2nd Monday)
DESCRIPTION:For ADHD/Autistic people in school years 7 to 9. Places must be booked. \nThrough games\, quizzes\, arts/crafts and discussion\, this group gives ADHD/autistic young people the opportunity to develop friendships and connections with other people as well as increase their understanding of what being neurodivergent means to them. \nPre-registration and session-booking are required.
URL:https://adhdandautism.org/event/social-group-2/2026-07-13/
LOCATION:Bay 20 Community Centre\, 71 St Marks Road\, London\, W10 6JG\, United Kingdom
CATEGORIES:Youth
ORGANIZER;CN="Karen Crocker":MAILTO:karen@adhdandautism.org
END:VEVENT
BEGIN:VEVENT
DTSTART;TZID=Europe/London:20260714T180000
DTEND;TZID=Europe/London:20260714T193000
DTSTAMP:20260419T232537
CREATED:20260106T132527Z
LAST-MODIFIED:20260223T150217Z
UID:10022387-1784052000-1784057400@adhdandautism.org
SUMMARY:Nurture Group (2nd Tuesday)
DESCRIPTION:For ADHD/Autistic young people in school years 8-11. \nA calm space to meet people and explore interests like creative projects\, friendships\, wellbeing\, and everyday life challenges in an inclusive way. While the group is for high school ages\, we keep the focus on topics that feel nurturing and positive – conversations about things like sex\, drugs\, or alcohol will not be discussed in this group. All you need to be is yourself!
URL:https://adhdandautism.org/event/nurture-group-2nd-tuesday/2026-07-14/
LOCATION:Centre for ADHD & Autism Support\, Television House 269 Field End Road\, Eastcote\, Middlesex\, HA4 9XA\, UK
CATEGORIES:Youth
ORGANIZER;CN="Youth Team":MAILTO:enquiries@adhdandautism.org
END:VEVENT
BEGIN:VEVENT
DTSTART;TZID=Europe/London:20260715T180000
DTEND;TZID=Europe/London:20260715T213000
DTSTAMP:20260419T232537
CREATED:20260323T182230Z
LAST-MODIFIED:20260323T182230Z
UID:10022782-1784138400-1784151000@adhdandautism.org
SUMMARY:Film Group (ages 14-17) (3rd Wednesday)
DESCRIPTION:If you enjoy watching and talking about movies\, this film group is for you. Choose the movies\, and enjoy some pizza and a chat about the film afterwards in a safe and supportive environment. Feel free to join online or in-person. Cost: £5 for takeaway. Places must be booked in advance. \nPre-registration and session booking are required.
URL:https://adhdandautism.org/event/film-group-younger-2/2026-07-15/
LOCATION:Centre for ADHD & Autism Support\, Television House 269 Field End Road\, Eastcote\, Middlesex\, HA4 9XA\, UK
CATEGORIES:Youth
END:VEVENT
BEGIN:VEVENT
DTSTART;TZID=Europe/London:20260715T183000
DTEND;TZID=Europe/London:20260715T200000
DTSTAMP:20260419T232537
CREATED:20230216T183219Z
LAST-MODIFIED:20260223T151209Z
UID:10008876-1784140200-1784145600@adhdandautism.org
SUMMARY:Thinking About Adulthood
DESCRIPTION:For autistic people aged 14-19 without a co-occurring learning disability resident in Harrow\, Brent\, Ealing\, Hillingdon\, Hounslow\, Hammersmith & Fulham\, Westminster\, and Kensington & Chelsea. \nA monthly online forum for young autistic people to explore what it means to become an adult. During the teen years there’s a lot of talk about ‘growing up’\, ‘being an adult’ without really discussing what that means. \nThese monthly sessions will provide a safe place to explore and ask those important questions\, work through any worries about ‘growing up’ and what ‘being an adult’ means. Register here. \nPre-registration and session booking are required.
URL:https://adhdandautism.org/event/thinking-about-adulthood/2026-07-15/
LOCATION:Online
CATEGORIES:Youth
ORGANIZER;CN="CAAS Enquiries":MAILTO:enquiries@adhdandautism.org
END:VEVENT
BEGIN:VEVENT
DTSTART;TZID=Europe/London:20260724T180000
DTEND;TZID=Europe/London:20260724T213000
DTSTAMP:20260419T232537
CREATED:20240731T130359Z
LAST-MODIFIED:20260106T140506Z
UID:10014840-1784916000-1784928600@adhdandautism.org
SUMMARY:Transition Film Group (ages 17-22) (4th Friday)
DESCRIPTION:Our film group combines socialising and meeting new people in a safe and supportive environment whist enjoying a takeaway. Films are suggested by the young people and facilitate discussion afterwards. The group may also go on cinema outings each year. Cost: £5 for takeaway / £20 for outings. Places must be booked in advance. \nPre-registration and session booking are required.
URL:https://adhdandautism.org/event/film-group-transition-2/2026-07-24/
LOCATION:CAAS Centre\, 269 Field End Road\, Eastcote\, HA4 9XA\, United Kingdom
CATEGORIES:Youth
ORGANIZER;CN="CAAS Enquiries":MAILTO:enquiries@adhdandautism.org
END:VEVENT
BEGIN:VEVENT
DTSTART;TZID=Europe/London:20260804T163000
DTEND;TZID=Europe/London:20260804T180000
DTSTAMP:20260419T232537
CREATED:20260106T130924Z
LAST-MODIFIED:20260223T145816Z
UID:10022262-1785861000-1785866400@adhdandautism.org
SUMMARY:Social Group for Young People (14-17) (1st Tuesday)
DESCRIPTION:For ADHD/Autistic people in school years 10 to 12. Places must be booked. \nThrough games\, quizzes\, arts/crafts and discussion\, this group gives ADHD/autistic young people the opportunity to develop friendships and connections with other people as well as increase their understanding of what being neurodivergent means to them. \nPre-registration and session-booking are required.
URL:https://adhdandautism.org/event/social-group-plus/2026-08-04/
LOCATION:Bay 20 Community Centre\, 71 St Marks Road\, London\, W10 6JG\, United Kingdom
CATEGORIES:Youth
ORGANIZER;CN="Karen Crocker":MAILTO:karen@adhdandautism.org
END:VEVENT
BEGIN:VEVENT
DTSTART;TZID=Europe/London:20260805T103000
DTEND;TZID=Europe/London:20260805T120000
DTSTAMP:20260419T232537
CREATED:20230216T174438Z
LAST-MODIFIED:20260330T103423Z
UID:10022926-1785925800-1785931200@adhdandautism.org
SUMMARY:Creative Club (1st Saturday)
DESCRIPTION:For Autistic or ADHD young people aged 8-12 living in Harrow or Hillingdon. Places must be booked. \nThis monthly group will feature creative activities such as music or art. The groups will enable those who face isolation a place to meet like-minded peers in a place that feels safe\, secure and accepting of difference.  You may be asked to create something in advance to discuss and share during the session. \nPre-registration and session booking are required.
URL:https://adhdandautism.org/event/creative-club/2026-08-05/
LOCATION:Centre for ADHD & Autism Support\, Television House 269 Field End Road\, Eastcote\, Middlesex\, HA4 9XA\, UK
CATEGORIES:Youth
ORGANIZER;CN="Niloofur Italia":MAILTO:niloofur@adhdandautism.org
END:VEVENT
BEGIN:VEVENT
DTSTART;TZID=Europe/London:20260805T123000
DTEND;TZID=Europe/London:20260805T140000
DTSTAMP:20260419T232537
CREATED:20241122T153819Z
LAST-MODIFIED:20260330T103332Z
UID:10022862-1785933000-1785938400@adhdandautism.org
SUMMARY:Creative Club Plus (1st Saturday)
DESCRIPTION:This monthly group will feature creative activities such as music or art. The group enables neurodivergent children to meet like-minded peers in a place that feels safe\, secure and accepting of their differences. It is an opportunity for friendships to develop through immersion in the creative process. \nFor ADHD/Autistic young people aged 12-15.
URL:https://adhdandautism.org/event/creative-club-plus/2026-08-05/
LOCATION:CAAS Centre\, 269 Field End Road\, Eastcote\, HA4 9XA\, United Kingdom
CATEGORIES:Youth
END:VEVENT
BEGIN:VEVENT
DTSTART;TZID=Europe/London:20260805T183000
DTEND;TZID=Europe/London:20260805T200000
DTSTAMP:20260419T232537
CREATED:20240731T120111Z
LAST-MODIFIED:20260223T150038Z
UID:10014714-1785954600-1785960000@adhdandautism.org
SUMMARY:Meet Up Group (17-24) (1st Wednesday)
DESCRIPTION:1st Wednesday of the month. Places must be booked. For ages 17-24 based in Harrow and Hillingdon. \nThrough games\, quizzes\, arts/crafts and discussion\, this group gives ADHD/autistic young people the opportunity to develop friendships and connections with other people as well as increase their understanding of what being neurodivergent means to them. \nPre-registration and session booking are required.
URL:https://adhdandautism.org/event/meet-up-group-2/2026-08-05/
CATEGORIES:Youth
ORGANIZER;CN="Karen Crocker":MAILTO:karen@adhdandautism.org
END:VEVENT
BEGIN:VEVENT
DTSTART;TZID=Europe/London:20260810T163000
DTEND;TZID=Europe/London:20260810T180000
DTSTAMP:20260419T232537
CREATED:20260106T130950Z
LAST-MODIFIED:20260223T145837Z
UID:10022322-1786379400-1786384800@adhdandautism.org
SUMMARY:Social Group for Young People (11-14) (2nd Monday)
DESCRIPTION:For ADHD/Autistic people in school years 7 to 9. Places must be booked. \nThrough games\, quizzes\, arts/crafts and discussion\, this group gives ADHD/autistic young people the opportunity to develop friendships and connections with other people as well as increase their understanding of what being neurodivergent means to them. \nPre-registration and session-booking are required.
URL:https://adhdandautism.org/event/social-group-2/2026-08-10/
LOCATION:Bay 20 Community Centre\, 71 St Marks Road\, London\, W10 6JG\, United Kingdom
CATEGORIES:Youth
ORGANIZER;CN="Karen Crocker":MAILTO:karen@adhdandautism.org
END:VEVENT
BEGIN:VEVENT
DTSTART;TZID=Europe/London:20260811T180000
DTEND;TZID=Europe/London:20260811T193000
DTSTAMP:20260419T232537
CREATED:20260106T132527Z
LAST-MODIFIED:20260223T150217Z
UID:10022388-1786471200-1786476600@adhdandautism.org
SUMMARY:Nurture Group (2nd Tuesday)
DESCRIPTION:For ADHD/Autistic young people in school years 8-11. \nA calm space to meet people and explore interests like creative projects\, friendships\, wellbeing\, and everyday life challenges in an inclusive way. While the group is for high school ages\, we keep the focus on topics that feel nurturing and positive – conversations about things like sex\, drugs\, or alcohol will not be discussed in this group. All you need to be is yourself!
URL:https://adhdandautism.org/event/nurture-group-2nd-tuesday/2026-08-11/
LOCATION:Centre for ADHD & Autism Support\, Television House 269 Field End Road\, Eastcote\, Middlesex\, HA4 9XA\, UK
CATEGORIES:Youth
ORGANIZER;CN="Youth Team":MAILTO:enquiries@adhdandautism.org
END:VEVENT
BEGIN:VEVENT
DTSTART;TZID=Europe/London:20260819T180000
DTEND;TZID=Europe/London:20260819T213000
DTSTAMP:20260419T232537
CREATED:20260323T182230Z
LAST-MODIFIED:20260323T182230Z
UID:10022783-1787162400-1787175000@adhdandautism.org
SUMMARY:Film Group (ages 14-17) (3rd Wednesday)
DESCRIPTION:If you enjoy watching and talking about movies\, this film group is for you. Choose the movies\, and enjoy some pizza and a chat about the film afterwards in a safe and supportive environment. Feel free to join online or in-person. Cost: £5 for takeaway. Places must be booked in advance. \nPre-registration and session booking are required.
URL:https://adhdandautism.org/event/film-group-younger-2/2026-08-19/
LOCATION:Centre for ADHD & Autism Support\, Television House 269 Field End Road\, Eastcote\, Middlesex\, HA4 9XA\, UK
CATEGORIES:Youth
END:VEVENT
BEGIN:VEVENT
DTSTART;TZID=Europe/London:20260819T183000
DTEND;TZID=Europe/London:20260819T200000
DTSTAMP:20260419T232537
CREATED:20230216T183219Z
LAST-MODIFIED:20260223T151209Z
UID:10008877-1787164200-1787169600@adhdandautism.org
SUMMARY:Thinking About Adulthood
DESCRIPTION:For autistic people aged 14-19 without a co-occurring learning disability resident in Harrow\, Brent\, Ealing\, Hillingdon\, Hounslow\, Hammersmith & Fulham\, Westminster\, and Kensington & Chelsea. \nA monthly online forum for young autistic people to explore what it means to become an adult. During the teen years there’s a lot of talk about ‘growing up’\, ‘being an adult’ without really discussing what that means. \nThese monthly sessions will provide a safe place to explore and ask those important questions\, work through any worries about ‘growing up’ and what ‘being an adult’ means. Register here. \nPre-registration and session booking are required.
URL:https://adhdandautism.org/event/thinking-about-adulthood/2026-08-19/
LOCATION:Online
CATEGORIES:Youth
ORGANIZER;CN="CAAS Enquiries":MAILTO:enquiries@adhdandautism.org
END:VEVENT
BEGIN:VEVENT
DTSTART;TZID=Europe/London:20260828T180000
DTEND;TZID=Europe/London:20260828T213000
DTSTAMP:20260419T232537
CREATED:20240731T130359Z
LAST-MODIFIED:20260106T140506Z
UID:10014841-1787940000-1787952600@adhdandautism.org
SUMMARY:Transition Film Group (ages 17-22) (4th Friday)
DESCRIPTION:Our film group combines socialising and meeting new people in a safe and supportive environment whist enjoying a takeaway. Films are suggested by the young people and facilitate discussion afterwards. The group may also go on cinema outings each year. Cost: £5 for takeaway / £20 for outings. Places must be booked in advance. \nPre-registration and session booking are required.
URL:https://adhdandautism.org/event/film-group-transition-2/2026-08-28/
LOCATION:CAAS Centre\, 269 Field End Road\, Eastcote\, HA4 9XA\, United Kingdom
CATEGORIES:Youth
ORGANIZER;CN="CAAS Enquiries":MAILTO:enquiries@adhdandautism.org
END:VEVENT
BEGIN:VEVENT
DTSTART;TZID=Europe/London:20260901T163000
DTEND;TZID=Europe/London:20260901T180000
DTSTAMP:20260419T232537
CREATED:20260106T130924Z
LAST-MODIFIED:20260223T145816Z
UID:10022263-1788280200-1788285600@adhdandautism.org
SUMMARY:Social Group for Young People (14-17) (1st Tuesday)
DESCRIPTION:For ADHD/Autistic people in school years 10 to 12. Places must be booked. \nThrough games\, quizzes\, arts/crafts and discussion\, this group gives ADHD/autistic young people the opportunity to develop friendships and connections with other people as well as increase their understanding of what being neurodivergent means to them. \nPre-registration and session-booking are required.
URL:https://adhdandautism.org/event/social-group-plus/2026-09-01/
LOCATION:Bay 20 Community Centre\, 71 St Marks Road\, London\, W10 6JG\, United Kingdom
CATEGORIES:Youth
ORGANIZER;CN="Karen Crocker":MAILTO:karen@adhdandautism.org
END:VEVENT
BEGIN:VEVENT
DTSTART;TZID=Europe/London:20260902T183000
DTEND;TZID=Europe/London:20260902T200000
DTSTAMP:20260419T232537
CREATED:20240731T120111Z
LAST-MODIFIED:20260223T150038Z
UID:10014715-1788373800-1788379200@adhdandautism.org
SUMMARY:Meet Up Group (17-24) (1st Wednesday)
DESCRIPTION:1st Wednesday of the month. Places must be booked. For ages 17-24 based in Harrow and Hillingdon. \nThrough games\, quizzes\, arts/crafts and discussion\, this group gives ADHD/autistic young people the opportunity to develop friendships and connections with other people as well as increase their understanding of what being neurodivergent means to them. \nPre-registration and session booking are required.
URL:https://adhdandautism.org/event/meet-up-group-2/2026-09-02/
CATEGORIES:Youth
ORGANIZER;CN="Karen Crocker":MAILTO:karen@adhdandautism.org
END:VEVENT
BEGIN:VEVENT
DTSTART;TZID=Europe/London:20260905T103000
DTEND;TZID=Europe/London:20260905T120000
DTSTAMP:20260419T232537
CREATED:20230216T174438Z
LAST-MODIFIED:20260330T103423Z
UID:10018461-1788604200-1788609600@adhdandautism.org
SUMMARY:Creative Club (1st Saturday)
DESCRIPTION:For Autistic or ADHD young people aged 8-12 living in Harrow or Hillingdon. Places must be booked. \nThis monthly group will feature creative activities such as music or art. The groups will enable those who face isolation a place to meet like-minded peers in a place that feels safe\, secure and accepting of difference.  You may be asked to create something in advance to discuss and share during the session. \nPre-registration and session booking are required.
URL:https://adhdandautism.org/event/creative-club/2026-09-05/
LOCATION:Centre for ADHD & Autism Support\, Television House 269 Field End Road\, Eastcote\, Middlesex\, HA4 9XA\, UK
CATEGORIES:Youth
ORGANIZER;CN="Niloofur Italia":MAILTO:niloofur@adhdandautism.org
END:VEVENT
BEGIN:VEVENT
DTSTART;TZID=Europe/London:20260905T123000
DTEND;TZID=Europe/London:20260905T140000
DTSTAMP:20260419T232537
CREATED:20241122T153819Z
LAST-MODIFIED:20260330T103332Z
UID:10018244-1788611400-1788616800@adhdandautism.org
SUMMARY:Creative Club Plus (1st Saturday)
DESCRIPTION:This monthly group will feature creative activities such as music or art. The group enables neurodivergent children to meet like-minded peers in a place that feels safe\, secure and accepting of their differences. It is an opportunity for friendships to develop through immersion in the creative process. \nFor ADHD/Autistic young people aged 12-15.
URL:https://adhdandautism.org/event/creative-club-plus/2026-09-05/
LOCATION:CAAS Centre\, 269 Field End Road\, Eastcote\, HA4 9XA\, United Kingdom
CATEGORIES:Youth
END:VEVENT
BEGIN:VEVENT
DTSTART;TZID=Europe/London:20260908T180000
DTEND;TZID=Europe/London:20260908T193000
DTSTAMP:20260419T232537
CREATED:20260106T132527Z
LAST-MODIFIED:20260223T150217Z
UID:10022389-1788890400-1788895800@adhdandautism.org
SUMMARY:Nurture Group (2nd Tuesday)
DESCRIPTION:For ADHD/Autistic young people in school years 8-11. \nA calm space to meet people and explore interests like creative projects\, friendships\, wellbeing\, and everyday life challenges in an inclusive way. While the group is for high school ages\, we keep the focus on topics that feel nurturing and positive – conversations about things like sex\, drugs\, or alcohol will not be discussed in this group. All you need to be is yourself!
URL:https://adhdandautism.org/event/nurture-group-2nd-tuesday/2026-09-08/
LOCATION:Centre for ADHD & Autism Support\, Television House 269 Field End Road\, Eastcote\, Middlesex\, HA4 9XA\, UK
CATEGORIES:Youth
ORGANIZER;CN="Youth Team":MAILTO:enquiries@adhdandautism.org
END:VEVENT
BEGIN:VEVENT
DTSTART;TZID=Europe/London:20260914T163000
DTEND;TZID=Europe/London:20260914T180000
DTSTAMP:20260419T232537
CREATED:20260106T130950Z
LAST-MODIFIED:20260223T145837Z
UID:10022323-1789403400-1789408800@adhdandautism.org
SUMMARY:Social Group for Young People (11-14) (2nd Monday)
DESCRIPTION:For ADHD/Autistic people in school years 7 to 9. Places must be booked. \nThrough games\, quizzes\, arts/crafts and discussion\, this group gives ADHD/autistic young people the opportunity to develop friendships and connections with other people as well as increase their understanding of what being neurodivergent means to them. \nPre-registration and session-booking are required.
URL:https://adhdandautism.org/event/social-group-2/2026-09-14/
LOCATION:Bay 20 Community Centre\, 71 St Marks Road\, London\, W10 6JG\, United Kingdom
CATEGORIES:Youth
ORGANIZER;CN="Karen Crocker":MAILTO:karen@adhdandautism.org
END:VEVENT
BEGIN:VEVENT
DTSTART;TZID=Europe/London:20260916T180000
DTEND;TZID=Europe/London:20260916T213000
DTSTAMP:20260419T232537
CREATED:20260323T182230Z
LAST-MODIFIED:20260323T182230Z
UID:10022784-1789581600-1789594200@adhdandautism.org
SUMMARY:Film Group (ages 14-17) (3rd Wednesday)
DESCRIPTION:If you enjoy watching and talking about movies\, this film group is for you. Choose the movies\, and enjoy some pizza and a chat about the film afterwards in a safe and supportive environment. Feel free to join online or in-person. Cost: £5 for takeaway. Places must be booked in advance. \nPre-registration and session booking are required.
URL:https://adhdandautism.org/event/film-group-younger-2/2026-09-16/
LOCATION:Centre for ADHD & Autism Support\, Television House 269 Field End Road\, Eastcote\, Middlesex\, HA4 9XA\, UK
CATEGORIES:Youth
END:VEVENT
BEGIN:VEVENT
DTSTART;TZID=Europe/London:20260916T183000
DTEND;TZID=Europe/London:20260916T200000
DTSTAMP:20260419T232537
CREATED:20230216T183219Z
LAST-MODIFIED:20260223T151209Z
UID:10008878-1789583400-1789588800@adhdandautism.org
SUMMARY:Thinking About Adulthood
DESCRIPTION:For autistic people aged 14-19 without a co-occurring learning disability resident in Harrow\, Brent\, Ealing\, Hillingdon\, Hounslow\, Hammersmith & Fulham\, Westminster\, and Kensington & Chelsea. \nA monthly online forum for young autistic people to explore what it means to become an adult. During the teen years there’s a lot of talk about ‘growing up’\, ‘being an adult’ without really discussing what that means. \nThese monthly sessions will provide a safe place to explore and ask those important questions\, work through any worries about ‘growing up’ and what ‘being an adult’ means. Register here. \nPre-registration and session booking are required.
URL:https://adhdandautism.org/event/thinking-about-adulthood/2026-09-16/
LOCATION:Online
CATEGORIES:Youth
ORGANIZER;CN="CAAS Enquiries":MAILTO:enquiries@adhdandautism.org
END:VEVENT
BEGIN:VEVENT
DTSTART;TZID=Europe/London:20260925T180000
DTEND;TZID=Europe/London:20260925T213000
DTSTAMP:20260419T232537
CREATED:20240731T130359Z
LAST-MODIFIED:20260106T140506Z
UID:10014842-1790359200-1790371800@adhdandautism.org
SUMMARY:Transition Film Group (ages 17-22) (4th Friday)
DESCRIPTION:Our film group combines socialising and meeting new people in a safe and supportive environment whist enjoying a takeaway. Films are suggested by the young people and facilitate discussion afterwards. The group may also go on cinema outings each year. Cost: £5 for takeaway / £20 for outings. Places must be booked in advance. \nPre-registration and session booking are required.
URL:https://adhdandautism.org/event/film-group-transition-2/2026-09-25/
LOCATION:CAAS Centre\, 269 Field End Road\, Eastcote\, HA4 9XA\, United Kingdom
CATEGORIES:Youth
ORGANIZER;CN="CAAS Enquiries":MAILTO:enquiries@adhdandautism.org
END:VEVENT
BEGIN:VEVENT
DTSTART;TZID=Europe/London:20261005T103000
DTEND;TZID=Europe/London:20261005T120000
DTSTAMP:20260419T232537
CREATED:20230216T174438Z
LAST-MODIFIED:20260330T103423Z
UID:10022927-1791196200-1791201600@adhdandautism.org
SUMMARY:Creative Club (1st Saturday)
DESCRIPTION:For Autistic or ADHD young people aged 8-12 living in Harrow or Hillingdon. Places must be booked. \nThis monthly group will feature creative activities such as music or art. The groups will enable those who face isolation a place to meet like-minded peers in a place that feels safe\, secure and accepting of difference.  You may be asked to create something in advance to discuss and share during the session. \nPre-registration and session booking are required.
URL:https://adhdandautism.org/event/creative-club/2026-10-05/
LOCATION:Centre for ADHD & Autism Support\, Television House 269 Field End Road\, Eastcote\, Middlesex\, HA4 9XA\, UK
CATEGORIES:Youth
ORGANIZER;CN="Niloofur Italia":MAILTO:niloofur@adhdandautism.org
END:VEVENT
BEGIN:VEVENT
DTSTART;TZID=Europe/London:20261005T123000
DTEND;TZID=Europe/London:20261005T140000
DTSTAMP:20260419T232537
CREATED:20241122T153819Z
LAST-MODIFIED:20260330T103332Z
UID:10022863-1791203400-1791208800@adhdandautism.org
SUMMARY:Creative Club Plus (1st Saturday)
DESCRIPTION:This monthly group will feature creative activities such as music or art. The group enables neurodivergent children to meet like-minded peers in a place that feels safe\, secure and accepting of their differences. It is an opportunity for friendships to develop through immersion in the creative process. \nFor ADHD/Autistic young people aged 12-15.
URL:https://adhdandautism.org/event/creative-club-plus/2026-10-05/
LOCATION:CAAS Centre\, 269 Field End Road\, Eastcote\, HA4 9XA\, United Kingdom
CATEGORIES:Youth
END:VEVENT
BEGIN:VEVENT
DTSTART;TZID=Europe/London:20261006T163000
DTEND;TZID=Europe/London:20261006T180000
DTSTAMP:20260419T232537
CREATED:20260106T130924Z
LAST-MODIFIED:20260223T145816Z
UID:10022264-1791304200-1791309600@adhdandautism.org
SUMMARY:Social Group for Young People (14-17) (1st Tuesday)
DESCRIPTION:For ADHD/Autistic people in school years 10 to 12. Places must be booked. \nThrough games\, quizzes\, arts/crafts and discussion\, this group gives ADHD/autistic young people the opportunity to develop friendships and connections with other people as well as increase their understanding of what being neurodivergent means to them. \nPre-registration and session-booking are required.
URL:https://adhdandautism.org/event/social-group-plus/2026-10-06/
LOCATION:Bay 20 Community Centre\, 71 St Marks Road\, London\, W10 6JG\, United Kingdom
CATEGORIES:Youth
ORGANIZER;CN="Karen Crocker":MAILTO:karen@adhdandautism.org
END:VEVENT
BEGIN:VEVENT
DTSTART;TZID=Europe/London:20261007T183000
DTEND;TZID=Europe/London:20261007T200000
DTSTAMP:20260419T232537
CREATED:20240731T120111Z
LAST-MODIFIED:20260223T150038Z
UID:10014716-1791397800-1791403200@adhdandautism.org
SUMMARY:Meet Up Group (17-24) (1st Wednesday)
DESCRIPTION:1st Wednesday of the month. Places must be booked. For ages 17-24 based in Harrow and Hillingdon. \nThrough games\, quizzes\, arts/crafts and discussion\, this group gives ADHD/autistic young people the opportunity to develop friendships and connections with other people as well as increase their understanding of what being neurodivergent means to them. \nPre-registration and session booking are required.
URL:https://adhdandautism.org/event/meet-up-group-2/2026-10-07/
CATEGORIES:Youth
ORGANIZER;CN="Karen Crocker":MAILTO:karen@adhdandautism.org
END:VEVENT
END:VCALENDAR