BEGIN:VCALENDAR
VERSION:2.0
PRODID:-//Centre for ADHD and Autism Support - ECPv6.15.20//NONSGML v1.0//EN
CALSCALE:GREGORIAN
METHOD:PUBLISH
X-WR-CALNAME:Centre for ADHD and Autism Support
X-ORIGINAL-URL:https://adhdandautism.org
X-WR-CALDESC:Events for Centre for ADHD and Autism Support
REFRESH-INTERVAL;VALUE=DURATION:PT1H
X-Robots-Tag:noindex
X-PUBLISHED-TTL:PT1H
BEGIN:VTIMEZONE
TZID:Europe/London
BEGIN:DAYLIGHT
TZOFFSETFROM:+0000
TZOFFSETTO:+0100
TZNAME:BST
DTSTART:20250330T010000
END:DAYLIGHT
BEGIN:STANDARD
TZOFFSETFROM:+0100
TZOFFSETTO:+0000
TZNAME:GMT
DTSTART:20251026T010000
END:STANDARD
BEGIN:DAYLIGHT
TZOFFSETFROM:+0000
TZOFFSETTO:+0100
TZNAME:BST
DTSTART:20260329T010000
END:DAYLIGHT
BEGIN:STANDARD
TZOFFSETFROM:+0100
TZOFFSETTO:+0000
TZNAME:GMT
DTSTART:20261025T010000
END:STANDARD
BEGIN:DAYLIGHT
TZOFFSETFROM:+0000
TZOFFSETTO:+0100
TZNAME:BST
DTSTART:20270328T010000
END:DAYLIGHT
BEGIN:STANDARD
TZOFFSETFROM:+0100
TZOFFSETTO:+0000
TZNAME:GMT
DTSTART:20271031T010000
END:STANDARD
BEGIN:DAYLIGHT
TZOFFSETFROM:+0000
TZOFFSETTO:+0100
TZNAME:BST
DTSTART:20280326T010000
END:DAYLIGHT
BEGIN:STANDARD
TZOFFSETFROM:+0100
TZOFFSETTO:+0000
TZNAME:GMT
DTSTART:20281029T010000
END:STANDARD
END:VTIMEZONE
BEGIN:VEVENT
DTSTART;TZID=Europe/London:20261105T103000
DTEND;TZID=Europe/London:20261105T120000
DTSTAMP:20260420T064900
CREATED:20230216T174438Z
LAST-MODIFIED:20260330T103423Z
UID:10022928-1793874600-1793880000@adhdandautism.org
SUMMARY:Creative Club (1st Saturday)
DESCRIPTION:For Autistic or ADHD young people aged 8-12 living in Harrow or Hillingdon. Places must be booked. \nThis monthly group will feature creative activities such as music or art. The groups will enable those who face isolation a place to meet like-minded peers in a place that feels safe\, secure and accepting of difference.  You may be asked to create something in advance to discuss and share during the session. \nPre-registration and session booking are required.
URL:https://adhdandautism.org/event/creative-club/2026-11-05/
LOCATION:Centre for ADHD & Autism Support\, Television House 269 Field End Road\, Eastcote\, Middlesex\, HA4 9XA\, UK
CATEGORIES:Youth
ORGANIZER;CN="Niloofur Italia":MAILTO:niloofur@adhdandautism.org
END:VEVENT
BEGIN:VEVENT
DTSTART;TZID=Europe/London:20261105T123000
DTEND;TZID=Europe/London:20261105T140000
DTSTAMP:20260420T064900
CREATED:20241122T153819Z
LAST-MODIFIED:20260330T103332Z
UID:10022864-1793881800-1793887200@adhdandautism.org
SUMMARY:Creative Club Plus (1st Saturday)
DESCRIPTION:This monthly group will feature creative activities such as music or art. The group enables neurodivergent children to meet like-minded peers in a place that feels safe\, secure and accepting of their differences. It is an opportunity for friendships to develop through immersion in the creative process. \nFor ADHD/Autistic young people aged 12-15.
URL:https://adhdandautism.org/event/creative-club-plus/2026-11-05/
LOCATION:CAAS Centre\, 269 Field End Road\, Eastcote\, HA4 9XA\, United Kingdom
CATEGORIES:Youth
END:VEVENT
BEGIN:VEVENT
DTSTART;TZID=Europe/London:20261109T163000
DTEND;TZID=Europe/London:20261109T180000
DTSTAMP:20260420T064900
CREATED:20260106T130950Z
LAST-MODIFIED:20260223T145837Z
UID:10022325-1794241800-1794247200@adhdandautism.org
SUMMARY:Social Group for Young People (11-14) (2nd Monday)
DESCRIPTION:For ADHD/Autistic people in school years 7 to 9. Places must be booked. \nThrough games\, quizzes\, arts/crafts and discussion\, this group gives ADHD/autistic young people the opportunity to develop friendships and connections with other people as well as increase their understanding of what being neurodivergent means to them. \nPre-registration and session-booking are required.
URL:https://adhdandautism.org/event/social-group-2/2026-11-09/
LOCATION:Bay 20 Community Centre\, 71 St Marks Road\, London\, W10 6JG\, United Kingdom
CATEGORIES:Youth
ORGANIZER;CN="Karen Crocker":MAILTO:karen@adhdandautism.org
END:VEVENT
BEGIN:VEVENT
DTSTART;TZID=Europe/London:20261110T180000
DTEND;TZID=Europe/London:20261110T193000
DTSTAMP:20260420T064900
CREATED:20260106T132527Z
LAST-MODIFIED:20260223T150217Z
UID:10022391-1794333600-1794339000@adhdandautism.org
SUMMARY:Nurture Group (2nd Tuesday)
DESCRIPTION:For ADHD/Autistic young people in school years 8-11. \nA calm space to meet people and explore interests like creative projects\, friendships\, wellbeing\, and everyday life challenges in an inclusive way. While the group is for high school ages\, we keep the focus on topics that feel nurturing and positive – conversations about things like sex\, drugs\, or alcohol will not be discussed in this group. All you need to be is yourself!
URL:https://adhdandautism.org/event/nurture-group-2nd-tuesday/2026-11-10/
LOCATION:Centre for ADHD & Autism Support\, Television House 269 Field End Road\, Eastcote\, Middlesex\, HA4 9XA\, UK
CATEGORIES:Youth
ORGANIZER;CN="Youth Team":MAILTO:enquiries@adhdandautism.org
END:VEVENT
BEGIN:VEVENT
DTSTART;TZID=Europe/London:20261118T180000
DTEND;TZID=Europe/London:20261118T213000
DTSTAMP:20260420T064900
CREATED:20260323T182230Z
LAST-MODIFIED:20260323T182230Z
UID:10022786-1795024800-1795037400@adhdandautism.org
SUMMARY:Film Group (ages 14-17) (3rd Wednesday)
DESCRIPTION:If you enjoy watching and talking about movies\, this film group is for you. Choose the movies\, and enjoy some pizza and a chat about the film afterwards in a safe and supportive environment. Feel free to join online or in-person. Cost: £5 for takeaway. Places must be booked in advance. \nPre-registration and session booking are required.
URL:https://adhdandautism.org/event/film-group-younger-2/2026-11-18/
LOCATION:Centre for ADHD & Autism Support\, Television House 269 Field End Road\, Eastcote\, Middlesex\, HA4 9XA\, UK
CATEGORIES:Youth
END:VEVENT
BEGIN:VEVENT
DTSTART;TZID=Europe/London:20261118T183000
DTEND;TZID=Europe/London:20261118T200000
DTSTAMP:20260420T064900
CREATED:20230216T183219Z
LAST-MODIFIED:20260223T151209Z
UID:10008879-1795026600-1795032000@adhdandautism.org
SUMMARY:Thinking About Adulthood
DESCRIPTION:For autistic people aged 14-19 without a co-occurring learning disability resident in Harrow\, Brent\, Ealing\, Hillingdon\, Hounslow\, Hammersmith & Fulham\, Westminster\, and Kensington & Chelsea. \nA monthly online forum for young autistic people to explore what it means to become an adult. During the teen years there’s a lot of talk about ‘growing up’\, ‘being an adult’ without really discussing what that means. \nThese monthly sessions will provide a safe place to explore and ask those important questions\, work through any worries about ‘growing up’ and what ‘being an adult’ means. Register here. \nPre-registration and session booking are required.
URL:https://adhdandautism.org/event/thinking-about-adulthood/2026-11-18/
LOCATION:Online
CATEGORIES:Youth
ORGANIZER;CN="CAAS Enquiries":MAILTO:enquiries@adhdandautism.org
END:VEVENT
BEGIN:VEVENT
DTSTART;TZID=Europe/London:20261127T180000
DTEND;TZID=Europe/London:20261127T213000
DTSTAMP:20260420T064900
CREATED:20240731T130359Z
LAST-MODIFIED:20260106T140506Z
UID:10014844-1795802400-1795815000@adhdandautism.org
SUMMARY:Transition Film Group (ages 17-22) (4th Friday)
DESCRIPTION:Our film group combines socialising and meeting new people in a safe and supportive environment whist enjoying a takeaway. Films are suggested by the young people and facilitate discussion afterwards. The group may also go on cinema outings each year. Cost: £5 for takeaway / £20 for outings. Places must be booked in advance. \nPre-registration and session booking are required.
URL:https://adhdandautism.org/event/film-group-transition-2/2026-11-27/
LOCATION:CAAS Centre\, 269 Field End Road\, Eastcote\, HA4 9XA\, United Kingdom
CATEGORIES:Youth
ORGANIZER;CN="CAAS Enquiries":MAILTO:enquiries@adhdandautism.org
END:VEVENT
BEGIN:VEVENT
DTSTART;TZID=Europe/London:20261201T163000
DTEND;TZID=Europe/London:20261201T180000
DTSTAMP:20260420T064900
CREATED:20260106T130924Z
LAST-MODIFIED:20260223T145816Z
UID:10022266-1796142600-1796148000@adhdandautism.org
SUMMARY:Social Group for Young People (14-17) (1st Tuesday)
DESCRIPTION:For ADHD/Autistic people in school years 10 to 12. Places must be booked. \nThrough games\, quizzes\, arts/crafts and discussion\, this group gives ADHD/autistic young people the opportunity to develop friendships and connections with other people as well as increase their understanding of what being neurodivergent means to them. \nPre-registration and session-booking are required.
URL:https://adhdandautism.org/event/social-group-plus/2026-12-01/
LOCATION:Bay 20 Community Centre\, 71 St Marks Road\, London\, W10 6JG\, United Kingdom
CATEGORIES:Youth
ORGANIZER;CN="Karen Crocker":MAILTO:karen@adhdandautism.org
END:VEVENT
BEGIN:VEVENT
DTSTART;TZID=Europe/London:20261202T183000
DTEND;TZID=Europe/London:20261202T200000
DTSTAMP:20260420T064900
CREATED:20240731T120111Z
LAST-MODIFIED:20260223T150038Z
UID:10014718-1796236200-1796241600@adhdandautism.org
SUMMARY:Meet Up Group (17-24) (1st Wednesday)
DESCRIPTION:1st Wednesday of the month. Places must be booked. For ages 17-24 based in Harrow and Hillingdon. \nThrough games\, quizzes\, arts/crafts and discussion\, this group gives ADHD/autistic young people the opportunity to develop friendships and connections with other people as well as increase their understanding of what being neurodivergent means to them. \nPre-registration and session booking are required.
URL:https://adhdandautism.org/event/meet-up-group-2/2026-12-02/
LOCATION:Middlesex
CATEGORIES:Youth
ORGANIZER;CN="Karen Crocker":MAILTO:karen@adhdandautism.org
END:VEVENT
BEGIN:VEVENT
DTSTART;TZID=Europe/London:20261205T103000
DTEND;TZID=Europe/London:20261205T120000
DTSTAMP:20260420T064900
CREATED:20230216T174438Z
LAST-MODIFIED:20260330T103423Z
UID:10018464-1796466600-1796472000@adhdandautism.org
SUMMARY:Creative Club (1st Saturday)
DESCRIPTION:For Autistic or ADHD young people aged 8-12 living in Harrow or Hillingdon. Places must be booked. \nThis monthly group will feature creative activities such as music or art. The groups will enable those who face isolation a place to meet like-minded peers in a place that feels safe\, secure and accepting of difference.  You may be asked to create something in advance to discuss and share during the session. \nPre-registration and session booking are required.
URL:https://adhdandautism.org/event/creative-club/2026-12-05/
LOCATION:Centre for ADHD & Autism Support\, Television House 269 Field End Road\, Eastcote\, Middlesex\, HA4 9XA\, UK
CATEGORIES:Youth
ORGANIZER;CN="Niloofur Italia":MAILTO:niloofur@adhdandautism.org
END:VEVENT
BEGIN:VEVENT
DTSTART;TZID=Europe/London:20261205T123000
DTEND;TZID=Europe/London:20261205T140000
DTSTAMP:20260420T064900
CREATED:20241122T153819Z
LAST-MODIFIED:20260330T103332Z
UID:10018247-1796473800-1796479200@adhdandautism.org
SUMMARY:Creative Club Plus (1st Saturday)
DESCRIPTION:This monthly group will feature creative activities such as music or art. The group enables neurodivergent children to meet like-minded peers in a place that feels safe\, secure and accepting of their differences. It is an opportunity for friendships to develop through immersion in the creative process. \nFor ADHD/Autistic young people aged 12-15.
URL:https://adhdandautism.org/event/creative-club-plus/2026-12-05/
LOCATION:CAAS Centre\, 269 Field End Road\, Eastcote\, HA4 9XA\, United Kingdom
CATEGORIES:Youth
END:VEVENT
BEGIN:VEVENT
DTSTART;TZID=Europe/London:20261208T180000
DTEND;TZID=Europe/London:20261208T193000
DTSTAMP:20260420T064900
CREATED:20260106T132527Z
LAST-MODIFIED:20260223T150217Z
UID:10022392-1796752800-1796758200@adhdandautism.org
SUMMARY:Nurture Group (2nd Tuesday)
DESCRIPTION:For ADHD/Autistic young people in school years 8-11. \nA calm space to meet people and explore interests like creative projects\, friendships\, wellbeing\, and everyday life challenges in an inclusive way. While the group is for high school ages\, we keep the focus on topics that feel nurturing and positive – conversations about things like sex\, drugs\, or alcohol will not be discussed in this group. All you need to be is yourself!
URL:https://adhdandautism.org/event/nurture-group-2nd-tuesday/2026-12-08/
LOCATION:Centre for ADHD & Autism Support\, Television House 269 Field End Road\, Eastcote\, Middlesex\, HA4 9XA\, UK
CATEGORIES:Youth
ORGANIZER;CN="Youth Team":MAILTO:enquiries@adhdandautism.org
END:VEVENT
BEGIN:VEVENT
DTSTART;TZID=Europe/London:20261214T163000
DTEND;TZID=Europe/London:20261214T180000
DTSTAMP:20260420T064900
CREATED:20260106T130950Z
LAST-MODIFIED:20260223T145837Z
UID:10022326-1797265800-1797271200@adhdandautism.org
SUMMARY:Social Group for Young People (11-14) (2nd Monday)
DESCRIPTION:For ADHD/Autistic people in school years 7 to 9. Places must be booked. \nThrough games\, quizzes\, arts/crafts and discussion\, this group gives ADHD/autistic young people the opportunity to develop friendships and connections with other people as well as increase their understanding of what being neurodivergent means to them. \nPre-registration and session-booking are required.
URL:https://adhdandautism.org/event/social-group-2/2026-12-14/
LOCATION:Bay 20 Community Centre\, 71 St Marks Road\, London\, W10 6JG\, United Kingdom
CATEGORIES:Youth
ORGANIZER;CN="Karen Crocker":MAILTO:karen@adhdandautism.org
END:VEVENT
BEGIN:VEVENT
DTSTART;TZID=Europe/London:20261216T180000
DTEND;TZID=Europe/London:20261216T213000
DTSTAMP:20260420T064900
CREATED:20260323T182230Z
LAST-MODIFIED:20260323T182230Z
UID:10022787-1797444000-1797456600@adhdandautism.org
SUMMARY:Film Group (ages 14-17) (3rd Wednesday)
DESCRIPTION:If you enjoy watching and talking about movies\, this film group is for you. Choose the movies\, and enjoy some pizza and a chat about the film afterwards in a safe and supportive environment. Feel free to join online or in-person. Cost: £5 for takeaway. Places must be booked in advance. \nPre-registration and session booking are required.
URL:https://adhdandautism.org/event/film-group-younger-2/2026-12-16/
LOCATION:Centre for ADHD & Autism Support\, Television House 269 Field End Road\, Eastcote\, Middlesex\, HA4 9XA\, UK
CATEGORIES:Youth
END:VEVENT
BEGIN:VEVENT
DTSTART;TZID=Europe/London:20261216T183000
DTEND;TZID=Europe/London:20261216T200000
DTSTAMP:20260420T064900
CREATED:20230216T183219Z
LAST-MODIFIED:20260223T151209Z
UID:10008880-1797445800-1797451200@adhdandautism.org
SUMMARY:Thinking About Adulthood
DESCRIPTION:For autistic people aged 14-19 without a co-occurring learning disability resident in Harrow\, Brent\, Ealing\, Hillingdon\, Hounslow\, Hammersmith & Fulham\, Westminster\, and Kensington & Chelsea. \nA monthly online forum for young autistic people to explore what it means to become an adult. During the teen years there’s a lot of talk about ‘growing up’\, ‘being an adult’ without really discussing what that means. \nThese monthly sessions will provide a safe place to explore and ask those important questions\, work through any worries about ‘growing up’ and what ‘being an adult’ means. Register here. \nPre-registration and session booking are required.
URL:https://adhdandautism.org/event/thinking-about-adulthood/2026-12-16/
LOCATION:Online
CATEGORIES:Youth
ORGANIZER;CN="CAAS Enquiries":MAILTO:enquiries@adhdandautism.org
END:VEVENT
BEGIN:VEVENT
DTSTART;TZID=Europe/London:20261225T180000
DTEND;TZID=Europe/London:20261225T213000
DTSTAMP:20260420T064900
CREATED:20240731T130359Z
LAST-MODIFIED:20260106T140506Z
UID:10014845-1798221600-1798234200@adhdandautism.org
SUMMARY:Transition Film Group (ages 17-22) (4th Friday)
DESCRIPTION:Our film group combines socialising and meeting new people in a safe and supportive environment whist enjoying a takeaway. Films are suggested by the young people and facilitate discussion afterwards. The group may also go on cinema outings each year. Cost: £5 for takeaway / £20 for outings. Places must be booked in advance. \nPre-registration and session booking are required.
URL:https://adhdandautism.org/event/film-group-transition-2/2026-12-25/
LOCATION:CAAS Centre\, 269 Field End Road\, Eastcote\, HA4 9XA\, United Kingdom
CATEGORIES:Youth
ORGANIZER;CN="CAAS Enquiries":MAILTO:enquiries@adhdandautism.org
END:VEVENT
BEGIN:VEVENT
DTSTART;TZID=Europe/London:20270105T103000
DTEND;TZID=Europe/London:20270105T120000
DTSTAMP:20260420T064900
CREATED:20230216T174438Z
LAST-MODIFIED:20260330T103423Z
UID:10022929-1799145000-1799150400@adhdandautism.org
SUMMARY:Creative Club (1st Saturday)
DESCRIPTION:For Autistic or ADHD young people aged 8-12 living in Harrow or Hillingdon. Places must be booked. \nThis monthly group will feature creative activities such as music or art. The groups will enable those who face isolation a place to meet like-minded peers in a place that feels safe\, secure and accepting of difference.  You may be asked to create something in advance to discuss and share during the session. \nPre-registration and session booking are required.
URL:https://adhdandautism.org/event/creative-club/2027-01-05/
LOCATION:Centre for ADHD & Autism Support\, Television House 269 Field End Road\, Eastcote\, Middlesex\, HA4 9XA\, UK
CATEGORIES:Youth
ORGANIZER;CN="Niloofur Italia":MAILTO:niloofur@adhdandautism.org
END:VEVENT
BEGIN:VEVENT
DTSTART;TZID=Europe/London:20270105T123000
DTEND;TZID=Europe/London:20270105T140000
DTSTAMP:20260420T064900
CREATED:20241122T153819Z
LAST-MODIFIED:20260330T103332Z
UID:10022865-1799152200-1799157600@adhdandautism.org
SUMMARY:Creative Club Plus (1st Saturday)
DESCRIPTION:This monthly group will feature creative activities such as music or art. The group enables neurodivergent children to meet like-minded peers in a place that feels safe\, secure and accepting of their differences. It is an opportunity for friendships to develop through immersion in the creative process. \nFor ADHD/Autistic young people aged 12-15.
URL:https://adhdandautism.org/event/creative-club-plus/2027-01-05/
LOCATION:CAAS Centre\, 269 Field End Road\, Eastcote\, HA4 9XA\, United Kingdom
CATEGORIES:Youth
END:VEVENT
BEGIN:VEVENT
DTSTART;TZID=Europe/London:20270105T163000
DTEND;TZID=Europe/London:20270105T180000
DTSTAMP:20260420T064900
CREATED:20260106T130924Z
LAST-MODIFIED:20260223T145816Z
UID:10022267-1799166600-1799172000@adhdandautism.org
SUMMARY:Social Group for Young People (14-17) (1st Tuesday)
DESCRIPTION:For ADHD/Autistic people in school years 10 to 12. Places must be booked. \nThrough games\, quizzes\, arts/crafts and discussion\, this group gives ADHD/autistic young people the opportunity to develop friendships and connections with other people as well as increase their understanding of what being neurodivergent means to them. \nPre-registration and session-booking are required.
URL:https://adhdandautism.org/event/social-group-plus/2027-01-05/
LOCATION:Bay 20 Community Centre\, 71 St Marks Road\, London\, W10 6JG\, United Kingdom
CATEGORIES:Youth
ORGANIZER;CN="Karen Crocker":MAILTO:karen@adhdandautism.org
END:VEVENT
BEGIN:VEVENT
DTSTART;TZID=Europe/London:20270106T183000
DTEND;TZID=Europe/London:20270106T200000
DTSTAMP:20260420T064900
CREATED:20240731T120111Z
LAST-MODIFIED:20260223T150038Z
UID:10014719-1799260200-1799265600@adhdandautism.org
SUMMARY:Meet Up Group (17-24) (1st Wednesday)
DESCRIPTION:1st Wednesday of the month. Places must be booked. For ages 17-24 based in Harrow and Hillingdon. \nThrough games\, quizzes\, arts/crafts and discussion\, this group gives ADHD/autistic young people the opportunity to develop friendships and connections with other people as well as increase their understanding of what being neurodivergent means to them. \nPre-registration and session booking are required.
URL:https://adhdandautism.org/event/meet-up-group-2/2027-01-06/
LOCATION:Middlesex
CATEGORIES:Youth
ORGANIZER;CN="Karen Crocker":MAILTO:karen@adhdandautism.org
END:VEVENT
BEGIN:VEVENT
DTSTART;TZID=Europe/London:20270111T163000
DTEND;TZID=Europe/London:20270111T180000
DTSTAMP:20260420T064900
CREATED:20260106T130950Z
LAST-MODIFIED:20260223T145837Z
UID:10022327-1799685000-1799690400@adhdandautism.org
SUMMARY:Social Group for Young People (11-14) (2nd Monday)
DESCRIPTION:For ADHD/Autistic people in school years 7 to 9. Places must be booked. \nThrough games\, quizzes\, arts/crafts and discussion\, this group gives ADHD/autistic young people the opportunity to develop friendships and connections with other people as well as increase their understanding of what being neurodivergent means to them. \nPre-registration and session-booking are required.
URL:https://adhdandautism.org/event/social-group-2/2027-01-11/
LOCATION:Bay 20 Community Centre\, 71 St Marks Road\, London\, W10 6JG\, United Kingdom
CATEGORIES:Youth
ORGANIZER;CN="Karen Crocker":MAILTO:karen@adhdandautism.org
END:VEVENT
BEGIN:VEVENT
DTSTART;TZID=Europe/London:20270112T180000
DTEND;TZID=Europe/London:20270112T193000
DTSTAMP:20260420T064900
CREATED:20260106T132527Z
LAST-MODIFIED:20260223T150217Z
UID:10022393-1799776800-1799782200@adhdandautism.org
SUMMARY:Nurture Group (2nd Tuesday)
DESCRIPTION:For ADHD/Autistic young people in school years 8-11. \nA calm space to meet people and explore interests like creative projects\, friendships\, wellbeing\, and everyday life challenges in an inclusive way. While the group is for high school ages\, we keep the focus on topics that feel nurturing and positive – conversations about things like sex\, drugs\, or alcohol will not be discussed in this group. All you need to be is yourself!
URL:https://adhdandautism.org/event/nurture-group-2nd-tuesday/2027-01-12/
LOCATION:Centre for ADHD & Autism Support\, Television House 269 Field End Road\, Eastcote\, Middlesex\, HA4 9XA\, UK
CATEGORIES:Youth
ORGANIZER;CN="Youth Team":MAILTO:enquiries@adhdandautism.org
END:VEVENT
BEGIN:VEVENT
DTSTART;TZID=Europe/London:20270120T180000
DTEND;TZID=Europe/London:20270120T213000
DTSTAMP:20260420T064900
CREATED:20260323T182230Z
LAST-MODIFIED:20260323T182230Z
UID:10022788-1800468000-1800480600@adhdandautism.org
SUMMARY:Film Group (ages 14-17) (3rd Wednesday)
DESCRIPTION:If you enjoy watching and talking about movies\, this film group is for you. Choose the movies\, and enjoy some pizza and a chat about the film afterwards in a safe and supportive environment. Feel free to join online or in-person. Cost: £5 for takeaway. Places must be booked in advance. \nPre-registration and session booking are required.
URL:https://adhdandautism.org/event/film-group-younger-2/2027-01-20/
LOCATION:Centre for ADHD & Autism Support\, Television House 269 Field End Road\, Eastcote\, Middlesex\, HA4 9XA\, UK
CATEGORIES:Youth
END:VEVENT
BEGIN:VEVENT
DTSTART;TZID=Europe/London:20270120T183000
DTEND;TZID=Europe/London:20270120T200000
DTSTAMP:20260420T064900
CREATED:20230216T183219Z
LAST-MODIFIED:20260223T151209Z
UID:10008881-1800469800-1800475200@adhdandautism.org
SUMMARY:Thinking About Adulthood
DESCRIPTION:For autistic people aged 14-19 without a co-occurring learning disability resident in Harrow\, Brent\, Ealing\, Hillingdon\, Hounslow\, Hammersmith & Fulham\, Westminster\, and Kensington & Chelsea. \nA monthly online forum for young autistic people to explore what it means to become an adult. During the teen years there’s a lot of talk about ‘growing up’\, ‘being an adult’ without really discussing what that means. \nThese monthly sessions will provide a safe place to explore and ask those important questions\, work through any worries about ‘growing up’ and what ‘being an adult’ means. Register here. \nPre-registration and session booking are required.
URL:https://adhdandautism.org/event/thinking-about-adulthood/2027-01-20/
LOCATION:Online
CATEGORIES:Youth
ORGANIZER;CN="CAAS Enquiries":MAILTO:enquiries@adhdandautism.org
END:VEVENT
BEGIN:VEVENT
DTSTART;TZID=Europe/London:20270122T180000
DTEND;TZID=Europe/London:20270122T213000
DTSTAMP:20260420T064900
CREATED:20240731T130359Z
LAST-MODIFIED:20260106T140506Z
UID:10014846-1800640800-1800653400@adhdandautism.org
SUMMARY:Transition Film Group (ages 17-22) (4th Friday)
DESCRIPTION:Our film group combines socialising and meeting new people in a safe and supportive environment whist enjoying a takeaway. Films are suggested by the young people and facilitate discussion afterwards. The group may also go on cinema outings each year. Cost: £5 for takeaway / £20 for outings. Places must be booked in advance. \nPre-registration and session booking are required.
URL:https://adhdandautism.org/event/film-group-transition-2/2027-01-22/
LOCATION:CAAS Centre\, 269 Field End Road\, Eastcote\, HA4 9XA\, United Kingdom
CATEGORIES:Youth
ORGANIZER;CN="CAAS Enquiries":MAILTO:enquiries@adhdandautism.org
END:VEVENT
BEGIN:VEVENT
DTSTART;TZID=Europe/London:20270202T163000
DTEND;TZID=Europe/London:20270202T180000
DTSTAMP:20260420T064900
CREATED:20260106T130924Z
LAST-MODIFIED:20260223T145816Z
UID:10022268-1801585800-1801591200@adhdandautism.org
SUMMARY:Social Group for Young People (14-17) (1st Tuesday)
DESCRIPTION:For ADHD/Autistic people in school years 10 to 12. Places must be booked. \nThrough games\, quizzes\, arts/crafts and discussion\, this group gives ADHD/autistic young people the opportunity to develop friendships and connections with other people as well as increase their understanding of what being neurodivergent means to them. \nPre-registration and session-booking are required.
URL:https://adhdandautism.org/event/social-group-plus/2027-02-02/
LOCATION:Bay 20 Community Centre\, 71 St Marks Road\, London\, W10 6JG\, United Kingdom
CATEGORIES:Youth
ORGANIZER;CN="Karen Crocker":MAILTO:karen@adhdandautism.org
END:VEVENT
BEGIN:VEVENT
DTSTART;TZID=Europe/London:20270203T183000
DTEND;TZID=Europe/London:20270203T200000
DTSTAMP:20260420T064900
CREATED:20240731T120111Z
LAST-MODIFIED:20260223T150038Z
UID:10014720-1801679400-1801684800@adhdandautism.org
SUMMARY:Meet Up Group (17-24) (1st Wednesday)
DESCRIPTION:1st Wednesday of the month. Places must be booked. For ages 17-24 based in Harrow and Hillingdon. \nThrough games\, quizzes\, arts/crafts and discussion\, this group gives ADHD/autistic young people the opportunity to develop friendships and connections with other people as well as increase their understanding of what being neurodivergent means to them. \nPre-registration and session booking are required.
URL:https://adhdandautism.org/event/meet-up-group-2/2027-02-03/
LOCATION:Middlesex
CATEGORIES:Youth
ORGANIZER;CN="Karen Crocker":MAILTO:karen@adhdandautism.org
END:VEVENT
BEGIN:VEVENT
DTSTART;TZID=Europe/London:20270205T103000
DTEND;TZID=Europe/London:20270205T120000
DTSTAMP:20260420T064900
CREATED:20230216T174438Z
LAST-MODIFIED:20260330T103423Z
UID:10022930-1801823400-1801828800@adhdandautism.org
SUMMARY:Creative Club (1st Saturday)
DESCRIPTION:For Autistic or ADHD young people aged 8-12 living in Harrow or Hillingdon. Places must be booked. \nThis monthly group will feature creative activities such as music or art. The groups will enable those who face isolation a place to meet like-minded peers in a place that feels safe\, secure and accepting of difference.  You may be asked to create something in advance to discuss and share during the session. \nPre-registration and session booking are required.
URL:https://adhdandautism.org/event/creative-club/2027-02-05/
LOCATION:Centre for ADHD & Autism Support\, Television House 269 Field End Road\, Eastcote\, Middlesex\, HA4 9XA\, UK
CATEGORIES:Youth
ORGANIZER;CN="Niloofur Italia":MAILTO:niloofur@adhdandautism.org
END:VEVENT
BEGIN:VEVENT
DTSTART;TZID=Europe/London:20270205T123000
DTEND;TZID=Europe/London:20270205T140000
DTSTAMP:20260420T064900
CREATED:20241122T153819Z
LAST-MODIFIED:20260330T103332Z
UID:10022866-1801830600-1801836000@adhdandautism.org
SUMMARY:Creative Club Plus (1st Saturday)
DESCRIPTION:This monthly group will feature creative activities such as music or art. The group enables neurodivergent children to meet like-minded peers in a place that feels safe\, secure and accepting of their differences. It is an opportunity for friendships to develop through immersion in the creative process. \nFor ADHD/Autistic young people aged 12-15.
URL:https://adhdandautism.org/event/creative-club-plus/2027-02-05/
LOCATION:CAAS Centre\, 269 Field End Road\, Eastcote\, HA4 9XA\, United Kingdom
CATEGORIES:Youth
END:VEVENT
BEGIN:VEVENT
DTSTART;TZID=Europe/London:20270208T163000
DTEND;TZID=Europe/London:20270208T180000
DTSTAMP:20260420T064900
CREATED:20260106T130950Z
LAST-MODIFIED:20260223T145837Z
UID:10022328-1802104200-1802109600@adhdandautism.org
SUMMARY:Social Group for Young People (11-14) (2nd Monday)
DESCRIPTION:For ADHD/Autistic people in school years 7 to 9. Places must be booked. \nThrough games\, quizzes\, arts/crafts and discussion\, this group gives ADHD/autistic young people the opportunity to develop friendships and connections with other people as well as increase their understanding of what being neurodivergent means to them. \nPre-registration and session-booking are required.
URL:https://adhdandautism.org/event/social-group-2/2027-02-08/
LOCATION:Bay 20 Community Centre\, 71 St Marks Road\, London\, W10 6JG\, United Kingdom
CATEGORIES:Youth
ORGANIZER;CN="Karen Crocker":MAILTO:karen@adhdandautism.org
END:VEVENT
END:VCALENDAR