BEGIN:VCALENDAR
VERSION:2.0
PRODID:-//Centre for ADHD and Autism Support - ECPv6.15.20//NONSGML v1.0//EN
CALSCALE:GREGORIAN
METHOD:PUBLISH
X-ORIGINAL-URL:https://adhdandautism.org
X-WR-CALDESC:Events for Centre for ADHD and Autism Support
REFRESH-INTERVAL;VALUE=DURATION:PT1H
X-Robots-Tag:noindex
X-PUBLISHED-TTL:PT1H
BEGIN:VTIMEZONE
TZID:Europe/London
BEGIN:DAYLIGHT
TZOFFSETFROM:+0000
TZOFFSETTO:+0100
TZNAME:BST
DTSTART:20240331T010000
END:DAYLIGHT
BEGIN:STANDARD
TZOFFSETFROM:+0100
TZOFFSETTO:+0000
TZNAME:GMT
DTSTART:20241027T010000
END:STANDARD
BEGIN:DAYLIGHT
TZOFFSETFROM:+0000
TZOFFSETTO:+0100
TZNAME:BST
DTSTART:20250330T010000
END:DAYLIGHT
BEGIN:STANDARD
TZOFFSETFROM:+0100
TZOFFSETTO:+0000
TZNAME:GMT
DTSTART:20251026T010000
END:STANDARD
BEGIN:DAYLIGHT
TZOFFSETFROM:+0000
TZOFFSETTO:+0100
TZNAME:BST
DTSTART:20260329T010000
END:DAYLIGHT
BEGIN:STANDARD
TZOFFSETFROM:+0100
TZOFFSETTO:+0000
TZNAME:GMT
DTSTART:20261025T010000
END:STANDARD
END:VTIMEZONE
BEGIN:VEVENT
DTSTART;TZID=Europe/London:20251119T183000
DTEND;TZID=Europe/London:20251119T200000
DTSTAMP:20260422T032204
CREATED:20230216T183219Z
LAST-MODIFIED:20260223T151209Z
UID:10008869-1763577000-1763582400@adhdandautism.org
SUMMARY:Thinking About Adulthood
DESCRIPTION:For autistic people aged 14-19 without a co-occurring learning disability resident in Harrow\, Brent\, Ealing\, Hillingdon\, Hounslow\, Hammersmith & Fulham\, Westminster\, and Kensington & Chelsea. \nA monthly online forum for young autistic people to explore what it means to become an adult. During the teen years there’s a lot of talk about ‘growing up’\, ‘being an adult’ without really discussing what that means. \nThese monthly sessions will provide a safe place to explore and ask those important questions\, work through any worries about ‘growing up’ and what ‘being an adult’ means. Register here. \nPre-registration and session booking are required.
URL:https://adhdandautism.org/event/thinking-about-adulthood/2025-11-19/
LOCATION:Online
CATEGORIES:Youth
ORGANIZER;CN="CAAS Enquiries":MAILTO:enquiries@adhdandautism.org
END:VEVENT
BEGIN:VEVENT
DTSTART;TZID=Europe/London:20251119T103000
DTEND;TZID=Europe/London:20251119T123000
DTSTAMP:20260422T032204
CREATED:20240909T181559Z
LAST-MODIFIED:20260223T145417Z
UID:10016692-1763548200-1763555400@adhdandautism.org
SUMMARY:Drop-In Support Group (CAAS) (Wednesdays and Fridays)
DESCRIPTION:The support sessions are a great introduction to our services where you can meet the Family Support Team\, find out about the help we can provide for you and your family\, as well as be able to connect with other parents/carers in a similar situation. Now open to residents of North-West London. \n 
URL:https://adhdandautism.org/event/daytime-drop-in/2025-11-19/
LOCATION:Middlesex
CATEGORIES:Parent / Carer
ORGANIZER;CN="CAAS Enquiries":MAILTO:enquiries@adhdandautism.org
END:VEVENT
BEGIN:VEVENT
DTSTART;TZID=Europe/London:20251119T103000
DTEND;TZID=Europe/London:20251119T120000
DTSTAMP:20260422T032204
CREATED:20250912T090042Z
LAST-MODIFIED:20251025T091438Z
UID:10020352-1763548200-1763553600@adhdandautism.org
SUMMARY:Drop-In Support Group (Bay20) (Wednesdays)
DESCRIPTION:The support sessions are a great introduction to our services: you can meet someone from both the Family Support and Youth Teams and find out about the help we can provide for you and your family\, as well as connect with other parents/carers in a similar situation. \n 
URL:https://adhdandautism.org/event/drop-in-support-group-bay20-wednesdays-2/2025-11-19/
LOCATION:Bay 20 Community Centre\, 71 St Marks Road\, London\, W10 6JG\, United Kingdom
CATEGORIES:Parent / Carer
ORGANIZER;CN="CAAS Enquiries":MAILTO:enquiries@adhdandautism.org
END:VEVENT
BEGIN:VEVENT
DTSTART;TZID=Europe/London:20251118T190000
DTEND;TZID=Europe/London:20251118T210000
DTSTAMP:20260422T032204
CREATED:20250701T090724Z
LAST-MODIFIED:20260106T135858Z
UID:10022474-1763492400-1763499600@adhdandautism.org
SUMMARY:Autistic Adults Social Group
DESCRIPTION:This group creates a space where individuals can discuss any issues in their lives\, their worries and anxieties in a safe\, non-judgmental environment. Discussions will be based on issues that impact daily life\, as well as celebrating successes. Alternative months will be a social event out in the community.
URL:https://adhdandautism.org/event/autistic-adults-social-group/2025-11-18/
LOCATION:CAAS Centre\, 269 Field End Road\, Eastcote\, HA4 9XA\, United Kingdom
CATEGORIES:Adults
ORGANIZER;CN="Adult Team":MAILTO:adults@adhdandautism.org
END:VEVENT
BEGIN:VEVENT
DTSTART;TZID=Europe/London:20251118T183000
DTEND;TZID=Europe/London:20251118T200000
DTSTAMP:20260422T032204
CREATED:20240707T091900Z
LAST-MODIFIED:20260106T124630Z
UID:10021408-1763490600-1763496000@adhdandautism.org
SUMMARY:Girls Group (3rd Tuesday)
DESCRIPTION:Apply in advance. For residents of Harrow and Hillingdon aged 11-16. \nGirls Group is a creative and nurturing space for young women. The group will aim to help the girls understand their diagnosis and learn strategies to help them manage. The format will be a mix of both discussion groups\, where a topic is picked each month and the group focus is on that topic\, and creative activities so there will be an opportunity to learn new skills\, and to be in a social environment that feels more natural and safe. \nPre-registration and session booking are required.
URL:https://adhdandautism.org/event/girls-group-4th-tuesday/2025-11-18/
LOCATION:CAAS Centre\, 269 Field End Road\, Eastcote\, HA4 9XA\, United Kingdom
CATEGORIES:Youth
ORGANIZER;CN="CAAS Enquiries":MAILTO:enquiries@adhdandautism.org
END:VEVENT
BEGIN:VEVENT
DTSTART;TZID=Europe/London:20251118T140000
DTEND;TZID=Europe/London:20251118T140000
DTSTAMP:20260422T032204
CREATED:20250902T102637Z
LAST-MODIFIED:20260223T150434Z
UID:10020001-1763474400-1763474400@adhdandautism.org
SUMMARY:Creative Coffee Connects (Drop-ins) - Bay20 (3rd Tuesday)
DESCRIPTION:If you’re an adult NWL resident who identifies as autistic or ADHD\, come along to one of our Coffee Connects drop-in sessions! \nWhether you’re interested in catching up with friends\, having a cuppa\, or just looking for a relaxing place to unwind with like-minded people – our drop-ins are for you. \nEven if you’re completely new to CAAS\, all are welcome. No registration necessary\, just pop by during one of the sessions for a snack\, a warm drink and some friendly chit-chat; free crafts available for anyone who would like to join in. \nThis session takes place in Bay20 Community Centre as part of Creative Coffee Drop-in’s efforts to go into different boroughs over the next few months. \n 
URL:https://adhdandautism.org/event/ccc-bay20/2025-11-18/
LOCATION:Bay 20 Community Centre\, 71 St Marks Road\, London\, W10 6JG\, United Kingdom
CATEGORIES:Adults
ORGANIZER;CN="Adult Team":MAILTO:adults@adhdandautism.org
END:VEVENT
BEGIN:VEVENT
DTSTART;TZID=Europe/London:20251117T190000
DTEND;TZID=Europe/London:20251117T210000
DTSTAMP:20260422T032204
CREATED:20250903T135845Z
LAST-MODIFIED:20250903T135851Z
UID:10020139-1763406000-1763413200@adhdandautism.org
SUMMARY:Women's Forum (Bay20) (3rd Monday)
DESCRIPTION:Closed Group – attendance by appointment only. \nThe aim of the group is to provide a safe\, non-judgmental forum for women to share their thoughts\, experiences and ideas. You may participate actively or passively: you can involve yourself in a group discussion or simply listen to what other women have to say. One topic is selected for discussion each month and advance notice of can be provided to those who wish to know. \n\n\n\n\nNew attendees must be autistic or think they might be on the autism spectrum\, a Harrow or Hillingdon resident\, complete a registration form and engage with an initial meeting with the group facilitators before attending these groups.
URL:https://adhdandautism.org/event/womens-forum-bay20-3rd-monday/2025-11-17/
LOCATION:Bay 20 Community Centre\, 71 St Marks Road\, London\, W10 6JG\, United Kingdom
CATEGORIES:Adults
ORGANIZER;CN="Adult Team":MAILTO:adults@adhdandautism.org
END:VEVENT
BEGIN:VEVENT
DTSTART;TZID=Europe/London:20251117T190000
DTEND;TZID=Europe/London:20251117T210000
DTSTAMP:20260422T032204
CREATED:20240519T143946Z
LAST-MODIFIED:20241003T144314Z
UID:10011146-1763406000-1763413200@adhdandautism.org
SUMMARY:Evening Drop In Support Group (3rd Monday)
DESCRIPTION:Now open to residents of North-West London. \nThe support sessions are a great introduction to our services where you can meet the Family Support Team\, find out about the help we can provide for you and your family\, as well as be able to connect with other parents/carers in a similar situation.
URL:https://adhdandautism.org/event/parent-carer-evening-drop-in/2025-11-17/
LOCATION:Centre for ADHD & Autism Support\, Television House 269 Field End Road\, Eastcote\, Middlesex\, HA4 9XA\, UK
CATEGORIES:Parent / Carer
ORGANIZER;CN="CAAS Enquiries":MAILTO:enquiries@adhdandautism.org
END:VEVENT
BEGIN:VEVENT
DTSTART;TZID=Europe/London:20251117T103000
DTEND;TZID=Europe/London:20251117T120000
DTSTAMP:20260422T032204
CREATED:20250912T090755Z
LAST-MODIFIED:20251025T091208Z
UID:10021142-1763375400-1763380800@adhdandautism.org
SUMMARY:Drop-In Support Group (WEST Youth Zone) (Mondays)
DESCRIPTION:The support sessions are a great introduction to our services: you can meet someone from both the Family Support and Youth Teams and find out about the help we can provide for you and your family\, as well as connect with other parents/carers in a similar situation. \n 
URL:https://adhdandautism.org/event/drop-in-west-youth-zone/2025-11-17/
LOCATION:WEST Youth Zone\, 2 EdCity Walk\, London\, W12 7TF\, United Kingdom
CATEGORIES:Parent / Carer
ORGANIZER;CN="CAAS Enquiries":MAILTO:enquiries@adhdandautism.org
END:VEVENT
BEGIN:VEVENT
DTSTART;TZID=Europe/London:20251114T103000
DTEND;TZID=Europe/London:20251114T123000
DTSTAMP:20260422T032204
CREATED:20240909T181559Z
LAST-MODIFIED:20260223T145417Z
UID:10016691-1763116200-1763123400@adhdandautism.org
SUMMARY:Drop-In Support Group (CAAS) (Wednesdays and Fridays)
DESCRIPTION:The support sessions are a great introduction to our services where you can meet the Family Support Team\, find out about the help we can provide for you and your family\, as well as be able to connect with other parents/carers in a similar situation. Now open to residents of North-West London. \n 
URL:https://adhdandautism.org/event/daytime-drop-in/2025-11-14/
LOCATION:Middlesex
CATEGORIES:Parent / Carer
ORGANIZER;CN="CAAS Enquiries":MAILTO:enquiries@adhdandautism.org
END:VEVENT
BEGIN:VEVENT
DTSTART;TZID=Europe/London:20251112T103000
DTEND;TZID=Europe/London:20251112T123000
DTSTAMP:20260422T032204
CREATED:20240909T181559Z
LAST-MODIFIED:20260223T145417Z
UID:10016690-1762943400-1762950600@adhdandautism.org
SUMMARY:Drop-In Support Group (CAAS) (Wednesdays and Fridays)
DESCRIPTION:The support sessions are a great introduction to our services where you can meet the Family Support Team\, find out about the help we can provide for you and your family\, as well as be able to connect with other parents/carers in a similar situation. Now open to residents of North-West London. \n 
URL:https://adhdandautism.org/event/daytime-drop-in/2025-11-12/
LOCATION:Middlesex
CATEGORIES:Parent / Carer
ORGANIZER;CN="CAAS Enquiries":MAILTO:enquiries@adhdandautism.org
END:VEVENT
BEGIN:VEVENT
DTSTART;TZID=Europe/London:20251112T103000
DTEND;TZID=Europe/London:20251112T120000
DTSTAMP:20260422T032204
CREATED:20250912T090042Z
LAST-MODIFIED:20251025T091438Z
UID:10020350-1762943400-1762948800@adhdandautism.org
SUMMARY:Drop-In Support Group (Bay20) (Wednesdays)
DESCRIPTION:The support sessions are a great introduction to our services: you can meet someone from both the Family Support and Youth Teams and find out about the help we can provide for you and your family\, as well as connect with other parents/carers in a similar situation. \n 
URL:https://adhdandautism.org/event/drop-in-support-group-bay20-wednesdays-2/2025-11-12/
LOCATION:Bay 20 Community Centre\, 71 St Marks Road\, London\, W10 6JG\, United Kingdom
CATEGORIES:Parent / Carer
ORGANIZER;CN="CAAS Enquiries":MAILTO:enquiries@adhdandautism.org
END:VEVENT
BEGIN:VEVENT
DTSTART;TZID=Europe/London:20251111T120000
DTEND;TZID=Europe/London:20251111T133000
DTSTAMP:20260422T032204
CREATED:20251014T143509Z
LAST-MODIFIED:20251216T133638Z
UID:10021791-1762862400-1762867800@adhdandautism.org
SUMMARY:Online Parents Drop-In (Tuesdays)
DESCRIPTION:Our online drop-in support groups are a wonderful opportunity to talk to our family support team\, who are here to offer guidance and support. Connect with other parents to share stories\, offer advice\, and build a supportive community. You are welcome whether your child is formally diagnosed\, on the pathway\, or if you suspect your child might need an assessment and want to know the next steps. \nFor residents of North-West London. \nRegister for Mondays: https://us06web.zoom.us/meeting/register/tZclcO-srDwrH9E6NF02XmLxHa3ueNh6Bbc5
URL:https://adhdandautism.org/event/online-parents-drop-in-tuesdays-2/2025-11-11/
LOCATION:Online
CATEGORIES:Parent / Carer
ORGANIZER;CN="CAAS Enquiries":MAILTO:enquiries@adhdandautism.org
END:VEVENT
BEGIN:VEVENT
DTSTART;TZID=Europe/London:20251111T110000
DTEND;TZID=Europe/London:20251111T130000
DTSTAMP:20260422T032204
CREATED:20230917T163937Z
LAST-MODIFIED:20260223T150152Z
UID:10005208-1762858800-1762866000@adhdandautism.org
SUMMARY:Exploring Autism (2nd Tuesday)
DESCRIPTION:Previously Understanding My Autism Pre-Diagnosis \n2nd Tuesday of the month. A group for undiagnosed Autistic adults based in Harrow\, Ealing\, Brent\, Hillingdon\, Hounslow\, Hammersmith & Fulham\, Kensington & Chelsea. \nA social space for adults waiting for their diagnostic appointment. The aim of this group is to learn more about what being autistic means to you and to meet other neurodivergent people.
URL:https://adhdandautism.org/event/exploring-autism/2025-11-11/
LOCATION:Middlesex
CATEGORIES:Adults
END:VEVENT
BEGIN:VEVENT
DTSTART;TZID=Europe/London:20251110T110000
DTEND;TZID=Europe/London:20251110T130000
DTSTAMP:20260422T032204
CREATED:20250714T124745Z
LAST-MODIFIED:20250714T124941Z
UID:10019833-1762772400-1762779600@adhdandautism.org
SUMMARY:Exploring Autism - Ashchurch
DESCRIPTION:2nd Tuesday of the month. A group for undiagnosed Autistic adults based in Harrow\, Ealing\, Brent\, Hillingdon\, Hounslow\, Hammersmith & Fulham\, Kensington & Chelsea. \nA social space for adults waiting for their diagnostic appointment. The aim of this group is to learn more about what being autistic means to you and to meet other neurodivergent people. \nThis session takes place in Ashchurch Community Hall as part of Exploring Autism‘s efforts to go into different boroughs over the next few months.
URL:https://adhdandautism.org/event/exploring-autism-ashchurch/2025-11-10/
LOCATION:Ashchurch\, 280 Goldhawk Road\, London\, W12 9PF\, United Kingdom
CATEGORIES:Adults
END:VEVENT
BEGIN:VEVENT
DTSTART;TZID=Europe/London:20251110T110000
DTEND;TZID=Europe/London:20251110T130000
DTSTAMP:20260422T032204
CREATED:20230218T184550Z
LAST-MODIFIED:20250903T135541Z
UID:10004621-1762772400-1762779600@adhdandautism.org
SUMMARY:PIP Workshop (2nd Monday)
DESCRIPTION:Personal Independence Payment (PIP) can help with extra living costs if you are autistic and based in Harrow\, Ealing\, Brent\, Hillingdon\, Hounslow\, Hammersmith & Fulham\, Kensington & Chelsea\, or Westminster. \nPersonal Independence Payment (PIP) can help with extra living costs if you are autistic. PIP Workshop is a hybrid (in-person and online) classroom-style space where you can bring your forms and have side-by-side or body doubling support. Get your forms done and ask our experienced staff any questions. \nThis workshop will be held hybrid online via ZOOM and at the Adult Hub.
URL:https://adhdandautism.org/event/pip-workshop/2025-11-10/
LOCATION:Centre for ADHD & Autism Support\, Television House 269 Field End Road\, Eastcote\, Middlesex\, HA4 9XA\, UK
CATEGORIES:Adults
ORGANIZER;CN="Adult Team":MAILTO:adults@adhdandautism.org
END:VEVENT
BEGIN:VEVENT
DTSTART;TZID=Europe/London:20251110T103000
DTEND;TZID=Europe/London:20251110T120000
DTSTAMP:20260422T032204
CREATED:20250912T090755Z
LAST-MODIFIED:20251025T091208Z
UID:10021141-1762770600-1762776000@adhdandautism.org
SUMMARY:Drop-In Support Group (WEST Youth Zone) (Mondays)
DESCRIPTION:The support sessions are a great introduction to our services: you can meet someone from both the Family Support and Youth Teams and find out about the help we can provide for you and your family\, as well as connect with other parents/carers in a similar situation. \n 
URL:https://adhdandautism.org/event/drop-in-west-youth-zone/2025-11-10/
LOCATION:WEST Youth Zone\, 2 EdCity Walk\, London\, W12 7TF\, United Kingdom
CATEGORIES:Parent / Carer
ORGANIZER;CN="CAAS Enquiries":MAILTO:enquiries@adhdandautism.org
END:VEVENT
BEGIN:VEVENT
DTSTART;TZID=Europe/London:20251107T103000
DTEND;TZID=Europe/London:20251107T123000
DTSTAMP:20260422T032204
CREATED:20240909T181559Z
LAST-MODIFIED:20260223T145417Z
UID:10016689-1762511400-1762518600@adhdandautism.org
SUMMARY:Drop-In Support Group (CAAS) (Wednesdays and Fridays)
DESCRIPTION:The support sessions are a great introduction to our services where you can meet the Family Support Team\, find out about the help we can provide for you and your family\, as well as be able to connect with other parents/carers in a similar situation. Now open to residents of North-West London. \n 
URL:https://adhdandautism.org/event/daytime-drop-in/2025-11-07/
LOCATION:Middlesex
CATEGORIES:Parent / Carer
ORGANIZER;CN="CAAS Enquiries":MAILTO:enquiries@adhdandautism.org
END:VEVENT
BEGIN:VEVENT
DTSTART;TZID=Europe/London:20251105T183000
DTEND;TZID=Europe/London:20251105T200000
DTSTAMP:20260422T032204
CREATED:20240731T120111Z
LAST-MODIFIED:20260223T150038Z
UID:10014705-1762367400-1762372800@adhdandautism.org
SUMMARY:Meet Up Group (17-24) (1st Wednesday)
DESCRIPTION:1st Wednesday of the month. Places must be booked. For ages 17-24 based in Harrow and Hillingdon. \nThrough games\, quizzes\, arts/crafts and discussion\, this group gives ADHD/autistic young people the opportunity to develop friendships and connections with other people as well as increase their understanding of what being neurodivergent means to them. \nPre-registration and session booking are required.
URL:https://adhdandautism.org/event/meet-up-group-2/2025-11-05/
LOCATION:Middlesex
CATEGORIES:Youth
ORGANIZER;CN="Karen Crocker":MAILTO:karen@adhdandautism.org
END:VEVENT
BEGIN:VEVENT
DTSTART;TZID=Europe/London:20251105T180000
DTEND;TZID=Europe/London:20251105T213000
DTSTAMP:20260422T032204
CREATED:20240707T100802Z
LAST-MODIFIED:20260223T145921Z
UID:10022179-1762365600-1762378200@adhdandautism.org
SUMMARY:Film Group (ages 14-17) (1st Wednesday)
DESCRIPTION:If you enjoy watching and talking about movies\, this film group is for you. Choose the movies\, and enjoy some pizza and a chat about the film afterwards in a safe and supportive environment. Feel free to join online or in-person. Cost: £5 for takeaway. Places must be booked in advance. \nPre-registration and session booking are required.
URL:https://adhdandautism.org/event/film-group-younger/2025-11-05/
LOCATION:Middlesex
CATEGORIES:Youth
END:VEVENT
BEGIN:VEVENT
DTSTART;TZID=Europe/London:20251105T123000
DTEND;TZID=Europe/London:20251105T140000
DTSTAMP:20260422T032204
CREATED:20241122T153819Z
LAST-MODIFIED:20260330T103332Z
UID:10022851-1762345800-1762351200@adhdandautism.org
SUMMARY:Creative Club Plus (1st Saturday)
DESCRIPTION:This monthly group will feature creative activities such as music or art. The group enables neurodivergent children to meet like-minded peers in a place that feels safe\, secure and accepting of their differences. It is an opportunity for friendships to develop through immersion in the creative process. \nFor ADHD/Autistic young people aged 12-15.
URL:https://adhdandautism.org/event/creative-club-plus/2025-11-05/
LOCATION:CAAS Centre\, 269 Field End Road\, Eastcote\, HA4 9XA\, United Kingdom
CATEGORIES:Youth
END:VEVENT
BEGIN:VEVENT
DTSTART;TZID=Europe/London:20251105T110000
DTEND;TZID=Europe/London:20251105T130000
DTSTAMP:20260422T032204
CREATED:20250302T201516Z
LAST-MODIFIED:20250903T140831Z
UID:10020212-1762340400-1762347600@adhdandautism.org
SUMMARY:Embracing Autism (Daytime)
DESCRIPTION:A group for diagnosed autistic adults based in Harrow\, Ealing\, Brent\, Hillingdon\, Hounslow\, Hammersmith & Fulham\, Kensington & Chelsea\, or Westminster to learn more about their diagnosis\, understand what it means to you\, and meet other autistic people. \n\nChallenging myths and perceptions\nEmpowerment through language and knowledge\nSensory differences and reasonable adjustments\nAutistic strengths\n\nA space to explore\, with other autistic adults and in confidence\, what your autism means to you. Sessions will explain what the latest research tells us about autism\, what autistic people say about autism\, what is out there to support you if needed\, but mostly\, the benefit of meeting other autistic people to learn and understand together what autism is for you.
URL:https://adhdandautism.org/event/embracing-autism-2-2/2025-11-05/
LOCATION:Middlesex
CATEGORIES:Adults
END:VEVENT
BEGIN:VEVENT
DTSTART;TZID=Europe/London:20251105T103000
DTEND;TZID=Europe/London:20251105T123000
DTSTAMP:20260422T032204
CREATED:20240909T181559Z
LAST-MODIFIED:20260223T145417Z
UID:10016688-1762338600-1762345800@adhdandautism.org
SUMMARY:Drop-In Support Group (CAAS) (Wednesdays and Fridays)
DESCRIPTION:The support sessions are a great introduction to our services where you can meet the Family Support Team\, find out about the help we can provide for you and your family\, as well as be able to connect with other parents/carers in a similar situation. Now open to residents of North-West London. \n 
URL:https://adhdandautism.org/event/daytime-drop-in/2025-11-05/
LOCATION:Middlesex
CATEGORIES:Parent / Carer
ORGANIZER;CN="CAAS Enquiries":MAILTO:enquiries@adhdandautism.org
END:VEVENT
BEGIN:VEVENT
DTSTART;TZID=Europe/London:20251105T103000
DTEND;TZID=Europe/London:20251105T120000
DTSTAMP:20260422T032204
CREATED:20250912T090042Z
LAST-MODIFIED:20251025T091438Z
UID:10020348-1762338600-1762344000@adhdandautism.org
SUMMARY:Drop-In Support Group (Bay20) (Wednesdays)
DESCRIPTION:The support sessions are a great introduction to our services: you can meet someone from both the Family Support and Youth Teams and find out about the help we can provide for you and your family\, as well as connect with other parents/carers in a similar situation. \n 
URL:https://adhdandautism.org/event/drop-in-support-group-bay20-wednesdays-2/2025-11-05/
LOCATION:Bay 20 Community Centre\, 71 St Marks Road\, London\, W10 6JG\, United Kingdom
CATEGORIES:Parent / Carer
ORGANIZER;CN="CAAS Enquiries":MAILTO:enquiries@adhdandautism.org
END:VEVENT
BEGIN:VEVENT
DTSTART;TZID=Europe/London:20251105T103000
DTEND;TZID=Europe/London:20251105T120000
DTSTAMP:20260422T032204
CREATED:20230216T174438Z
LAST-MODIFIED:20260330T103423Z
UID:10022915-1762338600-1762344000@adhdandautism.org
SUMMARY:Creative Club (1st Saturday)
DESCRIPTION:For Autistic or ADHD young people aged 8-12 living in Harrow or Hillingdon. Places must be booked. \nThis monthly group will feature creative activities such as music or art. The groups will enable those who face isolation a place to meet like-minded peers in a place that feels safe\, secure and accepting of difference.  You may be asked to create something in advance to discuss and share during the session. \nPre-registration and session booking are required.
URL:https://adhdandautism.org/event/creative-club/2025-11-05/
LOCATION:Centre for ADHD & Autism Support\, Television House 269 Field End Road\, Eastcote\, Middlesex\, HA4 9XA\, UK
CATEGORIES:Youth
ORGANIZER;CN="Niloofur Italia":MAILTO:niloofur@adhdandautism.org
END:VEVENT
BEGIN:VEVENT
DTSTART;TZID=Europe/London:20251104T163000
DTEND;TZID=Europe/London:20251104T180000
DTSTAMP:20260422T032204
CREATED:20260106T130924Z
LAST-MODIFIED:20260223T145816Z
UID:10022253-1762273800-1762279200@adhdandautism.org
SUMMARY:Social Group for Young People (14-17) (1st Tuesday)
DESCRIPTION:For ADHD/Autistic people in school years 10 to 12. Places must be booked. \nThrough games\, quizzes\, arts/crafts and discussion\, this group gives ADHD/autistic young people the opportunity to develop friendships and connections with other people as well as increase their understanding of what being neurodivergent means to them. \nPre-registration and session-booking are required.
URL:https://adhdandautism.org/event/social-group-plus/2025-11-04/
LOCATION:Bay 20 Community Centre\, 71 St Marks Road\, London\, W10 6JG\, United Kingdom
CATEGORIES:Youth
ORGANIZER;CN="Karen Crocker":MAILTO:karen@adhdandautism.org
END:VEVENT
BEGIN:VEVENT
DTSTART;TZID=Europe/London:20251104T163000
DTEND;TZID=Europe/London:20251104T180000
DTSTAMP:20260422T032204
CREATED:20240731T125711Z
LAST-MODIFIED:20260106T130915Z
UID:10014772-1762273800-1762279200@adhdandautism.org
SUMMARY:Social Group for Young People (11-14) (2nd Monday)
DESCRIPTION:For ADHD/Autistic people in school years 7 to 11. Places must be booked. \nThrough games\, quizzes\, arts/crafts and discussion\, this group gives ADHD/autistic young people the opportunity to develop friendships and connections with other people as well as increase their understanding of what being neurodivergent means to them. \nPre-registration and session-booking are required.
URL:https://adhdandautism.org/event/social-group/2025-11-04/
LOCATION:Middlesex
CATEGORIES:Youth
ORGANIZER;CN="Karen Crocker":MAILTO:karen@adhdandautism.org
END:VEVENT
BEGIN:VEVENT
DTSTART;TZID=Europe/London:20251103T190000
DTEND;TZID=Europe/London:20251103T210000
DTSTAMP:20260422T032204
CREATED:20230710T182205Z
LAST-MODIFIED:20260223T145502Z
UID:10003863-1762196400-1762203600@adhdandautism.org
SUMMARY:Supporters of Adults Drop-In (1st Monday)
DESCRIPTION:This online via ZOOM coffee evening is for Partners\, Parents and Supporters of Autistic and ADHD Adults based in Harrow\, Ealing\, Brent\, Hillingdon\, Hounslow\, Hammersmith & Fulham\, Kensington & Chelsea\, and Westminster. \nThe drop-in sessions are a great introduction to our services where you can meet the Adult Support Team and find out about the support we can provide for you and your family\, as well as meet other parents and partners in a similar situation. They provide the opportunity for parents\, carers and partners to relax in a safe\, non-judgemental environment. \nTwo members of the team are available to provide support during each evening session. Themed sessions are occasionally held.
URL:https://adhdandautism.org/event/parents-partners-supporters-drop-in/2025-11-03/
LOCATION:Centre for ADHD & Autism Support\, Television House 269 Field End Road\, Eastcote\, Middlesex\, HA4 9XA\, UK
CATEGORIES:Adults
END:VEVENT
BEGIN:VEVENT
DTSTART;TZID=Europe/London:20251103T110000
DTEND;TZID=Europe/London:20251103T130000
DTSTAMP:20260422T032204
CREATED:20240203T210936Z
LAST-MODIFIED:20260330T120212Z
UID:10010658-1762167600-1762174800@adhdandautism.org
SUMMARY:Creative Coffee Connects (Drop-ins) (1st Monday)
DESCRIPTION:If you’re an adult NWL resident who identifies as autistic or ADHD\, come along to one of our Coffee Connects drop-in sessions! \nWhether you’re interested in catching up with friends\, having a cuppa\, or just looking for a relaxing place to unwind with like-minded people – our drop-ins are for you. \nEven if you’re completely new to CAAS\, all are welcome. No registration necessary\, just pop by during one of the sessions for a snack\, a warm drink and some friendly chit-chat; free crafts available for anyone who would like to join in.
URL:https://adhdandautism.org/event/creative-coffee-connects-drop-ins-1st-monday/2025-11-03/
LOCATION:Centre for ADHD & Autism Support\, Television House 269 Field End Road\, Eastcote\, Middlesex\, HA4 9XA\, UK
CATEGORIES:Adults
END:VEVENT
BEGIN:VEVENT
DTSTART;TZID=Europe/London:20251103T103000
DTEND;TZID=Europe/London:20251103T120000
DTSTAMP:20260422T032204
CREATED:20250912T090755Z
LAST-MODIFIED:20251025T091208Z
UID:10021140-1762165800-1762171200@adhdandautism.org
SUMMARY:Drop-In Support Group (WEST Youth Zone) (Mondays)
DESCRIPTION:The support sessions are a great introduction to our services: you can meet someone from both the Family Support and Youth Teams and find out about the help we can provide for you and your family\, as well as connect with other parents/carers in a similar situation. \n 
URL:https://adhdandautism.org/event/drop-in-west-youth-zone/2025-11-03/
LOCATION:WEST Youth Zone\, 2 EdCity Walk\, London\, W12 7TF\, United Kingdom
CATEGORIES:Parent / Carer
ORGANIZER;CN="CAAS Enquiries":MAILTO:enquiries@adhdandautism.org
END:VEVENT
END:VCALENDAR