BEGIN:VCALENDAR
VERSION:2.0
PRODID:-//Centre for ADHD and Autism Support - ECPv6.15.20//NONSGML v1.0//EN
CALSCALE:GREGORIAN
METHOD:PUBLISH
X-WR-CALNAME:Centre for ADHD and Autism Support
X-ORIGINAL-URL:https://adhdandautism.org
X-WR-CALDESC:Events for Centre for ADHD and Autism Support
REFRESH-INTERVAL;VALUE=DURATION:PT1H
X-Robots-Tag:noindex
X-PUBLISHED-TTL:PT1H
BEGIN:VTIMEZONE
TZID:Europe/London
BEGIN:DAYLIGHT
TZOFFSETFROM:+0000
TZOFFSETTO:+0100
TZNAME:BST
DTSTART:20250330T010000
END:DAYLIGHT
BEGIN:STANDARD
TZOFFSETFROM:+0100
TZOFFSETTO:+0000
TZNAME:GMT
DTSTART:20251026T010000
END:STANDARD
BEGIN:DAYLIGHT
TZOFFSETFROM:+0000
TZOFFSETTO:+0100
TZNAME:BST
DTSTART:20260329T010000
END:DAYLIGHT
BEGIN:STANDARD
TZOFFSETFROM:+0100
TZOFFSETTO:+0000
TZNAME:GMT
DTSTART:20261025T010000
END:STANDARD
BEGIN:DAYLIGHT
TZOFFSETFROM:+0000
TZOFFSETTO:+0100
TZNAME:BST
DTSTART:20270328T010000
END:DAYLIGHT
BEGIN:STANDARD
TZOFFSETFROM:+0100
TZOFFSETTO:+0000
TZNAME:GMT
DTSTART:20271031T010000
END:STANDARD
BEGIN:DAYLIGHT
TZOFFSETFROM:+0000
TZOFFSETTO:+0100
TZNAME:BST
DTSTART:20280326T010000
END:DAYLIGHT
BEGIN:STANDARD
TZOFFSETFROM:+0100
TZOFFSETTO:+0000
TZNAME:GMT
DTSTART:20281029T010000
END:STANDARD
BEGIN:DAYLIGHT
TZOFFSETFROM:+0000
TZOFFSETTO:+0100
TZNAME:BST
DTSTART:20290325T010000
END:DAYLIGHT
BEGIN:STANDARD
TZOFFSETFROM:+0100
TZOFFSETTO:+0000
TZNAME:GMT
DTSTART:20291028T010000
END:STANDARD
END:VTIMEZONE
BEGIN:VEVENT
DTSTART;TZID=Europe/London:20260423T190000
DTEND;TZID=Europe/London:20260423T210000
DTSTAMP:20260419T161647
CREATED:20250701T091006Z
LAST-MODIFIED:20260223T150929Z
UID:10019647-1776970800-1776978000@adhdandautism.org
SUMMARY:Showcasing Group
DESCRIPTION:An in-person group for autistic adults to share their interests and passions with others. You can come along to watch and learn or be a speaker to info-dump in a safe space! Audience spots available for supporters.
URL:https://adhdandautism.org/event/showcasing-group/2026-04-23/
LOCATION:CAAS Centre\, 269 Field End Road\, Eastcote\, HA4 9XA\, United Kingdom
CATEGORIES:Adults
ORGANIZER;CN="Adult Team":MAILTO:adults@adhdandautism.org
END:VEVENT
BEGIN:VEVENT
DTSTART;TZID=Europe/London:20260528T190000
DTEND;TZID=Europe/London:20260528T210000
DTSTAMP:20260419T161647
CREATED:20250701T091006Z
LAST-MODIFIED:20260223T150929Z
UID:10019648-1779994800-1780002000@adhdandautism.org
SUMMARY:Showcasing Group
DESCRIPTION:An in-person group for autistic adults to share their interests and passions with others. You can come along to watch and learn or be a speaker to info-dump in a safe space! Audience spots available for supporters.
URL:https://adhdandautism.org/event/showcasing-group/2026-05-28/
LOCATION:CAAS Centre\, 269 Field End Road\, Eastcote\, HA4 9XA\, United Kingdom
CATEGORIES:Adults
ORGANIZER;CN="Adult Team":MAILTO:adults@adhdandautism.org
END:VEVENT
BEGIN:VEVENT
DTSTART;TZID=Europe/London:20260625T190000
DTEND;TZID=Europe/London:20260625T210000
DTSTAMP:20260419T161647
CREATED:20250701T091006Z
LAST-MODIFIED:20260223T150929Z
UID:10019649-1782414000-1782421200@adhdandautism.org
SUMMARY:Showcasing Group
DESCRIPTION:An in-person group for autistic adults to share their interests and passions with others. You can come along to watch and learn or be a speaker to info-dump in a safe space! Audience spots available for supporters.
URL:https://adhdandautism.org/event/showcasing-group/2026-06-25/
LOCATION:CAAS Centre\, 269 Field End Road\, Eastcote\, HA4 9XA\, United Kingdom
CATEGORIES:Adults
ORGANIZER;CN="Adult Team":MAILTO:adults@adhdandautism.org
END:VEVENT
BEGIN:VEVENT
DTSTART;TZID=Europe/London:20260723T190000
DTEND;TZID=Europe/London:20260723T210000
DTSTAMP:20260419T161647
CREATED:20250701T091006Z
LAST-MODIFIED:20260223T150929Z
UID:10019650-1784833200-1784840400@adhdandautism.org
SUMMARY:Showcasing Group
DESCRIPTION:An in-person group for autistic adults to share their interests and passions with others. You can come along to watch and learn or be a speaker to info-dump in a safe space! Audience spots available for supporters.
URL:https://adhdandautism.org/event/showcasing-group/2026-07-23/
LOCATION:CAAS Centre\, 269 Field End Road\, Eastcote\, HA4 9XA\, United Kingdom
CATEGORIES:Adults
ORGANIZER;CN="Adult Team":MAILTO:adults@adhdandautism.org
END:VEVENT
BEGIN:VEVENT
DTSTART;TZID=Europe/London:20260827T190000
DTEND;TZID=Europe/London:20260827T210000
DTSTAMP:20260419T161647
CREATED:20250701T091006Z
LAST-MODIFIED:20260223T150929Z
UID:10019651-1787857200-1787864400@adhdandautism.org
SUMMARY:Showcasing Group
DESCRIPTION:An in-person group for autistic adults to share their interests and passions with others. You can come along to watch and learn or be a speaker to info-dump in a safe space! Audience spots available for supporters.
URL:https://adhdandautism.org/event/showcasing-group/2026-08-27/
LOCATION:CAAS Centre\, 269 Field End Road\, Eastcote\, HA4 9XA\, United Kingdom
CATEGORIES:Adults
ORGANIZER;CN="Adult Team":MAILTO:adults@adhdandautism.org
END:VEVENT
BEGIN:VEVENT
DTSTART;TZID=Europe/London:20260924T190000
DTEND;TZID=Europe/London:20260924T210000
DTSTAMP:20260419T161647
CREATED:20250701T091006Z
LAST-MODIFIED:20260223T150929Z
UID:10019652-1790276400-1790283600@adhdandautism.org
SUMMARY:Showcasing Group
DESCRIPTION:An in-person group for autistic adults to share their interests and passions with others. You can come along to watch and learn or be a speaker to info-dump in a safe space! Audience spots available for supporters.
URL:https://adhdandautism.org/event/showcasing-group/2026-09-24/
LOCATION:CAAS Centre\, 269 Field End Road\, Eastcote\, HA4 9XA\, United Kingdom
CATEGORIES:Adults
ORGANIZER;CN="Adult Team":MAILTO:adults@adhdandautism.org
END:VEVENT
BEGIN:VEVENT
DTSTART;TZID=Europe/London:20261022T190000
DTEND;TZID=Europe/London:20261022T210000
DTSTAMP:20260419T161647
CREATED:20250701T091006Z
LAST-MODIFIED:20260223T150929Z
UID:10019653-1792695600-1792702800@adhdandautism.org
SUMMARY:Showcasing Group
DESCRIPTION:An in-person group for autistic adults to share their interests and passions with others. You can come along to watch and learn or be a speaker to info-dump in a safe space! Audience spots available for supporters.
URL:https://adhdandautism.org/event/showcasing-group/2026-10-22/
LOCATION:CAAS Centre\, 269 Field End Road\, Eastcote\, HA4 9XA\, United Kingdom
CATEGORIES:Adults
ORGANIZER;CN="Adult Team":MAILTO:adults@adhdandautism.org
END:VEVENT
BEGIN:VEVENT
DTSTART;TZID=Europe/London:20261126T190000
DTEND;TZID=Europe/London:20261126T210000
DTSTAMP:20260419T161647
CREATED:20250701T091006Z
LAST-MODIFIED:20260223T150929Z
UID:10019654-1795719600-1795726800@adhdandautism.org
SUMMARY:Showcasing Group
DESCRIPTION:An in-person group for autistic adults to share their interests and passions with others. You can come along to watch and learn or be a speaker to info-dump in a safe space! Audience spots available for supporters.
URL:https://adhdandautism.org/event/showcasing-group/2026-11-26/
LOCATION:CAAS Centre\, 269 Field End Road\, Eastcote\, HA4 9XA\, United Kingdom
CATEGORIES:Adults
ORGANIZER;CN="Adult Team":MAILTO:adults@adhdandautism.org
END:VEVENT
BEGIN:VEVENT
DTSTART;TZID=Europe/London:20261224T190000
DTEND;TZID=Europe/London:20261224T210000
DTSTAMP:20260419T161647
CREATED:20250701T091006Z
LAST-MODIFIED:20260223T150929Z
UID:10019655-1798138800-1798146000@adhdandautism.org
SUMMARY:Showcasing Group
DESCRIPTION:An in-person group for autistic adults to share their interests and passions with others. You can come along to watch and learn or be a speaker to info-dump in a safe space! Audience spots available for supporters.
URL:https://adhdandautism.org/event/showcasing-group/2026-12-24/
LOCATION:CAAS Centre\, 269 Field End Road\, Eastcote\, HA4 9XA\, United Kingdom
CATEGORIES:Adults
ORGANIZER;CN="Adult Team":MAILTO:adults@adhdandautism.org
END:VEVENT
BEGIN:VEVENT
DTSTART;TZID=Europe/London:20270128T190000
DTEND;TZID=Europe/London:20270128T210000
DTSTAMP:20260419T161647
CREATED:20250701T091006Z
LAST-MODIFIED:20260223T150929Z
UID:10019656-1801162800-1801170000@adhdandautism.org
SUMMARY:Showcasing Group
DESCRIPTION:An in-person group for autistic adults to share their interests and passions with others. You can come along to watch and learn or be a speaker to info-dump in a safe space! Audience spots available for supporters.
URL:https://adhdandautism.org/event/showcasing-group/2027-01-28/
LOCATION:CAAS Centre\, 269 Field End Road\, Eastcote\, HA4 9XA\, United Kingdom
CATEGORIES:Adults
ORGANIZER;CN="Adult Team":MAILTO:adults@adhdandautism.org
END:VEVENT
BEGIN:VEVENT
DTSTART;TZID=Europe/London:20270225T190000
DTEND;TZID=Europe/London:20270225T210000
DTSTAMP:20260419T161647
CREATED:20250701T091006Z
LAST-MODIFIED:20260223T150929Z
UID:10019657-1803582000-1803589200@adhdandautism.org
SUMMARY:Showcasing Group
DESCRIPTION:An in-person group for autistic adults to share their interests and passions with others. You can come along to watch and learn or be a speaker to info-dump in a safe space! Audience spots available for supporters.
URL:https://adhdandautism.org/event/showcasing-group/2027-02-25/
LOCATION:CAAS Centre\, 269 Field End Road\, Eastcote\, HA4 9XA\, United Kingdom
CATEGORIES:Adults
ORGANIZER;CN="Adult Team":MAILTO:adults@adhdandautism.org
END:VEVENT
BEGIN:VEVENT
DTSTART;TZID=Europe/London:20270325T190000
DTEND;TZID=Europe/London:20270325T210000
DTSTAMP:20260419T161647
CREATED:20250701T091006Z
LAST-MODIFIED:20260223T150929Z
UID:10019658-1806001200-1806008400@adhdandautism.org
SUMMARY:Showcasing Group
DESCRIPTION:An in-person group for autistic adults to share their interests and passions with others. You can come along to watch and learn or be a speaker to info-dump in a safe space! Audience spots available for supporters.
URL:https://adhdandautism.org/event/showcasing-group/2027-03-25/
LOCATION:CAAS Centre\, 269 Field End Road\, Eastcote\, HA4 9XA\, United Kingdom
CATEGORIES:Adults
ORGANIZER;CN="Adult Team":MAILTO:adults@adhdandautism.org
END:VEVENT
BEGIN:VEVENT
DTSTART;TZID=Europe/London:20270422T190000
DTEND;TZID=Europe/London:20270422T210000
DTSTAMP:20260419T161647
CREATED:20250701T091006Z
LAST-MODIFIED:20260223T150929Z
UID:10019659-1808420400-1808427600@adhdandautism.org
SUMMARY:Showcasing Group
DESCRIPTION:An in-person group for autistic adults to share their interests and passions with others. You can come along to watch and learn or be a speaker to info-dump in a safe space! Audience spots available for supporters.
URL:https://adhdandautism.org/event/showcasing-group/2027-04-22/
LOCATION:CAAS Centre\, 269 Field End Road\, Eastcote\, HA4 9XA\, United Kingdom
CATEGORIES:Adults
ORGANIZER;CN="Adult Team":MAILTO:adults@adhdandautism.org
END:VEVENT
BEGIN:VEVENT
DTSTART;TZID=Europe/London:20270527T190000
DTEND;TZID=Europe/London:20270527T210000
DTSTAMP:20260419T161647
CREATED:20250701T091006Z
LAST-MODIFIED:20260223T150929Z
UID:10019660-1811444400-1811451600@adhdandautism.org
SUMMARY:Showcasing Group
DESCRIPTION:An in-person group for autistic adults to share their interests and passions with others. You can come along to watch and learn or be a speaker to info-dump in a safe space! Audience spots available for supporters.
URL:https://adhdandautism.org/event/showcasing-group/2027-05-27/
LOCATION:CAAS Centre\, 269 Field End Road\, Eastcote\, HA4 9XA\, United Kingdom
CATEGORIES:Adults
ORGANIZER;CN="Adult Team":MAILTO:adults@adhdandautism.org
END:VEVENT
BEGIN:VEVENT
DTSTART;TZID=Europe/London:20270624T190000
DTEND;TZID=Europe/London:20270624T210000
DTSTAMP:20260419T161647
CREATED:20250701T091006Z
LAST-MODIFIED:20260223T150929Z
UID:10019661-1813863600-1813870800@adhdandautism.org
SUMMARY:Showcasing Group
DESCRIPTION:An in-person group for autistic adults to share their interests and passions with others. You can come along to watch and learn or be a speaker to info-dump in a safe space! Audience spots available for supporters.
URL:https://adhdandautism.org/event/showcasing-group/2027-06-24/
LOCATION:CAAS Centre\, 269 Field End Road\, Eastcote\, HA4 9XA\, United Kingdom
CATEGORIES:Adults
ORGANIZER;CN="Adult Team":MAILTO:adults@adhdandautism.org
END:VEVENT
BEGIN:VEVENT
DTSTART;TZID=Europe/London:20270722T190000
DTEND;TZID=Europe/London:20270722T210000
DTSTAMP:20260419T161647
CREATED:20250701T091006Z
LAST-MODIFIED:20260223T150929Z
UID:10019662-1816282800-1816290000@adhdandautism.org
SUMMARY:Showcasing Group
DESCRIPTION:An in-person group for autistic adults to share their interests and passions with others. You can come along to watch and learn or be a speaker to info-dump in a safe space! Audience spots available for supporters.
URL:https://adhdandautism.org/event/showcasing-group/2027-07-22/
LOCATION:CAAS Centre\, 269 Field End Road\, Eastcote\, HA4 9XA\, United Kingdom
CATEGORIES:Adults
ORGANIZER;CN="Adult Team":MAILTO:adults@adhdandautism.org
END:VEVENT
BEGIN:VEVENT
DTSTART;TZID=Europe/London:20270826T190000
DTEND;TZID=Europe/London:20270826T210000
DTSTAMP:20260419T161647
CREATED:20250701T091006Z
LAST-MODIFIED:20260223T150929Z
UID:10019663-1819306800-1819314000@adhdandautism.org
SUMMARY:Showcasing Group
DESCRIPTION:An in-person group for autistic adults to share their interests and passions with others. You can come along to watch and learn or be a speaker to info-dump in a safe space! Audience spots available for supporters.
URL:https://adhdandautism.org/event/showcasing-group/2027-08-26/
LOCATION:CAAS Centre\, 269 Field End Road\, Eastcote\, HA4 9XA\, United Kingdom
CATEGORIES:Adults
ORGANIZER;CN="Adult Team":MAILTO:adults@adhdandautism.org
END:VEVENT
BEGIN:VEVENT
DTSTART;TZID=Europe/London:20270923T190000
DTEND;TZID=Europe/London:20270923T210000
DTSTAMP:20260419T161647
CREATED:20250701T091006Z
LAST-MODIFIED:20260223T150929Z
UID:10019664-1821726000-1821733200@adhdandautism.org
SUMMARY:Showcasing Group
DESCRIPTION:An in-person group for autistic adults to share their interests and passions with others. You can come along to watch and learn or be a speaker to info-dump in a safe space! Audience spots available for supporters.
URL:https://adhdandautism.org/event/showcasing-group/2027-09-23/
LOCATION:CAAS Centre\, 269 Field End Road\, Eastcote\, HA4 9XA\, United Kingdom
CATEGORIES:Adults
ORGANIZER;CN="Adult Team":MAILTO:adults@adhdandautism.org
END:VEVENT
BEGIN:VEVENT
DTSTART;TZID=Europe/London:20271028T190000
DTEND;TZID=Europe/London:20271028T210000
DTSTAMP:20260419T161647
CREATED:20250701T091006Z
LAST-MODIFIED:20260223T150929Z
UID:10019665-1824750000-1824757200@adhdandautism.org
SUMMARY:Showcasing Group
DESCRIPTION:An in-person group for autistic adults to share their interests and passions with others. You can come along to watch and learn or be a speaker to info-dump in a safe space! Audience spots available for supporters.
URL:https://adhdandautism.org/event/showcasing-group/2027-10-28/
LOCATION:CAAS Centre\, 269 Field End Road\, Eastcote\, HA4 9XA\, United Kingdom
CATEGORIES:Adults
ORGANIZER;CN="Adult Team":MAILTO:adults@adhdandautism.org
END:VEVENT
BEGIN:VEVENT
DTSTART;TZID=Europe/London:20271125T190000
DTEND;TZID=Europe/London:20271125T210000
DTSTAMP:20260419T161647
CREATED:20250701T091006Z
LAST-MODIFIED:20260223T150929Z
UID:10019666-1827169200-1827176400@adhdandautism.org
SUMMARY:Showcasing Group
DESCRIPTION:An in-person group for autistic adults to share their interests and passions with others. You can come along to watch and learn or be a speaker to info-dump in a safe space! Audience spots available for supporters.
URL:https://adhdandautism.org/event/showcasing-group/2027-11-25/
LOCATION:CAAS Centre\, 269 Field End Road\, Eastcote\, HA4 9XA\, United Kingdom
CATEGORIES:Adults
ORGANIZER;CN="Adult Team":MAILTO:adults@adhdandautism.org
END:VEVENT
BEGIN:VEVENT
DTSTART;TZID=Europe/London:20271223T190000
DTEND;TZID=Europe/London:20271223T210000
DTSTAMP:20260419T161647
CREATED:20250701T091006Z
LAST-MODIFIED:20260223T150929Z
UID:10019667-1829588400-1829595600@adhdandautism.org
SUMMARY:Showcasing Group
DESCRIPTION:An in-person group for autistic adults to share their interests and passions with others. You can come along to watch and learn or be a speaker to info-dump in a safe space! Audience spots available for supporters.
URL:https://adhdandautism.org/event/showcasing-group/2027-12-23/
LOCATION:CAAS Centre\, 269 Field End Road\, Eastcote\, HA4 9XA\, United Kingdom
CATEGORIES:Adults
ORGANIZER;CN="Adult Team":MAILTO:adults@adhdandautism.org
END:VEVENT
BEGIN:VEVENT
DTSTART;TZID=Europe/London:20280127T190000
DTEND;TZID=Europe/London:20280127T210000
DTSTAMP:20260419T161647
CREATED:20250701T091006Z
LAST-MODIFIED:20260223T150929Z
UID:10019668-1832612400-1832619600@adhdandautism.org
SUMMARY:Showcasing Group
DESCRIPTION:An in-person group for autistic adults to share their interests and passions with others. You can come along to watch and learn or be a speaker to info-dump in a safe space! Audience spots available for supporters.
URL:https://adhdandautism.org/event/showcasing-group/2028-01-27/
LOCATION:CAAS Centre\, 269 Field End Road\, Eastcote\, HA4 9XA\, United Kingdom
CATEGORIES:Adults
ORGANIZER;CN="Adult Team":MAILTO:adults@adhdandautism.org
END:VEVENT
BEGIN:VEVENT
DTSTART;TZID=Europe/London:20280224T190000
DTEND;TZID=Europe/London:20280224T210000
DTSTAMP:20260419T161647
CREATED:20250701T091006Z
LAST-MODIFIED:20260223T150929Z
UID:10019669-1835031600-1835038800@adhdandautism.org
SUMMARY:Showcasing Group
DESCRIPTION:An in-person group for autistic adults to share their interests and passions with others. You can come along to watch and learn or be a speaker to info-dump in a safe space! Audience spots available for supporters.
URL:https://adhdandautism.org/event/showcasing-group/2028-02-24/
LOCATION:CAAS Centre\, 269 Field End Road\, Eastcote\, HA4 9XA\, United Kingdom
CATEGORIES:Adults
ORGANIZER;CN="Adult Team":MAILTO:adults@adhdandautism.org
END:VEVENT
BEGIN:VEVENT
DTSTART;TZID=Europe/London:20280323T190000
DTEND;TZID=Europe/London:20280323T210000
DTSTAMP:20260419T161647
CREATED:20250701T091006Z
LAST-MODIFIED:20260223T150929Z
UID:10019670-1837450800-1837458000@adhdandautism.org
SUMMARY:Showcasing Group
DESCRIPTION:An in-person group for autistic adults to share their interests and passions with others. You can come along to watch and learn or be a speaker to info-dump in a safe space! Audience spots available for supporters.
URL:https://adhdandautism.org/event/showcasing-group/2028-03-23/
LOCATION:CAAS Centre\, 269 Field End Road\, Eastcote\, HA4 9XA\, United Kingdom
CATEGORIES:Adults
ORGANIZER;CN="Adult Team":MAILTO:adults@adhdandautism.org
END:VEVENT
BEGIN:VEVENT
DTSTART;TZID=Europe/London:20280427T190000
DTEND;TZID=Europe/London:20280427T210000
DTSTAMP:20260419T161647
CREATED:20250701T091006Z
LAST-MODIFIED:20260223T150929Z
UID:10019671-1840474800-1840482000@adhdandautism.org
SUMMARY:Showcasing Group
DESCRIPTION:An in-person group for autistic adults to share their interests and passions with others. You can come along to watch and learn or be a speaker to info-dump in a safe space! Audience spots available for supporters.
URL:https://adhdandautism.org/event/showcasing-group/2028-04-27/
LOCATION:CAAS Centre\, 269 Field End Road\, Eastcote\, HA4 9XA\, United Kingdom
CATEGORIES:Adults
ORGANIZER;CN="Adult Team":MAILTO:adults@adhdandautism.org
END:VEVENT
BEGIN:VEVENT
DTSTART;TZID=Europe/London:20280525T190000
DTEND;TZID=Europe/London:20280525T210000
DTSTAMP:20260419T161647
CREATED:20250701T091006Z
LAST-MODIFIED:20260223T150929Z
UID:10019672-1842894000-1842901200@adhdandautism.org
SUMMARY:Showcasing Group
DESCRIPTION:An in-person group for autistic adults to share their interests and passions with others. You can come along to watch and learn or be a speaker to info-dump in a safe space! Audience spots available for supporters.
URL:https://adhdandautism.org/event/showcasing-group/2028-05-25/
LOCATION:CAAS Centre\, 269 Field End Road\, Eastcote\, HA4 9XA\, United Kingdom
CATEGORIES:Adults
ORGANIZER;CN="Adult Team":MAILTO:adults@adhdandautism.org
END:VEVENT
BEGIN:VEVENT
DTSTART;TZID=Europe/London:20280622T190000
DTEND;TZID=Europe/London:20280622T210000
DTSTAMP:20260419T161647
CREATED:20250701T091006Z
LAST-MODIFIED:20260223T150929Z
UID:10019673-1845313200-1845320400@adhdandautism.org
SUMMARY:Showcasing Group
DESCRIPTION:An in-person group for autistic adults to share their interests and passions with others. You can come along to watch and learn or be a speaker to info-dump in a safe space! Audience spots available for supporters.
URL:https://adhdandautism.org/event/showcasing-group/2028-06-22/
LOCATION:CAAS Centre\, 269 Field End Road\, Eastcote\, HA4 9XA\, United Kingdom
CATEGORIES:Adults
ORGANIZER;CN="Adult Team":MAILTO:adults@adhdandautism.org
END:VEVENT
BEGIN:VEVENT
DTSTART;TZID=Europe/London:20280727T190000
DTEND;TZID=Europe/London:20280727T210000
DTSTAMP:20260419T161647
CREATED:20250701T091006Z
LAST-MODIFIED:20260223T150929Z
UID:10019674-1848337200-1848344400@adhdandautism.org
SUMMARY:Showcasing Group
DESCRIPTION:An in-person group for autistic adults to share their interests and passions with others. You can come along to watch and learn or be a speaker to info-dump in a safe space! Audience spots available for supporters.
URL:https://adhdandautism.org/event/showcasing-group/2028-07-27/
LOCATION:CAAS Centre\, 269 Field End Road\, Eastcote\, HA4 9XA\, United Kingdom
CATEGORIES:Adults
ORGANIZER;CN="Adult Team":MAILTO:adults@adhdandautism.org
END:VEVENT
BEGIN:VEVENT
DTSTART;TZID=Europe/London:20280824T190000
DTEND;TZID=Europe/London:20280824T210000
DTSTAMP:20260419T161647
CREATED:20250701T091006Z
LAST-MODIFIED:20260223T150929Z
UID:10019675-1850756400-1850763600@adhdandautism.org
SUMMARY:Showcasing Group
DESCRIPTION:An in-person group for autistic adults to share their interests and passions with others. You can come along to watch and learn or be a speaker to info-dump in a safe space! Audience spots available for supporters.
URL:https://adhdandautism.org/event/showcasing-group/2028-08-24/
LOCATION:CAAS Centre\, 269 Field End Road\, Eastcote\, HA4 9XA\, United Kingdom
CATEGORIES:Adults
ORGANIZER;CN="Adult Team":MAILTO:adults@adhdandautism.org
END:VEVENT
BEGIN:VEVENT
DTSTART;TZID=Europe/London:20280928T190000
DTEND;TZID=Europe/London:20280928T210000
DTSTAMP:20260419T161647
CREATED:20250701T091006Z
LAST-MODIFIED:20260223T150929Z
UID:10019676-1853780400-1853787600@adhdandautism.org
SUMMARY:Showcasing Group
DESCRIPTION:An in-person group for autistic adults to share their interests and passions with others. You can come along to watch and learn or be a speaker to info-dump in a safe space! Audience spots available for supporters.
URL:https://adhdandautism.org/event/showcasing-group/2028-09-28/
LOCATION:CAAS Centre\, 269 Field End Road\, Eastcote\, HA4 9XA\, United Kingdom
CATEGORIES:Adults
ORGANIZER;CN="Adult Team":MAILTO:adults@adhdandautism.org
END:VEVENT
END:VCALENDAR