BEGIN:VCALENDAR
VERSION:2.0
PRODID:-//Centre for ADHD and Autism Support - ECPv6.15.20//NONSGML v1.0//EN
CALSCALE:GREGORIAN
METHOD:PUBLISH
X-WR-CALNAME:Centre for ADHD and Autism Support
X-ORIGINAL-URL:https://adhdandautism.org
X-WR-CALDESC:Events for Centre for ADHD and Autism Support
REFRESH-INTERVAL;VALUE=DURATION:PT1H
X-Robots-Tag:noindex
X-PUBLISHED-TTL:PT1H
BEGIN:VTIMEZONE
TZID:Europe/London
BEGIN:DAYLIGHT
TZOFFSETFROM:+0000
TZOFFSETTO:+0100
TZNAME:BST
DTSTART:20240331T010000
END:DAYLIGHT
BEGIN:STANDARD
TZOFFSETFROM:+0100
TZOFFSETTO:+0000
TZNAME:GMT
DTSTART:20241027T010000
END:STANDARD
BEGIN:DAYLIGHT
TZOFFSETFROM:+0000
TZOFFSETTO:+0100
TZNAME:BST
DTSTART:20250330T010000
END:DAYLIGHT
BEGIN:STANDARD
TZOFFSETFROM:+0100
TZOFFSETTO:+0000
TZNAME:GMT
DTSTART:20251026T010000
END:STANDARD
BEGIN:DAYLIGHT
TZOFFSETFROM:+0000
TZOFFSETTO:+0100
TZNAME:BST
DTSTART:20260329T010000
END:DAYLIGHT
BEGIN:STANDARD
TZOFFSETFROM:+0100
TZOFFSETTO:+0000
TZNAME:GMT
DTSTART:20261025T010000
END:STANDARD
END:VTIMEZONE
BEGIN:VEVENT
DTSTART;TZID=Europe/London:20251028T150000
DTEND;TZID=Europe/London:20251028T170000
DTSTAMP:20260421T203504
CREATED:20260305T204635Z
LAST-MODIFIED:20260421T111737Z
UID:10022999-1761663600-1761670800@adhdandautism.org
SUMMARY:Adult ADHD Group (4th Tuesday)
DESCRIPTION:For adults who have a diagnosis of ADHD or who suspect they have ADHD and are who a resident of Harrow and Hillingdon. \nThe adult ADHD group provides a safe and non-judgemental environment for adults to come and explore what it means to have a diagnosis of ADHD\, and to get help and support with issues arising in their everyday lives.
URL:https://adhdandautism.org/event/adult-adhd-group-online-4th-tuesday/2025-10-28/
LOCATION:CAAS Centre\, 269 Field End Road\, Eastcote\, HA4 9XA\, United Kingdom
CATEGORIES:Adults
ORGANIZER;CN="Adult Team":MAILTO:adults@adhdandautism.org
END:VEVENT
BEGIN:VEVENT
DTSTART;TZID=Europe/London:20251028T150000
DTEND;TZID=Europe/London:20251028T170000
DTSTAMP:20260421T203504
CREATED:20230522T111205Z
LAST-MODIFIED:20260421T111122Z
UID:10022667-1761663600-1761670800@adhdandautism.org
SUMMARY:Adult ADHD Group - in-person (4th Tuesday)
DESCRIPTION:For adults who have a diagnosis of ADHD or who suspect they have ADHD and are who a resident of Harrow and Hillingdon. \nThe adult ADHD group provides a safe and non-judgemental environment for adults to come and explore what it means to have a diagnosis of ADHD\, and to get help and support with issues arising in their everyday lives.
URL:https://adhdandautism.org/event/adult-adhd-group-tuesday-in-person/2025-10-28/
LOCATION:Centre for ADHD & Autism Support\, Television House 269 Field End Road\, Eastcote\, Middlesex\, HA4 9XA\, UK
CATEGORIES:Adults
ORGANIZER;CN="Adult Team":MAILTO:adults@adhdandautism.org
END:VEVENT
BEGIN:VEVENT
DTSTART;TZID=Europe/London:20251013T190000
DTEND;TZID=Europe/London:20251013T210000
DTSTAMP:20260421T203504
CREATED:20230522T111303Z
LAST-MODIFIED:20260421T111838Z
UID:10014224-1760382000-1760389200@adhdandautism.org
SUMMARY:Adult ADHD Evening Group - in-person (2nd Monday)
DESCRIPTION:For adults who have a diagnosis of ADHD or who suspect they have ADHD and are who a resident of Harrow and Hillingdon. \nThe adult ADHD group provides a safe and non-judgemental environment for adults to come and explore what it means to have a diagnosis of ADHD\, and to get help and support with issues arising in their everyday lives. Alternating months in-person and online.
URL:https://adhdandautism.org/event/adult-adhd-group-monday/2025-10-13/
LOCATION:CAAS Centre\, 269 Field End Road\, Eastcote\, HA4 9XA\, United Kingdom
CATEGORIES:Adults
ORGANIZER;CN="Adult Team":MAILTO:adults@adhdandautism.org
END:VEVENT
BEGIN:VEVENT
DTSTART;TZID=Europe/London:20250923T150000
DTEND;TZID=Europe/London:20250923T170000
DTSTAMP:20260421T203504
CREATED:20260305T204635Z
LAST-MODIFIED:20260421T111737Z
UID:10022631-1758639600-1758646800@adhdandautism.org
SUMMARY:Adult ADHD Group (4th Tuesday)
DESCRIPTION:For adults who have a diagnosis of ADHD or who suspect they have ADHD and are who a resident of Harrow and Hillingdon. \nThe adult ADHD group provides a safe and non-judgemental environment for adults to come and explore what it means to have a diagnosis of ADHD\, and to get help and support with issues arising in their everyday lives.
URL:https://adhdandautism.org/event/adult-adhd-group-online-4th-tuesday/2025-09-23/
LOCATION:CAAS Centre\, 269 Field End Road\, Eastcote\, HA4 9XA\, United Kingdom
CATEGORIES:Adults
ORGANIZER;CN="Adult Team":MAILTO:adults@adhdandautism.org
END:VEVENT
BEGIN:VEVENT
DTSTART;TZID=Europe/London:20250826T150000
DTEND;TZID=Europe/London:20250826T170000
DTSTAMP:20260421T203504
CREATED:20260305T204635Z
LAST-MODIFIED:20260421T111737Z
UID:10022998-1756220400-1756227600@adhdandautism.org
SUMMARY:Adult ADHD Group (4th Tuesday)
DESCRIPTION:For adults who have a diagnosis of ADHD or who suspect they have ADHD and are who a resident of Harrow and Hillingdon. \nThe adult ADHD group provides a safe and non-judgemental environment for adults to come and explore what it means to have a diagnosis of ADHD\, and to get help and support with issues arising in their everyday lives.
URL:https://adhdandautism.org/event/adult-adhd-group-online-4th-tuesday/2025-08-26/
LOCATION:CAAS Centre\, 269 Field End Road\, Eastcote\, HA4 9XA\, United Kingdom
CATEGORIES:Adults
ORGANIZER;CN="Adult Team":MAILTO:adults@adhdandautism.org
END:VEVENT
BEGIN:VEVENT
DTSTART;TZID=Europe/London:20250826T150000
DTEND;TZID=Europe/London:20250826T170000
DTSTAMP:20260421T203504
CREATED:20230522T111205Z
LAST-MODIFIED:20260421T111122Z
UID:10022666-1756220400-1756227600@adhdandautism.org
SUMMARY:Adult ADHD Group - in-person (4th Tuesday)
DESCRIPTION:For adults who have a diagnosis of ADHD or who suspect they have ADHD and are who a resident of Harrow and Hillingdon. \nThe adult ADHD group provides a safe and non-judgemental environment for adults to come and explore what it means to have a diagnosis of ADHD\, and to get help and support with issues arising in their everyday lives.
URL:https://adhdandautism.org/event/adult-adhd-group-tuesday-in-person/2025-08-26/
LOCATION:Centre for ADHD & Autism Support\, Television House 269 Field End Road\, Eastcote\, Middlesex\, HA4 9XA\, UK
CATEGORIES:Adults
ORGANIZER;CN="Adult Team":MAILTO:adults@adhdandautism.org
END:VEVENT
BEGIN:VEVENT
DTSTART;TZID=Europe/London:20250811T190000
DTEND;TZID=Europe/London:20250811T210000
DTSTAMP:20260421T203504
CREATED:20230522T111303Z
LAST-MODIFIED:20260421T111838Z
UID:10014222-1754938800-1754946000@adhdandautism.org
SUMMARY:Adult ADHD Evening Group - in-person (2nd Monday)
DESCRIPTION:For adults who have a diagnosis of ADHD or who suspect they have ADHD and are who a resident of Harrow and Hillingdon. \nThe adult ADHD group provides a safe and non-judgemental environment for adults to come and explore what it means to have a diagnosis of ADHD\, and to get help and support with issues arising in their everyday lives. Alternating months in-person and online.
URL:https://adhdandautism.org/event/adult-adhd-group-monday/2025-08-11/
LOCATION:CAAS Centre\, 269 Field End Road\, Eastcote\, HA4 9XA\, United Kingdom
CATEGORIES:Adults
ORGANIZER;CN="Adult Team":MAILTO:adults@adhdandautism.org
END:VEVENT
BEGIN:VEVENT
DTSTART;TZID=Europe/London:20250722T150000
DTEND;TZID=Europe/London:20250722T170000
DTSTAMP:20260421T203504
CREATED:20260305T204635Z
LAST-MODIFIED:20260421T111737Z
UID:10022630-1753196400-1753203600@adhdandautism.org
SUMMARY:Adult ADHD Group (4th Tuesday)
DESCRIPTION:For adults who have a diagnosis of ADHD or who suspect they have ADHD and are who a resident of Harrow and Hillingdon. \nThe adult ADHD group provides a safe and non-judgemental environment for adults to come and explore what it means to have a diagnosis of ADHD\, and to get help and support with issues arising in their everyday lives.
URL:https://adhdandautism.org/event/adult-adhd-group-online-4th-tuesday/2025-07-22/
LOCATION:CAAS Centre\, 269 Field End Road\, Eastcote\, HA4 9XA\, United Kingdom
CATEGORIES:Adults
ORGANIZER;CN="Adult Team":MAILTO:adults@adhdandautism.org
END:VEVENT
BEGIN:VEVENT
DTSTART;TZID=Europe/London:20250624T150000
DTEND;TZID=Europe/London:20250624T170000
DTSTAMP:20260421T203504
CREATED:20260305T204635Z
LAST-MODIFIED:20260421T111737Z
UID:10022997-1750777200-1750784400@adhdandautism.org
SUMMARY:Adult ADHD Group (4th Tuesday)
DESCRIPTION:For adults who have a diagnosis of ADHD or who suspect they have ADHD and are who a resident of Harrow and Hillingdon. \nThe adult ADHD group provides a safe and non-judgemental environment for adults to come and explore what it means to have a diagnosis of ADHD\, and to get help and support with issues arising in their everyday lives.
URL:https://adhdandautism.org/event/adult-adhd-group-online-4th-tuesday/2025-06-24/
LOCATION:CAAS Centre\, 269 Field End Road\, Eastcote\, HA4 9XA\, United Kingdom
CATEGORIES:Adults
ORGANIZER;CN="Adult Team":MAILTO:adults@adhdandautism.org
END:VEVENT
BEGIN:VEVENT
DTSTART;TZID=Europe/London:20250624T150000
DTEND;TZID=Europe/London:20250624T170000
DTSTAMP:20260421T203504
CREATED:20230522T111205Z
LAST-MODIFIED:20260421T111122Z
UID:10022665-1750777200-1750784400@adhdandautism.org
SUMMARY:Adult ADHD Group - in-person (4th Tuesday)
DESCRIPTION:For adults who have a diagnosis of ADHD or who suspect they have ADHD and are who a resident of Harrow and Hillingdon. \nThe adult ADHD group provides a safe and non-judgemental environment for adults to come and explore what it means to have a diagnosis of ADHD\, and to get help and support with issues arising in their everyday lives.
URL:https://adhdandautism.org/event/adult-adhd-group-tuesday-in-person/2025-06-24/
LOCATION:Centre for ADHD & Autism Support\, Television House 269 Field End Road\, Eastcote\, Middlesex\, HA4 9XA\, UK
CATEGORIES:Adults
ORGANIZER;CN="Adult Team":MAILTO:adults@adhdandautism.org
END:VEVENT
BEGIN:VEVENT
DTSTART;TZID=Europe/London:20250609T190000
DTEND;TZID=Europe/London:20250609T210000
DTSTAMP:20260421T203504
CREATED:20230522T111303Z
LAST-MODIFIED:20260421T111838Z
UID:10014220-1749495600-1749502800@adhdandautism.org
SUMMARY:Adult ADHD Evening Group - in-person (2nd Monday)
DESCRIPTION:For adults who have a diagnosis of ADHD or who suspect they have ADHD and are who a resident of Harrow and Hillingdon. \nThe adult ADHD group provides a safe and non-judgemental environment for adults to come and explore what it means to have a diagnosis of ADHD\, and to get help and support with issues arising in their everyday lives. Alternating months in-person and online.
URL:https://adhdandautism.org/event/adult-adhd-group-monday/2025-06-09/
LOCATION:CAAS Centre\, 269 Field End Road\, Eastcote\, HA4 9XA\, United Kingdom
CATEGORIES:Adults
ORGANIZER;CN="Adult Team":MAILTO:adults@adhdandautism.org
END:VEVENT
BEGIN:VEVENT
DTSTART;TZID=Europe/London:20250527T150000
DTEND;TZID=Europe/London:20250527T170000
DTSTAMP:20260421T203504
CREATED:20260305T204635Z
LAST-MODIFIED:20260421T111737Z
UID:10022629-1748358000-1748365200@adhdandautism.org
SUMMARY:Adult ADHD Group (4th Tuesday)
DESCRIPTION:For adults who have a diagnosis of ADHD or who suspect they have ADHD and are who a resident of Harrow and Hillingdon. \nThe adult ADHD group provides a safe and non-judgemental environment for adults to come and explore what it means to have a diagnosis of ADHD\, and to get help and support with issues arising in their everyday lives.
URL:https://adhdandautism.org/event/adult-adhd-group-online-4th-tuesday/2025-05-27/
LOCATION:CAAS Centre\, 269 Field End Road\, Eastcote\, HA4 9XA\, United Kingdom
CATEGORIES:Adults
ORGANIZER;CN="Adult Team":MAILTO:adults@adhdandautism.org
END:VEVENT
BEGIN:VEVENT
DTSTART;TZID=Europe/London:20250422T150000
DTEND;TZID=Europe/London:20250422T170000
DTSTAMP:20260421T203504
CREATED:20230522T111205Z
LAST-MODIFIED:20260421T111122Z
UID:10022664-1745334000-1745341200@adhdandautism.org
SUMMARY:Adult ADHD Group - in-person (4th Tuesday)
DESCRIPTION:For adults who have a diagnosis of ADHD or who suspect they have ADHD and are who a resident of Harrow and Hillingdon. \nThe adult ADHD group provides a safe and non-judgemental environment for adults to come and explore what it means to have a diagnosis of ADHD\, and to get help and support with issues arising in their everyday lives.
URL:https://adhdandautism.org/event/adult-adhd-group-tuesday-in-person/2025-04-22/
LOCATION:Centre for ADHD & Autism Support\, Television House 269 Field End Road\, Eastcote\, Middlesex\, HA4 9XA\, UK
CATEGORIES:Adults
ORGANIZER;CN="Adult Team":MAILTO:adults@adhdandautism.org
END:VEVENT
BEGIN:VEVENT
DTSTART;TZID=Europe/London:20250414T190000
DTEND;TZID=Europe/London:20250414T210000
DTSTAMP:20260421T203504
CREATED:20230522T111303Z
LAST-MODIFIED:20260421T111838Z
UID:10014218-1744657200-1744664400@adhdandautism.org
SUMMARY:Adult ADHD Evening Group - in-person (2nd Monday)
DESCRIPTION:For adults who have a diagnosis of ADHD or who suspect they have ADHD and are who a resident of Harrow and Hillingdon. \nThe adult ADHD group provides a safe and non-judgemental environment for adults to come and explore what it means to have a diagnosis of ADHD\, and to get help and support with issues arising in their everyday lives. Alternating months in-person and online.
URL:https://adhdandautism.org/event/adult-adhd-group-monday/2025-04-14/
LOCATION:CAAS Centre\, 269 Field End Road\, Eastcote\, HA4 9XA\, United Kingdom
CATEGORIES:Adults
ORGANIZER;CN="Adult Team":MAILTO:adults@adhdandautism.org
END:VEVENT
END:VCALENDAR