BEGIN:VCALENDAR
VERSION:2.0
PRODID:-//Centre for ADHD and Autism Support - ECPv6.15.20//NONSGML v1.0//EN
CALSCALE:GREGORIAN
METHOD:PUBLISH
X-ORIGINAL-URL:https://adhdandautism.org
X-WR-CALDESC:Events for Centre for ADHD and Autism Support
REFRESH-INTERVAL;VALUE=DURATION:PT1H
X-Robots-Tag:noindex
X-PUBLISHED-TTL:PT1H
BEGIN:VTIMEZONE
TZID:Europe/London
BEGIN:DAYLIGHT
TZOFFSETFROM:+0000
TZOFFSETTO:+0100
TZNAME:BST
DTSTART:20250330T010000
END:DAYLIGHT
BEGIN:STANDARD
TZOFFSETFROM:+0100
TZOFFSETTO:+0000
TZNAME:GMT
DTSTART:20251026T010000
END:STANDARD
BEGIN:DAYLIGHT
TZOFFSETFROM:+0000
TZOFFSETTO:+0100
TZNAME:BST
DTSTART:20260329T010000
END:DAYLIGHT
BEGIN:STANDARD
TZOFFSETFROM:+0100
TZOFFSETTO:+0000
TZNAME:GMT
DTSTART:20261025T010000
END:STANDARD
BEGIN:DAYLIGHT
TZOFFSETFROM:+0000
TZOFFSETTO:+0100
TZNAME:BST
DTSTART:20270328T010000
END:DAYLIGHT
BEGIN:STANDARD
TZOFFSETFROM:+0100
TZOFFSETTO:+0000
TZNAME:GMT
DTSTART:20271031T010000
END:STANDARD
BEGIN:DAYLIGHT
TZOFFSETFROM:+0000
TZOFFSETTO:+0100
TZNAME:BST
DTSTART:20280326T010000
END:DAYLIGHT
BEGIN:STANDARD
TZOFFSETFROM:+0100
TZOFFSETTO:+0000
TZNAME:GMT
DTSTART:20281029T010000
END:STANDARD
END:VTIMEZONE
BEGIN:VEVENT
DTSTART;TZID=Europe/London:20260922T150000
DTEND;TZID=Europe/London:20260922T170000
DTSTAMP:20260421T185833
CREATED:20260305T204635Z
LAST-MODIFIED:20260421T111737Z
UID:10022637-1790089200-1790096400@adhdandautism.org
SUMMARY:Adult ADHD Group (4th Tuesday)
DESCRIPTION:For adults who have a diagnosis of ADHD or who suspect they have ADHD and are who a resident of Harrow and Hillingdon. \nThe adult ADHD group provides a safe and non-judgemental environment for adults to come and explore what it means to have a diagnosis of ADHD\, and to get help and support with issues arising in their everyday lives.
URL:https://adhdandautism.org/event/adult-adhd-group-online-4th-tuesday/2026-09-22/
LOCATION:CAAS Centre\, 269 Field End Road\, Eastcote\, HA4 9XA\, United Kingdom
CATEGORIES:Adults
ORGANIZER;CN="Adult Team":MAILTO:adults@adhdandautism.org
END:VEVENT
BEGIN:VEVENT
DTSTART;TZID=Europe/London:20261012T190000
DTEND;TZID=Europe/London:20261012T210000
DTSTAMP:20260421T185833
CREATED:20230522T111303Z
LAST-MODIFIED:20260421T111838Z
UID:10014236-1791831600-1791838800@adhdandautism.org
SUMMARY:Adult ADHD Evening Group - in-person (2nd Monday)
DESCRIPTION:For adults who have a diagnosis of ADHD or who suspect they have ADHD and are who a resident of Harrow and Hillingdon. \nThe adult ADHD group provides a safe and non-judgemental environment for adults to come and explore what it means to have a diagnosis of ADHD\, and to get help and support with issues arising in their everyday lives. Alternating months in-person and online.
URL:https://adhdandautism.org/event/adult-adhd-group-monday/2026-10-12/
LOCATION:CAAS Centre\, 269 Field End Road\, Eastcote\, HA4 9XA\, United Kingdom
CATEGORIES:Adults
ORGANIZER;CN="Adult Team":MAILTO:adults@adhdandautism.org
END:VEVENT
BEGIN:VEVENT
DTSTART;TZID=Europe/London:20261027T150000
DTEND;TZID=Europe/London:20261027T170000
DTSTAMP:20260421T185833
CREATED:20260305T204635Z
LAST-MODIFIED:20260421T111737Z
UID:10023005-1793113200-1793120400@adhdandautism.org
SUMMARY:Adult ADHD Group (4th Tuesday)
DESCRIPTION:For adults who have a diagnosis of ADHD or who suspect they have ADHD and are who a resident of Harrow and Hillingdon. \nThe adult ADHD group provides a safe and non-judgemental environment for adults to come and explore what it means to have a diagnosis of ADHD\, and to get help and support with issues arising in their everyday lives.
URL:https://adhdandautism.org/event/adult-adhd-group-online-4th-tuesday/2026-10-27/
LOCATION:CAAS Centre\, 269 Field End Road\, Eastcote\, HA4 9XA\, United Kingdom
CATEGORIES:Adults
ORGANIZER;CN="Adult Team":MAILTO:adults@adhdandautism.org
END:VEVENT
BEGIN:VEVENT
DTSTART;TZID=Europe/London:20261109T190000
DTEND;TZID=Europe/London:20261109T210000
DTSTAMP:20260421T185833
CREATED:20260421T111835Z
LAST-MODIFIED:20260421T111933Z
UID:10023065-1794250800-1794258000@adhdandautism.org
SUMMARY:Adult ADHD Group - online (2nd Monday)
DESCRIPTION:For adults who have a diagnosis of ADHD or who suspect they have ADHD and are who a resident of Harrow and Hillingdon. \nThe adult ADHD group provides a safe and non-judgemental environment for adults to come and explore what it means to have a diagnosis of ADHD\, and to get help and support with issues arising in their everyday lives.
URL:https://adhdandautism.org/event/adult-adhd-group-tuesday-in-person-2/2026-11-09/
LOCATION:Online
CATEGORIES:Adults
ORGANIZER;CN="Adult Team":MAILTO:adults@adhdandautism.org
END:VEVENT
BEGIN:VEVENT
DTSTART;TZID=Europe/London:20261124T150000
DTEND;TZID=Europe/London:20261124T170000
DTSTAMP:20260421T185833
CREATED:20260305T204635Z
LAST-MODIFIED:20260421T111737Z
UID:10022638-1795532400-1795539600@adhdandautism.org
SUMMARY:Adult ADHD Group (4th Tuesday)
DESCRIPTION:For adults who have a diagnosis of ADHD or who suspect they have ADHD and are who a resident of Harrow and Hillingdon. \nThe adult ADHD group provides a safe and non-judgemental environment for adults to come and explore what it means to have a diagnosis of ADHD\, and to get help and support with issues arising in their everyday lives.
URL:https://adhdandautism.org/event/adult-adhd-group-online-4th-tuesday/2026-11-24/
LOCATION:CAAS Centre\, 269 Field End Road\, Eastcote\, HA4 9XA\, United Kingdom
CATEGORIES:Adults
ORGANIZER;CN="Adult Team":MAILTO:adults@adhdandautism.org
END:VEVENT
BEGIN:VEVENT
DTSTART;TZID=Europe/London:20261214T190000
DTEND;TZID=Europe/London:20261214T210000
DTSTAMP:20260421T185833
CREATED:20230522T111303Z
LAST-MODIFIED:20260421T111838Z
UID:10014238-1797274800-1797282000@adhdandautism.org
SUMMARY:Adult ADHD Evening Group - in-person (2nd Monday)
DESCRIPTION:For adults who have a diagnosis of ADHD or who suspect they have ADHD and are who a resident of Harrow and Hillingdon. \nThe adult ADHD group provides a safe and non-judgemental environment for adults to come and explore what it means to have a diagnosis of ADHD\, and to get help and support with issues arising in their everyday lives. Alternating months in-person and online.
URL:https://adhdandautism.org/event/adult-adhd-group-monday/2026-12-14/
LOCATION:CAAS Centre\, 269 Field End Road\, Eastcote\, HA4 9XA\, United Kingdom
CATEGORIES:Adults
ORGANIZER;CN="Adult Team":MAILTO:adults@adhdandautism.org
END:VEVENT
BEGIN:VEVENT
DTSTART;TZID=Europe/London:20261222T150000
DTEND;TZID=Europe/London:20261222T170000
DTSTAMP:20260421T185833
CREATED:20260305T204635Z
LAST-MODIFIED:20260421T111737Z
UID:10023006-1797951600-1797958800@adhdandautism.org
SUMMARY:Adult ADHD Group (4th Tuesday)
DESCRIPTION:For adults who have a diagnosis of ADHD or who suspect they have ADHD and are who a resident of Harrow and Hillingdon. \nThe adult ADHD group provides a safe and non-judgemental environment for adults to come and explore what it means to have a diagnosis of ADHD\, and to get help and support with issues arising in their everyday lives.
URL:https://adhdandautism.org/event/adult-adhd-group-online-4th-tuesday/2026-12-22/
LOCATION:CAAS Centre\, 269 Field End Road\, Eastcote\, HA4 9XA\, United Kingdom
CATEGORIES:Adults
ORGANIZER;CN="Adult Team":MAILTO:adults@adhdandautism.org
END:VEVENT
BEGIN:VEVENT
DTSTART;TZID=Europe/London:20270111T190000
DTEND;TZID=Europe/London:20270111T210000
DTSTAMP:20260421T185833
CREATED:20260421T111835Z
LAST-MODIFIED:20260421T111933Z
UID:10023066-1799694000-1799701200@adhdandautism.org
SUMMARY:Adult ADHD Group - online (2nd Monday)
DESCRIPTION:For adults who have a diagnosis of ADHD or who suspect they have ADHD and are who a resident of Harrow and Hillingdon. \nThe adult ADHD group provides a safe and non-judgemental environment for adults to come and explore what it means to have a diagnosis of ADHD\, and to get help and support with issues arising in their everyday lives.
URL:https://adhdandautism.org/event/adult-adhd-group-tuesday-in-person-2/2027-01-11/
LOCATION:Online
CATEGORIES:Adults
ORGANIZER;CN="Adult Team":MAILTO:adults@adhdandautism.org
END:VEVENT
BEGIN:VEVENT
DTSTART;TZID=Europe/London:20270126T150000
DTEND;TZID=Europe/London:20270126T170000
DTSTAMP:20260421T185833
CREATED:20260305T204635Z
LAST-MODIFIED:20260421T111737Z
UID:10022639-1800975600-1800982800@adhdandautism.org
SUMMARY:Adult ADHD Group (4th Tuesday)
DESCRIPTION:For adults who have a diagnosis of ADHD or who suspect they have ADHD and are who a resident of Harrow and Hillingdon. \nThe adult ADHD group provides a safe and non-judgemental environment for adults to come and explore what it means to have a diagnosis of ADHD\, and to get help and support with issues arising in their everyday lives.
URL:https://adhdandautism.org/event/adult-adhd-group-online-4th-tuesday/2027-01-26/
LOCATION:CAAS Centre\, 269 Field End Road\, Eastcote\, HA4 9XA\, United Kingdom
CATEGORIES:Adults
ORGANIZER;CN="Adult Team":MAILTO:adults@adhdandautism.org
END:VEVENT
BEGIN:VEVENT
DTSTART;TZID=Europe/London:20270208T190000
DTEND;TZID=Europe/London:20270208T210000
DTSTAMP:20260421T185833
CREATED:20230522T111303Z
LAST-MODIFIED:20260421T111838Z
UID:10014240-1802113200-1802120400@adhdandautism.org
SUMMARY:Adult ADHD Evening Group - in-person (2nd Monday)
DESCRIPTION:For adults who have a diagnosis of ADHD or who suspect they have ADHD and are who a resident of Harrow and Hillingdon. \nThe adult ADHD group provides a safe and non-judgemental environment for adults to come and explore what it means to have a diagnosis of ADHD\, and to get help and support with issues arising in their everyday lives. Alternating months in-person and online.
URL:https://adhdandautism.org/event/adult-adhd-group-monday/2027-02-08/
LOCATION:CAAS Centre\, 269 Field End Road\, Eastcote\, HA4 9XA\, United Kingdom
CATEGORIES:Adults
ORGANIZER;CN="Adult Team":MAILTO:adults@adhdandautism.org
END:VEVENT
BEGIN:VEVENT
DTSTART;TZID=Europe/London:20270223T150000
DTEND;TZID=Europe/London:20270223T170000
DTSTAMP:20260421T185833
CREATED:20260305T204635Z
LAST-MODIFIED:20260421T111737Z
UID:10023007-1803394800-1803402000@adhdandautism.org
SUMMARY:Adult ADHD Group (4th Tuesday)
DESCRIPTION:For adults who have a diagnosis of ADHD or who suspect they have ADHD and are who a resident of Harrow and Hillingdon. \nThe adult ADHD group provides a safe and non-judgemental environment for adults to come and explore what it means to have a diagnosis of ADHD\, and to get help and support with issues arising in their everyday lives.
URL:https://adhdandautism.org/event/adult-adhd-group-online-4th-tuesday/2027-02-23/
LOCATION:CAAS Centre\, 269 Field End Road\, Eastcote\, HA4 9XA\, United Kingdom
CATEGORIES:Adults
ORGANIZER;CN="Adult Team":MAILTO:adults@adhdandautism.org
END:VEVENT
BEGIN:VEVENT
DTSTART;TZID=Europe/London:20270308T190000
DTEND;TZID=Europe/London:20270308T210000
DTSTAMP:20260421T185833
CREATED:20260421T111835Z
LAST-MODIFIED:20260421T111933Z
UID:10023067-1804532400-1804539600@adhdandautism.org
SUMMARY:Adult ADHD Group - online (2nd Monday)
DESCRIPTION:For adults who have a diagnosis of ADHD or who suspect they have ADHD and are who a resident of Harrow and Hillingdon. \nThe adult ADHD group provides a safe and non-judgemental environment for adults to come and explore what it means to have a diagnosis of ADHD\, and to get help and support with issues arising in their everyday lives.
URL:https://adhdandautism.org/event/adult-adhd-group-tuesday-in-person-2/2027-03-08/
LOCATION:Online
CATEGORIES:Adults
ORGANIZER;CN="Adult Team":MAILTO:adults@adhdandautism.org
END:VEVENT
BEGIN:VEVENT
DTSTART;TZID=Europe/London:20270323T150000
DTEND;TZID=Europe/London:20270323T170000
DTSTAMP:20260421T185833
CREATED:20260305T204635Z
LAST-MODIFIED:20260421T111737Z
UID:10022640-1805814000-1805821200@adhdandautism.org
SUMMARY:Adult ADHD Group (4th Tuesday)
DESCRIPTION:For adults who have a diagnosis of ADHD or who suspect they have ADHD and are who a resident of Harrow and Hillingdon. \nThe adult ADHD group provides a safe and non-judgemental environment for adults to come and explore what it means to have a diagnosis of ADHD\, and to get help and support with issues arising in their everyday lives.
URL:https://adhdandautism.org/event/adult-adhd-group-online-4th-tuesday/2027-03-23/
LOCATION:CAAS Centre\, 269 Field End Road\, Eastcote\, HA4 9XA\, United Kingdom
CATEGORIES:Adults
ORGANIZER;CN="Adult Team":MAILTO:adults@adhdandautism.org
END:VEVENT
BEGIN:VEVENT
DTSTART;TZID=Europe/London:20270412T190000
DTEND;TZID=Europe/London:20270412T210000
DTSTAMP:20260421T185833
CREATED:20230522T111303Z
LAST-MODIFIED:20260421T111838Z
UID:10014242-1807556400-1807563600@adhdandautism.org
SUMMARY:Adult ADHD Evening Group - in-person (2nd Monday)
DESCRIPTION:For adults who have a diagnosis of ADHD or who suspect they have ADHD and are who a resident of Harrow and Hillingdon. \nThe adult ADHD group provides a safe and non-judgemental environment for adults to come and explore what it means to have a diagnosis of ADHD\, and to get help and support with issues arising in their everyday lives. Alternating months in-person and online.
URL:https://adhdandautism.org/event/adult-adhd-group-monday/2027-04-12/
LOCATION:CAAS Centre\, 269 Field End Road\, Eastcote\, HA4 9XA\, United Kingdom
CATEGORIES:Adults
ORGANIZER;CN="Adult Team":MAILTO:adults@adhdandautism.org
END:VEVENT
BEGIN:VEVENT
DTSTART;TZID=Europe/London:20270427T150000
DTEND;TZID=Europe/London:20270427T170000
DTSTAMP:20260421T185833
CREATED:20260305T204635Z
LAST-MODIFIED:20260421T111737Z
UID:10023008-1808838000-1808845200@adhdandautism.org
SUMMARY:Adult ADHD Group (4th Tuesday)
DESCRIPTION:For adults who have a diagnosis of ADHD or who suspect they have ADHD and are who a resident of Harrow and Hillingdon. \nThe adult ADHD group provides a safe and non-judgemental environment for adults to come and explore what it means to have a diagnosis of ADHD\, and to get help and support with issues arising in their everyday lives.
URL:https://adhdandautism.org/event/adult-adhd-group-online-4th-tuesday/2027-04-27/
LOCATION:CAAS Centre\, 269 Field End Road\, Eastcote\, HA4 9XA\, United Kingdom
CATEGORIES:Adults
ORGANIZER;CN="Adult Team":MAILTO:adults@adhdandautism.org
END:VEVENT
BEGIN:VEVENT
DTSTART;TZID=Europe/London:20270510T190000
DTEND;TZID=Europe/London:20270510T210000
DTSTAMP:20260421T185833
CREATED:20260421T111835Z
LAST-MODIFIED:20260421T111933Z
UID:10023068-1809975600-1809982800@adhdandautism.org
SUMMARY:Adult ADHD Group - online (2nd Monday)
DESCRIPTION:For adults who have a diagnosis of ADHD or who suspect they have ADHD and are who a resident of Harrow and Hillingdon. \nThe adult ADHD group provides a safe and non-judgemental environment for adults to come and explore what it means to have a diagnosis of ADHD\, and to get help and support with issues arising in their everyday lives.
URL:https://adhdandautism.org/event/adult-adhd-group-tuesday-in-person-2/2027-05-10/
LOCATION:Online
CATEGORIES:Adults
ORGANIZER;CN="Adult Team":MAILTO:adults@adhdandautism.org
END:VEVENT
BEGIN:VEVENT
DTSTART;TZID=Europe/London:20270525T150000
DTEND;TZID=Europe/London:20270525T170000
DTSTAMP:20260421T185833
CREATED:20260305T204635Z
LAST-MODIFIED:20260421T111737Z
UID:10022641-1811257200-1811264400@adhdandautism.org
SUMMARY:Adult ADHD Group (4th Tuesday)
DESCRIPTION:For adults who have a diagnosis of ADHD or who suspect they have ADHD and are who a resident of Harrow and Hillingdon. \nThe adult ADHD group provides a safe and non-judgemental environment for adults to come and explore what it means to have a diagnosis of ADHD\, and to get help and support with issues arising in their everyday lives.
URL:https://adhdandautism.org/event/adult-adhd-group-online-4th-tuesday/2027-05-25/
LOCATION:CAAS Centre\, 269 Field End Road\, Eastcote\, HA4 9XA\, United Kingdom
CATEGORIES:Adults
ORGANIZER;CN="Adult Team":MAILTO:adults@adhdandautism.org
END:VEVENT
BEGIN:VEVENT
DTSTART;TZID=Europe/London:20270614T190000
DTEND;TZID=Europe/London:20270614T210000
DTSTAMP:20260421T185833
CREATED:20230522T111303Z
LAST-MODIFIED:20260421T111838Z
UID:10014244-1812999600-1813006800@adhdandautism.org
SUMMARY:Adult ADHD Evening Group - in-person (2nd Monday)
DESCRIPTION:For adults who have a diagnosis of ADHD or who suspect they have ADHD and are who a resident of Harrow and Hillingdon. \nThe adult ADHD group provides a safe and non-judgemental environment for adults to come and explore what it means to have a diagnosis of ADHD\, and to get help and support with issues arising in their everyday lives. Alternating months in-person and online.
URL:https://adhdandautism.org/event/adult-adhd-group-monday/2027-06-14/
LOCATION:CAAS Centre\, 269 Field End Road\, Eastcote\, HA4 9XA\, United Kingdom
CATEGORIES:Adults
ORGANIZER;CN="Adult Team":MAILTO:adults@adhdandautism.org
END:VEVENT
BEGIN:VEVENT
DTSTART;TZID=Europe/London:20270622T150000
DTEND;TZID=Europe/London:20270622T170000
DTSTAMP:20260421T185833
CREATED:20260305T204635Z
LAST-MODIFIED:20260421T111737Z
UID:10023009-1813676400-1813683600@adhdandautism.org
SUMMARY:Adult ADHD Group (4th Tuesday)
DESCRIPTION:For adults who have a diagnosis of ADHD or who suspect they have ADHD and are who a resident of Harrow and Hillingdon. \nThe adult ADHD group provides a safe and non-judgemental environment for adults to come and explore what it means to have a diagnosis of ADHD\, and to get help and support with issues arising in their everyday lives.
URL:https://adhdandautism.org/event/adult-adhd-group-online-4th-tuesday/2027-06-22/
LOCATION:CAAS Centre\, 269 Field End Road\, Eastcote\, HA4 9XA\, United Kingdom
CATEGORIES:Adults
ORGANIZER;CN="Adult Team":MAILTO:adults@adhdandautism.org
END:VEVENT
BEGIN:VEVENT
DTSTART;TZID=Europe/London:20270712T190000
DTEND;TZID=Europe/London:20270712T210000
DTSTAMP:20260421T185833
CREATED:20260421T111835Z
LAST-MODIFIED:20260421T111933Z
UID:10023069-1815418800-1815426000@adhdandautism.org
SUMMARY:Adult ADHD Group - online (2nd Monday)
DESCRIPTION:For adults who have a diagnosis of ADHD or who suspect they have ADHD and are who a resident of Harrow and Hillingdon. \nThe adult ADHD group provides a safe and non-judgemental environment for adults to come and explore what it means to have a diagnosis of ADHD\, and to get help and support with issues arising in their everyday lives.
URL:https://adhdandautism.org/event/adult-adhd-group-tuesday-in-person-2/2027-07-12/
LOCATION:Online
CATEGORIES:Adults
ORGANIZER;CN="Adult Team":MAILTO:adults@adhdandautism.org
END:VEVENT
BEGIN:VEVENT
DTSTART;TZID=Europe/London:20270727T150000
DTEND;TZID=Europe/London:20270727T170000
DTSTAMP:20260421T185833
CREATED:20260305T204635Z
LAST-MODIFIED:20260421T111737Z
UID:10022642-1816700400-1816707600@adhdandautism.org
SUMMARY:Adult ADHD Group (4th Tuesday)
DESCRIPTION:For adults who have a diagnosis of ADHD or who suspect they have ADHD and are who a resident of Harrow and Hillingdon. \nThe adult ADHD group provides a safe and non-judgemental environment for adults to come and explore what it means to have a diagnosis of ADHD\, and to get help and support with issues arising in their everyday lives.
URL:https://adhdandautism.org/event/adult-adhd-group-online-4th-tuesday/2027-07-27/
LOCATION:CAAS Centre\, 269 Field End Road\, Eastcote\, HA4 9XA\, United Kingdom
CATEGORIES:Adults
ORGANIZER;CN="Adult Team":MAILTO:adults@adhdandautism.org
END:VEVENT
BEGIN:VEVENT
DTSTART;TZID=Europe/London:20270809T190000
DTEND;TZID=Europe/London:20270809T210000
DTSTAMP:20260421T185833
CREATED:20230522T111303Z
LAST-MODIFIED:20260421T111838Z
UID:10014246-1817838000-1817845200@adhdandautism.org
SUMMARY:Adult ADHD Evening Group - in-person (2nd Monday)
DESCRIPTION:For adults who have a diagnosis of ADHD or who suspect they have ADHD and are who a resident of Harrow and Hillingdon. \nThe adult ADHD group provides a safe and non-judgemental environment for adults to come and explore what it means to have a diagnosis of ADHD\, and to get help and support with issues arising in their everyday lives. Alternating months in-person and online.
URL:https://adhdandautism.org/event/adult-adhd-group-monday/2027-08-09/
LOCATION:CAAS Centre\, 269 Field End Road\, Eastcote\, HA4 9XA\, United Kingdom
CATEGORIES:Adults
ORGANIZER;CN="Adult Team":MAILTO:adults@adhdandautism.org
END:VEVENT
BEGIN:VEVENT
DTSTART;TZID=Europe/London:20270824T150000
DTEND;TZID=Europe/London:20270824T170000
DTSTAMP:20260421T185833
CREATED:20260305T204635Z
LAST-MODIFIED:20260421T111737Z
UID:10023010-1819119600-1819126800@adhdandautism.org
SUMMARY:Adult ADHD Group (4th Tuesday)
DESCRIPTION:For adults who have a diagnosis of ADHD or who suspect they have ADHD and are who a resident of Harrow and Hillingdon. \nThe adult ADHD group provides a safe and non-judgemental environment for adults to come and explore what it means to have a diagnosis of ADHD\, and to get help and support with issues arising in their everyday lives.
URL:https://adhdandautism.org/event/adult-adhd-group-online-4th-tuesday/2027-08-24/
LOCATION:CAAS Centre\, 269 Field End Road\, Eastcote\, HA4 9XA\, United Kingdom
CATEGORIES:Adults
ORGANIZER;CN="Adult Team":MAILTO:adults@adhdandautism.org
END:VEVENT
BEGIN:VEVENT
DTSTART;TZID=Europe/London:20270913T190000
DTEND;TZID=Europe/London:20270913T210000
DTSTAMP:20260421T185833
CREATED:20260421T111835Z
LAST-MODIFIED:20260421T111933Z
UID:10023070-1820862000-1820869200@adhdandautism.org
SUMMARY:Adult ADHD Group - online (2nd Monday)
DESCRIPTION:For adults who have a diagnosis of ADHD or who suspect they have ADHD and are who a resident of Harrow and Hillingdon. \nThe adult ADHD group provides a safe and non-judgemental environment for adults to come and explore what it means to have a diagnosis of ADHD\, and to get help and support with issues arising in their everyday lives.
URL:https://adhdandautism.org/event/adult-adhd-group-tuesday-in-person-2/2027-09-13/
LOCATION:Online
CATEGORIES:Adults
ORGANIZER;CN="Adult Team":MAILTO:adults@adhdandautism.org
END:VEVENT
BEGIN:VEVENT
DTSTART;TZID=Europe/London:20270928T150000
DTEND;TZID=Europe/London:20270928T170000
DTSTAMP:20260421T185833
CREATED:20260305T204635Z
LAST-MODIFIED:20260421T111737Z
UID:10022643-1822143600-1822150800@adhdandautism.org
SUMMARY:Adult ADHD Group (4th Tuesday)
DESCRIPTION:For adults who have a diagnosis of ADHD or who suspect they have ADHD and are who a resident of Harrow and Hillingdon. \nThe adult ADHD group provides a safe and non-judgemental environment for adults to come and explore what it means to have a diagnosis of ADHD\, and to get help and support with issues arising in their everyday lives.
URL:https://adhdandautism.org/event/adult-adhd-group-online-4th-tuesday/2027-09-28/
LOCATION:CAAS Centre\, 269 Field End Road\, Eastcote\, HA4 9XA\, United Kingdom
CATEGORIES:Adults
ORGANIZER;CN="Adult Team":MAILTO:adults@adhdandautism.org
END:VEVENT
BEGIN:VEVENT
DTSTART;TZID=Europe/London:20271011T190000
DTEND;TZID=Europe/London:20271011T210000
DTSTAMP:20260421T185833
CREATED:20230522T111303Z
LAST-MODIFIED:20260421T111838Z
UID:10014248-1823281200-1823288400@adhdandautism.org
SUMMARY:Adult ADHD Evening Group - in-person (2nd Monday)
DESCRIPTION:For adults who have a diagnosis of ADHD or who suspect they have ADHD and are who a resident of Harrow and Hillingdon. \nThe adult ADHD group provides a safe and non-judgemental environment for adults to come and explore what it means to have a diagnosis of ADHD\, and to get help and support with issues arising in their everyday lives. Alternating months in-person and online.
URL:https://adhdandautism.org/event/adult-adhd-group-monday/2027-10-11/
LOCATION:CAAS Centre\, 269 Field End Road\, Eastcote\, HA4 9XA\, United Kingdom
CATEGORIES:Adults
ORGANIZER;CN="Adult Team":MAILTO:adults@adhdandautism.org
END:VEVENT
BEGIN:VEVENT
DTSTART;TZID=Europe/London:20271026T150000
DTEND;TZID=Europe/London:20271026T170000
DTSTAMP:20260421T185833
CREATED:20260305T204635Z
LAST-MODIFIED:20260421T111737Z
UID:10023011-1824562800-1824570000@adhdandautism.org
SUMMARY:Adult ADHD Group (4th Tuesday)
DESCRIPTION:For adults who have a diagnosis of ADHD or who suspect they have ADHD and are who a resident of Harrow and Hillingdon. \nThe adult ADHD group provides a safe and non-judgemental environment for adults to come and explore what it means to have a diagnosis of ADHD\, and to get help and support with issues arising in their everyday lives.
URL:https://adhdandautism.org/event/adult-adhd-group-online-4th-tuesday/2027-10-26/
LOCATION:CAAS Centre\, 269 Field End Road\, Eastcote\, HA4 9XA\, United Kingdom
CATEGORIES:Adults
ORGANIZER;CN="Adult Team":MAILTO:adults@adhdandautism.org
END:VEVENT
BEGIN:VEVENT
DTSTART;TZID=Europe/London:20271108T190000
DTEND;TZID=Europe/London:20271108T210000
DTSTAMP:20260421T185833
CREATED:20260421T111835Z
LAST-MODIFIED:20260421T111933Z
UID:10023071-1825700400-1825707600@adhdandautism.org
SUMMARY:Adult ADHD Group - online (2nd Monday)
DESCRIPTION:For adults who have a diagnosis of ADHD or who suspect they have ADHD and are who a resident of Harrow and Hillingdon. \nThe adult ADHD group provides a safe and non-judgemental environment for adults to come and explore what it means to have a diagnosis of ADHD\, and to get help and support with issues arising in their everyday lives.
URL:https://adhdandautism.org/event/adult-adhd-group-tuesday-in-person-2/2027-11-08/
LOCATION:Online
CATEGORIES:Adults
ORGANIZER;CN="Adult Team":MAILTO:adults@adhdandautism.org
END:VEVENT
BEGIN:VEVENT
DTSTART;TZID=Europe/London:20271123T150000
DTEND;TZID=Europe/London:20271123T170000
DTSTAMP:20260421T185833
CREATED:20260305T204635Z
LAST-MODIFIED:20260421T111737Z
UID:10022644-1826982000-1826989200@adhdandautism.org
SUMMARY:Adult ADHD Group (4th Tuesday)
DESCRIPTION:For adults who have a diagnosis of ADHD or who suspect they have ADHD and are who a resident of Harrow and Hillingdon. \nThe adult ADHD group provides a safe and non-judgemental environment for adults to come and explore what it means to have a diagnosis of ADHD\, and to get help and support with issues arising in their everyday lives.
URL:https://adhdandautism.org/event/adult-adhd-group-online-4th-tuesday/2027-11-23/
LOCATION:CAAS Centre\, 269 Field End Road\, Eastcote\, HA4 9XA\, United Kingdom
CATEGORIES:Adults
ORGANIZER;CN="Adult Team":MAILTO:adults@adhdandautism.org
END:VEVENT
BEGIN:VEVENT
DTSTART;TZID=Europe/London:20271213T190000
DTEND;TZID=Europe/London:20271213T210000
DTSTAMP:20260421T185833
CREATED:20230522T111303Z
LAST-MODIFIED:20260421T111838Z
UID:10014250-1828724400-1828731600@adhdandautism.org
SUMMARY:Adult ADHD Evening Group - in-person (2nd Monday)
DESCRIPTION:For adults who have a diagnosis of ADHD or who suspect they have ADHD and are who a resident of Harrow and Hillingdon. \nThe adult ADHD group provides a safe and non-judgemental environment for adults to come and explore what it means to have a diagnosis of ADHD\, and to get help and support with issues arising in their everyday lives. Alternating months in-person and online.
URL:https://adhdandautism.org/event/adult-adhd-group-monday/2027-12-13/
LOCATION:CAAS Centre\, 269 Field End Road\, Eastcote\, HA4 9XA\, United Kingdom
CATEGORIES:Adults
ORGANIZER;CN="Adult Team":MAILTO:adults@adhdandautism.org
END:VEVENT
END:VCALENDAR