BEGIN:VCALENDAR
VERSION:2.0
PRODID:-//Centre for ADHD and Autism Support - ECPv6.15.20//NONSGML v1.0//EN
CALSCALE:GREGORIAN
METHOD:PUBLISH
X-WR-CALNAME:Centre for ADHD and Autism Support
X-ORIGINAL-URL:https://adhdandautism.org
X-WR-CALDESC:Events for Centre for ADHD and Autism Support
REFRESH-INTERVAL;VALUE=DURATION:PT1H
X-Robots-Tag:noindex
X-PUBLISHED-TTL:PT1H
BEGIN:VTIMEZONE
TZID:Europe/London
BEGIN:DAYLIGHT
TZOFFSETFROM:+0000
TZOFFSETTO:+0100
TZNAME:BST
DTSTART:20260329T010000
END:DAYLIGHT
BEGIN:STANDARD
TZOFFSETFROM:+0100
TZOFFSETTO:+0000
TZNAME:GMT
DTSTART:20261025T010000
END:STANDARD
BEGIN:DAYLIGHT
TZOFFSETFROM:+0000
TZOFFSETTO:+0100
TZNAME:BST
DTSTART:20270328T010000
END:DAYLIGHT
BEGIN:STANDARD
TZOFFSETFROM:+0100
TZOFFSETTO:+0000
TZNAME:GMT
DTSTART:20271031T010000
END:STANDARD
BEGIN:DAYLIGHT
TZOFFSETFROM:+0000
TZOFFSETTO:+0100
TZNAME:BST
DTSTART:20280326T010000
END:DAYLIGHT
BEGIN:STANDARD
TZOFFSETFROM:+0100
TZOFFSETTO:+0000
TZNAME:GMT
DTSTART:20281029T010000
END:STANDARD
BEGIN:DAYLIGHT
TZOFFSETFROM:+0000
TZOFFSETTO:+0100
TZNAME:BST
DTSTART:20290325T010000
END:DAYLIGHT
BEGIN:STANDARD
TZOFFSETFROM:+0100
TZOFFSETTO:+0000
TZNAME:GMT
DTSTART:20291028T010000
END:STANDARD
BEGIN:DAYLIGHT
TZOFFSETFROM:+0000
TZOFFSETTO:+0100
TZNAME:BST
DTSTART:20300331T010000
END:DAYLIGHT
BEGIN:STANDARD
TZOFFSETFROM:+0100
TZOFFSETTO:+0000
TZNAME:GMT
DTSTART:20301027T010000
END:STANDARD
END:VTIMEZONE
BEGIN:VEVENT
DTSTART;TZID=Europe/London:20271228T150000
DTEND;TZID=Europe/London:20271228T170000
DTSTAMP:20260423T151354
CREATED:20260305T204635Z
LAST-MODIFIED:20260421T111737Z
UID:10023012-1830006000-1830013200@adhdandautism.org
SUMMARY:Adult ADHD Group (4th Tuesday)
DESCRIPTION:For adults who have a diagnosis of ADHD or who suspect they have ADHD and are who a resident of Harrow and Hillingdon. \nThe adult ADHD group provides a safe and non-judgemental environment for adults to come and explore what it means to have a diagnosis of ADHD\, and to get help and support with issues arising in their everyday lives.
URL:https://adhdandautism.org/event/adult-adhd-group-online-4th-tuesday/2027-12-28/
LOCATION:CAAS Centre\, 269 Field End Road\, Eastcote\, HA4 9XA\, United Kingdom
CATEGORIES:Adults
ORGANIZER;CN="Adult Team":MAILTO:adults@adhdandautism.org
END:VEVENT
BEGIN:VEVENT
DTSTART;TZID=Europe/London:20280110T190000
DTEND;TZID=Europe/London:20280110T210000
DTSTAMP:20260423T151354
CREATED:20260421T111835Z
LAST-MODIFIED:20260421T111933Z
UID:10023072-1831143600-1831150800@adhdandautism.org
SUMMARY:Adult ADHD Group - online (2nd Monday)
DESCRIPTION:For adults who have a diagnosis of ADHD or who suspect they have ADHD and are who a resident of Harrow and Hillingdon. \nThe adult ADHD group provides a safe and non-judgemental environment for adults to come and explore what it means to have a diagnosis of ADHD\, and to get help and support with issues arising in their everyday lives.
URL:https://adhdandautism.org/event/adult-adhd-group-tuesday-in-person-2/2028-01-10/
LOCATION:Online
CATEGORIES:Adults
ORGANIZER;CN="Adult Team":MAILTO:adults@adhdandautism.org
END:VEVENT
BEGIN:VEVENT
DTSTART;TZID=Europe/London:20280125T150000
DTEND;TZID=Europe/London:20280125T170000
DTSTAMP:20260423T151354
CREATED:20260305T204635Z
LAST-MODIFIED:20260421T111737Z
UID:10022645-1832425200-1832432400@adhdandautism.org
SUMMARY:Adult ADHD Group (4th Tuesday)
DESCRIPTION:For adults who have a diagnosis of ADHD or who suspect they have ADHD and are who a resident of Harrow and Hillingdon. \nThe adult ADHD group provides a safe and non-judgemental environment for adults to come and explore what it means to have a diagnosis of ADHD\, and to get help and support with issues arising in their everyday lives.
URL:https://adhdandautism.org/event/adult-adhd-group-online-4th-tuesday/2028-01-25/
LOCATION:CAAS Centre\, 269 Field End Road\, Eastcote\, HA4 9XA\, United Kingdom
CATEGORIES:Adults
ORGANIZER;CN="Adult Team":MAILTO:adults@adhdandautism.org
END:VEVENT
BEGIN:VEVENT
DTSTART;TZID=Europe/London:20280214T190000
DTEND;TZID=Europe/London:20280214T210000
DTSTAMP:20260423T151354
CREATED:20230522T111303Z
LAST-MODIFIED:20260421T111838Z
UID:10014252-1834167600-1834174800@adhdandautism.org
SUMMARY:Adult ADHD Evening Group - in-person (2nd Monday)
DESCRIPTION:For adults who have a diagnosis of ADHD or who suspect they have ADHD and are who a resident of Harrow and Hillingdon. \nThe adult ADHD group provides a safe and non-judgemental environment for adults to come and explore what it means to have a diagnosis of ADHD\, and to get help and support with issues arising in their everyday lives. Alternating months in-person and online.
URL:https://adhdandautism.org/event/adult-adhd-group-monday/2028-02-14/
LOCATION:CAAS Centre\, 269 Field End Road\, Eastcote\, HA4 9XA\, United Kingdom
CATEGORIES:Adults
ORGANIZER;CN="Adult Team":MAILTO:adults@adhdandautism.org
END:VEVENT
BEGIN:VEVENT
DTSTART;TZID=Europe/London:20280222T150000
DTEND;TZID=Europe/London:20280222T170000
DTSTAMP:20260423T151354
CREATED:20260305T204635Z
LAST-MODIFIED:20260421T111737Z
UID:10023013-1834844400-1834851600@adhdandautism.org
SUMMARY:Adult ADHD Group (4th Tuesday)
DESCRIPTION:For adults who have a diagnosis of ADHD or who suspect they have ADHD and are who a resident of Harrow and Hillingdon. \nThe adult ADHD group provides a safe and non-judgemental environment for adults to come and explore what it means to have a diagnosis of ADHD\, and to get help and support with issues arising in their everyday lives.
URL:https://adhdandautism.org/event/adult-adhd-group-online-4th-tuesday/2028-02-22/
LOCATION:CAAS Centre\, 269 Field End Road\, Eastcote\, HA4 9XA\, United Kingdom
CATEGORIES:Adults
ORGANIZER;CN="Adult Team":MAILTO:adults@adhdandautism.org
END:VEVENT
BEGIN:VEVENT
DTSTART;TZID=Europe/London:20280313T190000
DTEND;TZID=Europe/London:20280313T210000
DTSTAMP:20260423T151354
CREATED:20260421T111835Z
LAST-MODIFIED:20260421T111933Z
UID:10023073-1836586800-1836594000@adhdandautism.org
SUMMARY:Adult ADHD Group - online (2nd Monday)
DESCRIPTION:For adults who have a diagnosis of ADHD or who suspect they have ADHD and are who a resident of Harrow and Hillingdon. \nThe adult ADHD group provides a safe and non-judgemental environment for adults to come and explore what it means to have a diagnosis of ADHD\, and to get help and support with issues arising in their everyday lives.
URL:https://adhdandautism.org/event/adult-adhd-group-tuesday-in-person-2/2028-03-13/
LOCATION:Online
CATEGORIES:Adults
ORGANIZER;CN="Adult Team":MAILTO:adults@adhdandautism.org
END:VEVENT
BEGIN:VEVENT
DTSTART;TZID=Europe/London:20280328T150000
DTEND;TZID=Europe/London:20280328T170000
DTSTAMP:20260423T151354
CREATED:20260305T204635Z
LAST-MODIFIED:20260421T111737Z
UID:10022646-1837868400-1837875600@adhdandautism.org
SUMMARY:Adult ADHD Group (4th Tuesday)
DESCRIPTION:For adults who have a diagnosis of ADHD or who suspect they have ADHD and are who a resident of Harrow and Hillingdon. \nThe adult ADHD group provides a safe and non-judgemental environment for adults to come and explore what it means to have a diagnosis of ADHD\, and to get help and support with issues arising in their everyday lives.
URL:https://adhdandautism.org/event/adult-adhd-group-online-4th-tuesday/2028-03-28/
LOCATION:CAAS Centre\, 269 Field End Road\, Eastcote\, HA4 9XA\, United Kingdom
CATEGORIES:Adults
ORGANIZER;CN="Adult Team":MAILTO:adults@adhdandautism.org
END:VEVENT
BEGIN:VEVENT
DTSTART;TZID=Europe/London:20280410T190000
DTEND;TZID=Europe/London:20280410T210000
DTSTAMP:20260423T151354
CREATED:20230522T111303Z
LAST-MODIFIED:20260421T111838Z
UID:10014254-1839006000-1839013200@adhdandautism.org
SUMMARY:Adult ADHD Evening Group - in-person (2nd Monday)
DESCRIPTION:For adults who have a diagnosis of ADHD or who suspect they have ADHD and are who a resident of Harrow and Hillingdon. \nThe adult ADHD group provides a safe and non-judgemental environment for adults to come and explore what it means to have a diagnosis of ADHD\, and to get help and support with issues arising in their everyday lives. Alternating months in-person and online.
URL:https://adhdandautism.org/event/adult-adhd-group-monday/2028-04-10/
LOCATION:CAAS Centre\, 269 Field End Road\, Eastcote\, HA4 9XA\, United Kingdom
CATEGORIES:Adults
ORGANIZER;CN="Adult Team":MAILTO:adults@adhdandautism.org
END:VEVENT
BEGIN:VEVENT
DTSTART;TZID=Europe/London:20280425T150000
DTEND;TZID=Europe/London:20280425T170000
DTSTAMP:20260423T151354
CREATED:20260305T204635Z
LAST-MODIFIED:20260421T111737Z
UID:10023014-1840287600-1840294800@adhdandautism.org
SUMMARY:Adult ADHD Group (4th Tuesday)
DESCRIPTION:For adults who have a diagnosis of ADHD or who suspect they have ADHD and are who a resident of Harrow and Hillingdon. \nThe adult ADHD group provides a safe and non-judgemental environment for adults to come and explore what it means to have a diagnosis of ADHD\, and to get help and support with issues arising in their everyday lives.
URL:https://adhdandautism.org/event/adult-adhd-group-online-4th-tuesday/2028-04-25/
LOCATION:CAAS Centre\, 269 Field End Road\, Eastcote\, HA4 9XA\, United Kingdom
CATEGORIES:Adults
ORGANIZER;CN="Adult Team":MAILTO:adults@adhdandautism.org
END:VEVENT
BEGIN:VEVENT
DTSTART;TZID=Europe/London:20280508T190000
DTEND;TZID=Europe/London:20280508T210000
DTSTAMP:20260423T151354
CREATED:20260421T111835Z
LAST-MODIFIED:20260421T111933Z
UID:10023074-1841425200-1841432400@adhdandautism.org
SUMMARY:Adult ADHD Group - online (2nd Monday)
DESCRIPTION:For adults who have a diagnosis of ADHD or who suspect they have ADHD and are who a resident of Harrow and Hillingdon. \nThe adult ADHD group provides a safe and non-judgemental environment for adults to come and explore what it means to have a diagnosis of ADHD\, and to get help and support with issues arising in their everyday lives.
URL:https://adhdandautism.org/event/adult-adhd-group-tuesday-in-person-2/2028-05-08/
LOCATION:Online
CATEGORIES:Adults
ORGANIZER;CN="Adult Team":MAILTO:adults@adhdandautism.org
END:VEVENT
BEGIN:VEVENT
DTSTART;TZID=Europe/London:20280523T150000
DTEND;TZID=Europe/London:20280523T170000
DTSTAMP:20260423T151354
CREATED:20260305T204635Z
LAST-MODIFIED:20260421T111737Z
UID:10022647-1842706800-1842714000@adhdandautism.org
SUMMARY:Adult ADHD Group (4th Tuesday)
DESCRIPTION:For adults who have a diagnosis of ADHD or who suspect they have ADHD and are who a resident of Harrow and Hillingdon. \nThe adult ADHD group provides a safe and non-judgemental environment for adults to come and explore what it means to have a diagnosis of ADHD\, and to get help and support with issues arising in their everyday lives.
URL:https://adhdandautism.org/event/adult-adhd-group-online-4th-tuesday/2028-05-23/
LOCATION:CAAS Centre\, 269 Field End Road\, Eastcote\, HA4 9XA\, United Kingdom
CATEGORIES:Adults
ORGANIZER;CN="Adult Team":MAILTO:adults@adhdandautism.org
END:VEVENT
BEGIN:VEVENT
DTSTART;TZID=Europe/London:20280612T190000
DTEND;TZID=Europe/London:20280612T210000
DTSTAMP:20260423T151354
CREATED:20230522T111303Z
LAST-MODIFIED:20260421T111838Z
UID:10014256-1844449200-1844456400@adhdandautism.org
SUMMARY:Adult ADHD Evening Group - in-person (2nd Monday)
DESCRIPTION:For adults who have a diagnosis of ADHD or who suspect they have ADHD and are who a resident of Harrow and Hillingdon. \nThe adult ADHD group provides a safe and non-judgemental environment for adults to come and explore what it means to have a diagnosis of ADHD\, and to get help and support with issues arising in their everyday lives. Alternating months in-person and online.
URL:https://adhdandautism.org/event/adult-adhd-group-monday/2028-06-12/
LOCATION:CAAS Centre\, 269 Field End Road\, Eastcote\, HA4 9XA\, United Kingdom
CATEGORIES:Adults
ORGANIZER;CN="Adult Team":MAILTO:adults@adhdandautism.org
END:VEVENT
BEGIN:VEVENT
DTSTART;TZID=Europe/London:20280627T150000
DTEND;TZID=Europe/London:20280627T170000
DTSTAMP:20260423T151354
CREATED:20260305T204635Z
LAST-MODIFIED:20260421T111737Z
UID:10023015-1845730800-1845738000@adhdandautism.org
SUMMARY:Adult ADHD Group (4th Tuesday)
DESCRIPTION:For adults who have a diagnosis of ADHD or who suspect they have ADHD and are who a resident of Harrow and Hillingdon. \nThe adult ADHD group provides a safe and non-judgemental environment for adults to come and explore what it means to have a diagnosis of ADHD\, and to get help and support with issues arising in their everyday lives.
URL:https://adhdandautism.org/event/adult-adhd-group-online-4th-tuesday/2028-06-27/
LOCATION:CAAS Centre\, 269 Field End Road\, Eastcote\, HA4 9XA\, United Kingdom
CATEGORIES:Adults
ORGANIZER;CN="Adult Team":MAILTO:adults@adhdandautism.org
END:VEVENT
BEGIN:VEVENT
DTSTART;TZID=Europe/London:20280710T190000
DTEND;TZID=Europe/London:20280710T210000
DTSTAMP:20260423T151354
CREATED:20260421T111835Z
LAST-MODIFIED:20260421T111933Z
UID:10023075-1846868400-1846875600@adhdandautism.org
SUMMARY:Adult ADHD Group - online (2nd Monday)
DESCRIPTION:For adults who have a diagnosis of ADHD or who suspect they have ADHD and are who a resident of Harrow and Hillingdon. \nThe adult ADHD group provides a safe and non-judgemental environment for adults to come and explore what it means to have a diagnosis of ADHD\, and to get help and support with issues arising in their everyday lives.
URL:https://adhdandautism.org/event/adult-adhd-group-tuesday-in-person-2/2028-07-10/
LOCATION:Online
CATEGORIES:Adults
ORGANIZER;CN="Adult Team":MAILTO:adults@adhdandautism.org
END:VEVENT
BEGIN:VEVENT
DTSTART;TZID=Europe/London:20280725T150000
DTEND;TZID=Europe/London:20280725T170000
DTSTAMP:20260423T151354
CREATED:20260305T204635Z
LAST-MODIFIED:20260421T111737Z
UID:10022648-1848150000-1848157200@adhdandautism.org
SUMMARY:Adult ADHD Group (4th Tuesday)
DESCRIPTION:For adults who have a diagnosis of ADHD or who suspect they have ADHD and are who a resident of Harrow and Hillingdon. \nThe adult ADHD group provides a safe and non-judgemental environment for adults to come and explore what it means to have a diagnosis of ADHD\, and to get help and support with issues arising in their everyday lives.
URL:https://adhdandautism.org/event/adult-adhd-group-online-4th-tuesday/2028-07-25/
LOCATION:CAAS Centre\, 269 Field End Road\, Eastcote\, HA4 9XA\, United Kingdom
CATEGORIES:Adults
ORGANIZER;CN="Adult Team":MAILTO:adults@adhdandautism.org
END:VEVENT
BEGIN:VEVENT
DTSTART;TZID=Europe/London:20280814T190000
DTEND;TZID=Europe/London:20280814T210000
DTSTAMP:20260423T151354
CREATED:20230522T111303Z
LAST-MODIFIED:20260421T111838Z
UID:10014258-1849892400-1849899600@adhdandautism.org
SUMMARY:Adult ADHD Evening Group - in-person (2nd Monday)
DESCRIPTION:For adults who have a diagnosis of ADHD or who suspect they have ADHD and are who a resident of Harrow and Hillingdon. \nThe adult ADHD group provides a safe and non-judgemental environment for adults to come and explore what it means to have a diagnosis of ADHD\, and to get help and support with issues arising in their everyday lives. Alternating months in-person and online.
URL:https://adhdandautism.org/event/adult-adhd-group-monday/2028-08-14/
LOCATION:CAAS Centre\, 269 Field End Road\, Eastcote\, HA4 9XA\, United Kingdom
CATEGORIES:Adults
ORGANIZER;CN="Adult Team":MAILTO:adults@adhdandautism.org
END:VEVENT
BEGIN:VEVENT
DTSTART;TZID=Europe/London:20280822T150000
DTEND;TZID=Europe/London:20280822T170000
DTSTAMP:20260423T151354
CREATED:20260305T204635Z
LAST-MODIFIED:20260421T111737Z
UID:10023016-1850569200-1850576400@adhdandautism.org
SUMMARY:Adult ADHD Group (4th Tuesday)
DESCRIPTION:For adults who have a diagnosis of ADHD or who suspect they have ADHD and are who a resident of Harrow and Hillingdon. \nThe adult ADHD group provides a safe and non-judgemental environment for adults to come and explore what it means to have a diagnosis of ADHD\, and to get help and support with issues arising in their everyday lives.
URL:https://adhdandautism.org/event/adult-adhd-group-online-4th-tuesday/2028-08-22/
LOCATION:CAAS Centre\, 269 Field End Road\, Eastcote\, HA4 9XA\, United Kingdom
CATEGORIES:Adults
ORGANIZER;CN="Adult Team":MAILTO:adults@adhdandautism.org
END:VEVENT
BEGIN:VEVENT
DTSTART;TZID=Europe/London:20280911T190000
DTEND;TZID=Europe/London:20280911T210000
DTSTAMP:20260423T151354
CREATED:20260421T111835Z
LAST-MODIFIED:20260421T111933Z
UID:10023076-1852311600-1852318800@adhdandautism.org
SUMMARY:Adult ADHD Group - online (2nd Monday)
DESCRIPTION:For adults who have a diagnosis of ADHD or who suspect they have ADHD and are who a resident of Harrow and Hillingdon. \nThe adult ADHD group provides a safe and non-judgemental environment for adults to come and explore what it means to have a diagnosis of ADHD\, and to get help and support with issues arising in their everyday lives.
URL:https://adhdandautism.org/event/adult-adhd-group-tuesday-in-person-2/2028-09-11/
LOCATION:Online
CATEGORIES:Adults
ORGANIZER;CN="Adult Team":MAILTO:adults@adhdandautism.org
END:VEVENT
BEGIN:VEVENT
DTSTART;TZID=Europe/London:20280926T150000
DTEND;TZID=Europe/London:20280926T170000
DTSTAMP:20260423T151354
CREATED:20260305T204635Z
LAST-MODIFIED:20260421T111737Z
UID:10022649-1853593200-1853600400@adhdandautism.org
SUMMARY:Adult ADHD Group (4th Tuesday)
DESCRIPTION:For adults who have a diagnosis of ADHD or who suspect they have ADHD and are who a resident of Harrow and Hillingdon. \nThe adult ADHD group provides a safe and non-judgemental environment for adults to come and explore what it means to have a diagnosis of ADHD\, and to get help and support with issues arising in their everyday lives.
URL:https://adhdandautism.org/event/adult-adhd-group-online-4th-tuesday/2028-09-26/
LOCATION:CAAS Centre\, 269 Field End Road\, Eastcote\, HA4 9XA\, United Kingdom
CATEGORIES:Adults
ORGANIZER;CN="Adult Team":MAILTO:adults@adhdandautism.org
END:VEVENT
BEGIN:VEVENT
DTSTART;TZID=Europe/London:20281009T190000
DTEND;TZID=Europe/London:20281009T210000
DTSTAMP:20260423T151354
CREATED:20230522T111303Z
LAST-MODIFIED:20260421T111838Z
UID:10014260-1854730800-1854738000@adhdandautism.org
SUMMARY:Adult ADHD Evening Group - in-person (2nd Monday)
DESCRIPTION:For adults who have a diagnosis of ADHD or who suspect they have ADHD and are who a resident of Harrow and Hillingdon. \nThe adult ADHD group provides a safe and non-judgemental environment for adults to come and explore what it means to have a diagnosis of ADHD\, and to get help and support with issues arising in their everyday lives. Alternating months in-person and online.
URL:https://adhdandautism.org/event/adult-adhd-group-monday/2028-10-09/
LOCATION:CAAS Centre\, 269 Field End Road\, Eastcote\, HA4 9XA\, United Kingdom
CATEGORIES:Adults
ORGANIZER;CN="Adult Team":MAILTO:adults@adhdandautism.org
END:VEVENT
BEGIN:VEVENT
DTSTART;TZID=Europe/London:20281024T150000
DTEND;TZID=Europe/London:20281024T170000
DTSTAMP:20260423T151354
CREATED:20260305T204635Z
LAST-MODIFIED:20260421T111737Z
UID:10023017-1856012400-1856019600@adhdandautism.org
SUMMARY:Adult ADHD Group (4th Tuesday)
DESCRIPTION:For adults who have a diagnosis of ADHD or who suspect they have ADHD and are who a resident of Harrow and Hillingdon. \nThe adult ADHD group provides a safe and non-judgemental environment for adults to come and explore what it means to have a diagnosis of ADHD\, and to get help and support with issues arising in their everyday lives.
URL:https://adhdandautism.org/event/adult-adhd-group-online-4th-tuesday/2028-10-24/
LOCATION:CAAS Centre\, 269 Field End Road\, Eastcote\, HA4 9XA\, United Kingdom
CATEGORIES:Adults
ORGANIZER;CN="Adult Team":MAILTO:adults@adhdandautism.org
END:VEVENT
BEGIN:VEVENT
DTSTART;TZID=Europe/London:20281113T190000
DTEND;TZID=Europe/London:20281113T210000
DTSTAMP:20260423T151354
CREATED:20260421T111835Z
LAST-MODIFIED:20260421T111933Z
UID:10023077-1857754800-1857762000@adhdandautism.org
SUMMARY:Adult ADHD Group - online (2nd Monday)
DESCRIPTION:For adults who have a diagnosis of ADHD or who suspect they have ADHD and are who a resident of Harrow and Hillingdon. \nThe adult ADHD group provides a safe and non-judgemental environment for adults to come and explore what it means to have a diagnosis of ADHD\, and to get help and support with issues arising in their everyday lives.
URL:https://adhdandautism.org/event/adult-adhd-group-tuesday-in-person-2/2028-11-13/
LOCATION:Online
CATEGORIES:Adults
ORGANIZER;CN="Adult Team":MAILTO:adults@adhdandautism.org
END:VEVENT
BEGIN:VEVENT
DTSTART;TZID=Europe/London:20281128T150000
DTEND;TZID=Europe/London:20281128T170000
DTSTAMP:20260423T151354
CREATED:20260305T204635Z
LAST-MODIFIED:20260421T111737Z
UID:10022650-1859036400-1859043600@adhdandautism.org
SUMMARY:Adult ADHD Group (4th Tuesday)
DESCRIPTION:For adults who have a diagnosis of ADHD or who suspect they have ADHD and are who a resident of Harrow and Hillingdon. \nThe adult ADHD group provides a safe and non-judgemental environment for adults to come and explore what it means to have a diagnosis of ADHD\, and to get help and support with issues arising in their everyday lives.
URL:https://adhdandautism.org/event/adult-adhd-group-online-4th-tuesday/2028-11-28/
LOCATION:CAAS Centre\, 269 Field End Road\, Eastcote\, HA4 9XA\, United Kingdom
CATEGORIES:Adults
ORGANIZER;CN="Adult Team":MAILTO:adults@adhdandautism.org
END:VEVENT
BEGIN:VEVENT
DTSTART;TZID=Europe/London:20281211T190000
DTEND;TZID=Europe/London:20281211T210000
DTSTAMP:20260423T151354
CREATED:20230522T111303Z
LAST-MODIFIED:20260421T111838Z
UID:10014262-1860174000-1860181200@adhdandautism.org
SUMMARY:Adult ADHD Evening Group - in-person (2nd Monday)
DESCRIPTION:For adults who have a diagnosis of ADHD or who suspect they have ADHD and are who a resident of Harrow and Hillingdon. \nThe adult ADHD group provides a safe and non-judgemental environment for adults to come and explore what it means to have a diagnosis of ADHD\, and to get help and support with issues arising in their everyday lives. Alternating months in-person and online.
URL:https://adhdandautism.org/event/adult-adhd-group-monday/2028-12-11/
LOCATION:CAAS Centre\, 269 Field End Road\, Eastcote\, HA4 9XA\, United Kingdom
CATEGORIES:Adults
ORGANIZER;CN="Adult Team":MAILTO:adults@adhdandautism.org
END:VEVENT
BEGIN:VEVENT
DTSTART;TZID=Europe/London:20281226T150000
DTEND;TZID=Europe/London:20281226T170000
DTSTAMP:20260423T151354
CREATED:20260305T204635Z
LAST-MODIFIED:20260421T111737Z
UID:10023018-1861455600-1861462800@adhdandautism.org
SUMMARY:Adult ADHD Group (4th Tuesday)
DESCRIPTION:For adults who have a diagnosis of ADHD or who suspect they have ADHD and are who a resident of Harrow and Hillingdon. \nThe adult ADHD group provides a safe and non-judgemental environment for adults to come and explore what it means to have a diagnosis of ADHD\, and to get help and support with issues arising in their everyday lives.
URL:https://adhdandautism.org/event/adult-adhd-group-online-4th-tuesday/2028-12-26/
LOCATION:CAAS Centre\, 269 Field End Road\, Eastcote\, HA4 9XA\, United Kingdom
CATEGORIES:Adults
ORGANIZER;CN="Adult Team":MAILTO:adults@adhdandautism.org
END:VEVENT
BEGIN:VEVENT
DTSTART;TZID=Europe/London:20290108T190000
DTEND;TZID=Europe/London:20290108T210000
DTSTAMP:20260423T151354
CREATED:20260421T111835Z
LAST-MODIFIED:20260421T111933Z
UID:10023078-1862593200-1862600400@adhdandautism.org
SUMMARY:Adult ADHD Group - online (2nd Monday)
DESCRIPTION:For adults who have a diagnosis of ADHD or who suspect they have ADHD and are who a resident of Harrow and Hillingdon. \nThe adult ADHD group provides a safe and non-judgemental environment for adults to come and explore what it means to have a diagnosis of ADHD\, and to get help and support with issues arising in their everyday lives.
URL:https://adhdandautism.org/event/adult-adhd-group-tuesday-in-person-2/2029-01-08/
LOCATION:Online
CATEGORIES:Adults
ORGANIZER;CN="Adult Team":MAILTO:adults@adhdandautism.org
END:VEVENT
BEGIN:VEVENT
DTSTART;TZID=Europe/London:20290123T150000
DTEND;TZID=Europe/London:20290123T170000
DTSTAMP:20260423T151354
CREATED:20260305T204635Z
LAST-MODIFIED:20260421T111737Z
UID:10022651-1863874800-1863882000@adhdandautism.org
SUMMARY:Adult ADHD Group (4th Tuesday)
DESCRIPTION:For adults who have a diagnosis of ADHD or who suspect they have ADHD and are who a resident of Harrow and Hillingdon. \nThe adult ADHD group provides a safe and non-judgemental environment for adults to come and explore what it means to have a diagnosis of ADHD\, and to get help and support with issues arising in their everyday lives.
URL:https://adhdandautism.org/event/adult-adhd-group-online-4th-tuesday/2029-01-23/
LOCATION:CAAS Centre\, 269 Field End Road\, Eastcote\, HA4 9XA\, United Kingdom
CATEGORIES:Adults
ORGANIZER;CN="Adult Team":MAILTO:adults@adhdandautism.org
END:VEVENT
BEGIN:VEVENT
DTSTART;TZID=Europe/London:20290212T190000
DTEND;TZID=Europe/London:20290212T210000
DTSTAMP:20260423T151354
CREATED:20230522T111303Z
LAST-MODIFIED:20260421T111838Z
UID:10014264-1865617200-1865624400@adhdandautism.org
SUMMARY:Adult ADHD Evening Group - in-person (2nd Monday)
DESCRIPTION:For adults who have a diagnosis of ADHD or who suspect they have ADHD and are who a resident of Harrow and Hillingdon. \nThe adult ADHD group provides a safe and non-judgemental environment for adults to come and explore what it means to have a diagnosis of ADHD\, and to get help and support with issues arising in their everyday lives. Alternating months in-person and online.
URL:https://adhdandautism.org/event/adult-adhd-group-monday/2029-02-12/
LOCATION:CAAS Centre\, 269 Field End Road\, Eastcote\, HA4 9XA\, United Kingdom
CATEGORIES:Adults
ORGANIZER;CN="Adult Team":MAILTO:adults@adhdandautism.org
END:VEVENT
BEGIN:VEVENT
DTSTART;TZID=Europe/London:20290227T150000
DTEND;TZID=Europe/London:20290227T170000
DTSTAMP:20260423T151354
CREATED:20260305T204635Z
LAST-MODIFIED:20260421T111737Z
UID:10023019-1866898800-1866906000@adhdandautism.org
SUMMARY:Adult ADHD Group (4th Tuesday)
DESCRIPTION:For adults who have a diagnosis of ADHD or who suspect they have ADHD and are who a resident of Harrow and Hillingdon. \nThe adult ADHD group provides a safe and non-judgemental environment for adults to come and explore what it means to have a diagnosis of ADHD\, and to get help and support with issues arising in their everyday lives.
URL:https://adhdandautism.org/event/adult-adhd-group-online-4th-tuesday/2029-02-27/
LOCATION:CAAS Centre\, 269 Field End Road\, Eastcote\, HA4 9XA\, United Kingdom
CATEGORIES:Adults
ORGANIZER;CN="Adult Team":MAILTO:adults@adhdandautism.org
END:VEVENT
BEGIN:VEVENT
DTSTART;TZID=Europe/London:20290312T190000
DTEND;TZID=Europe/London:20290312T210000
DTSTAMP:20260423T151354
CREATED:20260421T111835Z
LAST-MODIFIED:20260421T111933Z
UID:10023079-1868036400-1868043600@adhdandautism.org
SUMMARY:Adult ADHD Group - online (2nd Monday)
DESCRIPTION:For adults who have a diagnosis of ADHD or who suspect they have ADHD and are who a resident of Harrow and Hillingdon. \nThe adult ADHD group provides a safe and non-judgemental environment for adults to come and explore what it means to have a diagnosis of ADHD\, and to get help and support with issues arising in their everyday lives.
URL:https://adhdandautism.org/event/adult-adhd-group-tuesday-in-person-2/2029-03-12/
LOCATION:Online
CATEGORIES:Adults
ORGANIZER;CN="Adult Team":MAILTO:adults@adhdandautism.org
END:VEVENT
END:VCALENDAR