BEGIN:VCALENDAR
VERSION:2.0
PRODID:-//Centre for ADHD and Autism Support - ECPv6.15.20//NONSGML v1.0//EN
CALSCALE:GREGORIAN
METHOD:PUBLISH
X-WR-CALNAME:Centre for ADHD and Autism Support
X-ORIGINAL-URL:https://adhdandautism.org
X-WR-CALDESC:Events for Centre for ADHD and Autism Support
REFRESH-INTERVAL;VALUE=DURATION:PT1H
X-Robots-Tag:noindex
X-PUBLISHED-TTL:PT1H
BEGIN:VTIMEZONE
TZID:Europe/London
BEGIN:DAYLIGHT
TZOFFSETFROM:+0000
TZOFFSETTO:+0100
TZNAME:BST
DTSTART:20250330T010000
END:DAYLIGHT
BEGIN:STANDARD
TZOFFSETFROM:+0100
TZOFFSETTO:+0000
TZNAME:GMT
DTSTART:20251026T010000
END:STANDARD
BEGIN:DAYLIGHT
TZOFFSETFROM:+0000
TZOFFSETTO:+0100
TZNAME:BST
DTSTART:20260329T010000
END:DAYLIGHT
BEGIN:STANDARD
TZOFFSETFROM:+0100
TZOFFSETTO:+0000
TZNAME:GMT
DTSTART:20261025T010000
END:STANDARD
BEGIN:DAYLIGHT
TZOFFSETFROM:+0000
TZOFFSETTO:+0100
TZNAME:BST
DTSTART:20270328T010000
END:DAYLIGHT
BEGIN:STANDARD
TZOFFSETFROM:+0100
TZOFFSETTO:+0000
TZNAME:GMT
DTSTART:20271031T010000
END:STANDARD
END:VTIMEZONE
BEGIN:VEVENT
DTSTART;TZID=Europe/London:20260429T103000
DTEND;TZID=Europe/London:20260429T120000
DTSTAMP:20260425T001003
CREATED:20250912T090042Z
LAST-MODIFIED:20251025T091438Z
UID:10020398-1777458600-1777464000@adhdandautism.org
SUMMARY:Drop-In Support Group (Bay20) (Wednesdays)
DESCRIPTION:The support sessions are a great introduction to our services: you can meet someone from both the Family Support and Youth Teams and find out about the help we can provide for you and your family\, as well as connect with other parents/carers in a similar situation. \n 
URL:https://adhdandautism.org/event/drop-in-support-group-bay20-wednesdays-2/2026-04-29/
LOCATION:Bay 20 Community Centre\, 71 St Marks Road\, London\, W10 6JG\, United Kingdom
CATEGORIES:Parent / Carer
ORGANIZER;CN="CAAS Enquiries":MAILTO:enquiries@adhdandautism.org
END:VEVENT
BEGIN:VEVENT
DTSTART;TZID=Europe/London:20260505T163000
DTEND;TZID=Europe/London:20260505T180000
DTSTAMP:20260425T001003
CREATED:20260106T130924Z
LAST-MODIFIED:20260223T145816Z
UID:10022259-1777998600-1778004000@adhdandautism.org
SUMMARY:Social Group for Young People (14-17) (1st Tuesday)
DESCRIPTION:For ADHD/Autistic people in school years 10 to 12. Places must be booked. \nThrough games\, quizzes\, arts/crafts and discussion\, this group gives ADHD/autistic young people the opportunity to develop friendships and connections with other people as well as increase their understanding of what being neurodivergent means to them. \nPre-registration and session-booking are required.
URL:https://adhdandautism.org/event/social-group-plus/2026-05-05/
LOCATION:Bay 20 Community Centre\, 71 St Marks Road\, London\, W10 6JG\, United Kingdom
CATEGORIES:Youth
ORGANIZER;CN="Karen Crocker":MAILTO:karen@adhdandautism.org
END:VEVENT
BEGIN:VEVENT
DTSTART;TZID=Europe/London:20260506T103000
DTEND;TZID=Europe/London:20260506T120000
DTSTAMP:20260425T001003
CREATED:20250912T090042Z
LAST-MODIFIED:20251025T091438Z
UID:10020400-1778063400-1778068800@adhdandautism.org
SUMMARY:Drop-In Support Group (Bay20) (Wednesdays)
DESCRIPTION:The support sessions are a great introduction to our services: you can meet someone from both the Family Support and Youth Teams and find out about the help we can provide for you and your family\, as well as connect with other parents/carers in a similar situation. \n 
URL:https://adhdandautism.org/event/drop-in-support-group-bay20-wednesdays-2/2026-05-06/
LOCATION:Bay 20 Community Centre\, 71 St Marks Road\, London\, W10 6JG\, United Kingdom
CATEGORIES:Parent / Carer
ORGANIZER;CN="CAAS Enquiries":MAILTO:enquiries@adhdandautism.org
END:VEVENT
BEGIN:VEVENT
DTSTART;TZID=Europe/London:20260511T163000
DTEND;TZID=Europe/London:20260511T180000
DTSTAMP:20260425T001003
CREATED:20260106T130950Z
LAST-MODIFIED:20260223T145837Z
UID:10022319-1778517000-1778522400@adhdandautism.org
SUMMARY:Social Group for Young People (11-14) (2nd Monday)
DESCRIPTION:For ADHD/Autistic people in school years 7 to 9. Places must be booked. \nThrough games\, quizzes\, arts/crafts and discussion\, this group gives ADHD/autistic young people the opportunity to develop friendships and connections with other people as well as increase their understanding of what being neurodivergent means to them. \nPre-registration and session-booking are required.
URL:https://adhdandautism.org/event/social-group-2/2026-05-11/
LOCATION:Bay 20 Community Centre\, 71 St Marks Road\, London\, W10 6JG\, United Kingdom
CATEGORIES:Youth
ORGANIZER;CN="Karen Crocker":MAILTO:karen@adhdandautism.org
END:VEVENT
BEGIN:VEVENT
DTSTART;TZID=Europe/London:20260513T103000
DTEND;TZID=Europe/London:20260513T120000
DTSTAMP:20260425T001003
CREATED:20250912T090042Z
LAST-MODIFIED:20251025T091438Z
UID:10020402-1778668200-1778673600@adhdandautism.org
SUMMARY:Drop-In Support Group (Bay20) (Wednesdays)
DESCRIPTION:The support sessions are a great introduction to our services: you can meet someone from both the Family Support and Youth Teams and find out about the help we can provide for you and your family\, as well as connect with other parents/carers in a similar situation. \n 
URL:https://adhdandautism.org/event/drop-in-support-group-bay20-wednesdays-2/2026-05-13/
LOCATION:Bay 20 Community Centre\, 71 St Marks Road\, London\, W10 6JG\, United Kingdom
CATEGORIES:Parent / Carer
ORGANIZER;CN="CAAS Enquiries":MAILTO:enquiries@adhdandautism.org
END:VEVENT
BEGIN:VEVENT
DTSTART;TZID=Europe/London:20260518T190000
DTEND;TZID=Europe/London:20260518T210000
DTSTAMP:20260425T001003
CREATED:20250903T135845Z
LAST-MODIFIED:20250903T135851Z
UID:10020145-1779130800-1779138000@adhdandautism.org
SUMMARY:Women's Forum (Bay20) (3rd Monday)
DESCRIPTION:Closed Group – attendance by appointment only. \nThe aim of the group is to provide a safe\, non-judgmental forum for women to share their thoughts\, experiences and ideas. You may participate actively or passively: you can involve yourself in a group discussion or simply listen to what other women have to say. One topic is selected for discussion each month and advance notice of can be provided to those who wish to know. \n\n\n\n\nNew attendees must be autistic or think they might be on the autism spectrum\, a Harrow or Hillingdon resident\, complete a registration form and engage with an initial meeting with the group facilitators before attending these groups.
URL:https://adhdandautism.org/event/womens-forum-bay20-3rd-monday/2026-05-18/
LOCATION:Bay 20 Community Centre\, 71 St Marks Road\, London\, W10 6JG\, United Kingdom
CATEGORIES:Adults
ORGANIZER;CN="Adult Team":MAILTO:adults@adhdandautism.org
END:VEVENT
BEGIN:VEVENT
DTSTART;TZID=Europe/London:20260519T140000
DTEND;TZID=Europe/London:20260519T140000
DTSTAMP:20260425T001003
CREATED:20250902T102637Z
LAST-MODIFIED:20260223T150434Z
UID:10020007-1779199200-1779199200@adhdandautism.org
SUMMARY:Creative Coffee Connects (Drop-ins) - Bay20 (3rd Tuesday)
DESCRIPTION:If you’re an adult NWL resident who identifies as autistic or ADHD\, come along to one of our Coffee Connects drop-in sessions! \nWhether you’re interested in catching up with friends\, having a cuppa\, or just looking for a relaxing place to unwind with like-minded people – our drop-ins are for you. \nEven if you’re completely new to CAAS\, all are welcome. No registration necessary\, just pop by during one of the sessions for a snack\, a warm drink and some friendly chit-chat; free crafts available for anyone who would like to join in. \nThis session takes place in Bay20 Community Centre as part of Creative Coffee Drop-in’s efforts to go into different boroughs over the next few months. \n 
URL:https://adhdandautism.org/event/ccc-bay20/2026-05-19/
LOCATION:Bay 20 Community Centre\, 71 St Marks Road\, London\, W10 6JG\, United Kingdom
CATEGORIES:Adults
ORGANIZER;CN="Adult Team":MAILTO:adults@adhdandautism.org
END:VEVENT
BEGIN:VEVENT
DTSTART;TZID=Europe/London:20260520T103000
DTEND;TZID=Europe/London:20260520T120000
DTSTAMP:20260425T001003
CREATED:20250912T090042Z
LAST-MODIFIED:20251025T091438Z
UID:10020404-1779273000-1779278400@adhdandautism.org
SUMMARY:Drop-In Support Group (Bay20) (Wednesdays)
DESCRIPTION:The support sessions are a great introduction to our services: you can meet someone from both the Family Support and Youth Teams and find out about the help we can provide for you and your family\, as well as connect with other parents/carers in a similar situation. \n 
URL:https://adhdandautism.org/event/drop-in-support-group-bay20-wednesdays-2/2026-05-20/
LOCATION:Bay 20 Community Centre\, 71 St Marks Road\, London\, W10 6JG\, United Kingdom
CATEGORIES:Parent / Carer
ORGANIZER;CN="CAAS Enquiries":MAILTO:enquiries@adhdandautism.org
END:VEVENT
BEGIN:VEVENT
DTSTART;TZID=Europe/London:20260527T103000
DTEND;TZID=Europe/London:20260527T120000
DTSTAMP:20260425T001003
CREATED:20250912T090042Z
LAST-MODIFIED:20251025T091438Z
UID:10020406-1779877800-1779883200@adhdandautism.org
SUMMARY:Drop-In Support Group (Bay20) (Wednesdays)
DESCRIPTION:The support sessions are a great introduction to our services: you can meet someone from both the Family Support and Youth Teams and find out about the help we can provide for you and your family\, as well as connect with other parents/carers in a similar situation. \n 
URL:https://adhdandautism.org/event/drop-in-support-group-bay20-wednesdays-2/2026-05-27/
LOCATION:Bay 20 Community Centre\, 71 St Marks Road\, London\, W10 6JG\, United Kingdom
CATEGORIES:Parent / Carer
ORGANIZER;CN="CAAS Enquiries":MAILTO:enquiries@adhdandautism.org
END:VEVENT
BEGIN:VEVENT
DTSTART;TZID=Europe/London:20260602T163000
DTEND;TZID=Europe/London:20260602T180000
DTSTAMP:20260425T001003
CREATED:20260106T130924Z
LAST-MODIFIED:20260223T145816Z
UID:10022260-1780417800-1780423200@adhdandautism.org
SUMMARY:Social Group for Young People (14-17) (1st Tuesday)
DESCRIPTION:For ADHD/Autistic people in school years 10 to 12. Places must be booked. \nThrough games\, quizzes\, arts/crafts and discussion\, this group gives ADHD/autistic young people the opportunity to develop friendships and connections with other people as well as increase their understanding of what being neurodivergent means to them. \nPre-registration and session-booking are required.
URL:https://adhdandautism.org/event/social-group-plus/2026-06-02/
LOCATION:Bay 20 Community Centre\, 71 St Marks Road\, London\, W10 6JG\, United Kingdom
CATEGORIES:Youth
ORGANIZER;CN="Karen Crocker":MAILTO:karen@adhdandautism.org
END:VEVENT
BEGIN:VEVENT
DTSTART;TZID=Europe/London:20260603T103000
DTEND;TZID=Europe/London:20260603T120000
DTSTAMP:20260425T001003
CREATED:20250912T090042Z
LAST-MODIFIED:20251025T091438Z
UID:10020408-1780482600-1780488000@adhdandautism.org
SUMMARY:Drop-In Support Group (Bay20) (Wednesdays)
DESCRIPTION:The support sessions are a great introduction to our services: you can meet someone from both the Family Support and Youth Teams and find out about the help we can provide for you and your family\, as well as connect with other parents/carers in a similar situation. \n 
URL:https://adhdandautism.org/event/drop-in-support-group-bay20-wednesdays-2/2026-06-03/
LOCATION:Bay 20 Community Centre\, 71 St Marks Road\, London\, W10 6JG\, United Kingdom
CATEGORIES:Parent / Carer
ORGANIZER;CN="CAAS Enquiries":MAILTO:enquiries@adhdandautism.org
END:VEVENT
BEGIN:VEVENT
DTSTART;TZID=Europe/London:20260608T163000
DTEND;TZID=Europe/London:20260608T180000
DTSTAMP:20260425T001003
CREATED:20260106T130950Z
LAST-MODIFIED:20260223T145837Z
UID:10022320-1780936200-1780941600@adhdandautism.org
SUMMARY:Social Group for Young People (11-14) (2nd Monday)
DESCRIPTION:For ADHD/Autistic people in school years 7 to 9. Places must be booked. \nThrough games\, quizzes\, arts/crafts and discussion\, this group gives ADHD/autistic young people the opportunity to develop friendships and connections with other people as well as increase their understanding of what being neurodivergent means to them. \nPre-registration and session-booking are required.
URL:https://adhdandautism.org/event/social-group-2/2026-06-08/
LOCATION:Bay 20 Community Centre\, 71 St Marks Road\, London\, W10 6JG\, United Kingdom
CATEGORIES:Youth
ORGANIZER;CN="Karen Crocker":MAILTO:karen@adhdandautism.org
END:VEVENT
BEGIN:VEVENT
DTSTART;TZID=Europe/London:20260610T103000
DTEND;TZID=Europe/London:20260610T120000
DTSTAMP:20260425T001003
CREATED:20250912T090042Z
LAST-MODIFIED:20251025T091438Z
UID:10020410-1781087400-1781092800@adhdandautism.org
SUMMARY:Drop-In Support Group (Bay20) (Wednesdays)
DESCRIPTION:The support sessions are a great introduction to our services: you can meet someone from both the Family Support and Youth Teams and find out about the help we can provide for you and your family\, as well as connect with other parents/carers in a similar situation. \n 
URL:https://adhdandautism.org/event/drop-in-support-group-bay20-wednesdays-2/2026-06-10/
LOCATION:Bay 20 Community Centre\, 71 St Marks Road\, London\, W10 6JG\, United Kingdom
CATEGORIES:Parent / Carer
ORGANIZER;CN="CAAS Enquiries":MAILTO:enquiries@adhdandautism.org
END:VEVENT
BEGIN:VEVENT
DTSTART;TZID=Europe/London:20260615T190000
DTEND;TZID=Europe/London:20260615T210000
DTSTAMP:20260425T001003
CREATED:20250903T135845Z
LAST-MODIFIED:20250903T135851Z
UID:10020146-1781550000-1781557200@adhdandautism.org
SUMMARY:Women's Forum (Bay20) (3rd Monday)
DESCRIPTION:Closed Group – attendance by appointment only. \nThe aim of the group is to provide a safe\, non-judgmental forum for women to share their thoughts\, experiences and ideas. You may participate actively or passively: you can involve yourself in a group discussion or simply listen to what other women have to say. One topic is selected for discussion each month and advance notice of can be provided to those who wish to know. \n\n\n\n\nNew attendees must be autistic or think they might be on the autism spectrum\, a Harrow or Hillingdon resident\, complete a registration form and engage with an initial meeting with the group facilitators before attending these groups.
URL:https://adhdandautism.org/event/womens-forum-bay20-3rd-monday/2026-06-15/
LOCATION:Bay 20 Community Centre\, 71 St Marks Road\, London\, W10 6JG\, United Kingdom
CATEGORIES:Adults
ORGANIZER;CN="Adult Team":MAILTO:adults@adhdandautism.org
END:VEVENT
BEGIN:VEVENT
DTSTART;TZID=Europe/London:20260616T140000
DTEND;TZID=Europe/London:20260616T140000
DTSTAMP:20260425T001003
CREATED:20250902T102637Z
LAST-MODIFIED:20260223T150434Z
UID:10020008-1781618400-1781618400@adhdandautism.org
SUMMARY:Creative Coffee Connects (Drop-ins) - Bay20 (3rd Tuesday)
DESCRIPTION:If you’re an adult NWL resident who identifies as autistic or ADHD\, come along to one of our Coffee Connects drop-in sessions! \nWhether you’re interested in catching up with friends\, having a cuppa\, or just looking for a relaxing place to unwind with like-minded people – our drop-ins are for you. \nEven if you’re completely new to CAAS\, all are welcome. No registration necessary\, just pop by during one of the sessions for a snack\, a warm drink and some friendly chit-chat; free crafts available for anyone who would like to join in. \nThis session takes place in Bay20 Community Centre as part of Creative Coffee Drop-in’s efforts to go into different boroughs over the next few months. \n 
URL:https://adhdandautism.org/event/ccc-bay20/2026-06-16/
LOCATION:Bay 20 Community Centre\, 71 St Marks Road\, London\, W10 6JG\, United Kingdom
CATEGORIES:Adults
ORGANIZER;CN="Adult Team":MAILTO:adults@adhdandautism.org
END:VEVENT
BEGIN:VEVENT
DTSTART;TZID=Europe/London:20260617T103000
DTEND;TZID=Europe/London:20260617T120000
DTSTAMP:20260425T001003
CREATED:20250912T090042Z
LAST-MODIFIED:20251025T091438Z
UID:10020412-1781692200-1781697600@adhdandautism.org
SUMMARY:Drop-In Support Group (Bay20) (Wednesdays)
DESCRIPTION:The support sessions are a great introduction to our services: you can meet someone from both the Family Support and Youth Teams and find out about the help we can provide for you and your family\, as well as connect with other parents/carers in a similar situation. \n 
URL:https://adhdandautism.org/event/drop-in-support-group-bay20-wednesdays-2/2026-06-17/
LOCATION:Bay 20 Community Centre\, 71 St Marks Road\, London\, W10 6JG\, United Kingdom
CATEGORIES:Parent / Carer
ORGANIZER;CN="CAAS Enquiries":MAILTO:enquiries@adhdandautism.org
END:VEVENT
BEGIN:VEVENT
DTSTART;TZID=Europe/London:20260624T103000
DTEND;TZID=Europe/London:20260624T120000
DTSTAMP:20260425T001003
CREATED:20250912T090042Z
LAST-MODIFIED:20251025T091438Z
UID:10020414-1782297000-1782302400@adhdandautism.org
SUMMARY:Drop-In Support Group (Bay20) (Wednesdays)
DESCRIPTION:The support sessions are a great introduction to our services: you can meet someone from both the Family Support and Youth Teams and find out about the help we can provide for you and your family\, as well as connect with other parents/carers in a similar situation. \n 
URL:https://adhdandautism.org/event/drop-in-support-group-bay20-wednesdays-2/2026-06-24/
LOCATION:Bay 20 Community Centre\, 71 St Marks Road\, London\, W10 6JG\, United Kingdom
CATEGORIES:Parent / Carer
ORGANIZER;CN="CAAS Enquiries":MAILTO:enquiries@adhdandautism.org
END:VEVENT
BEGIN:VEVENT
DTSTART;TZID=Europe/London:20260701T103000
DTEND;TZID=Europe/London:20260701T120000
DTSTAMP:20260425T001003
CREATED:20250912T090042Z
LAST-MODIFIED:20251025T091438Z
UID:10020416-1782901800-1782907200@adhdandautism.org
SUMMARY:Drop-In Support Group (Bay20) (Wednesdays)
DESCRIPTION:The support sessions are a great introduction to our services: you can meet someone from both the Family Support and Youth Teams and find out about the help we can provide for you and your family\, as well as connect with other parents/carers in a similar situation. \n 
URL:https://adhdandautism.org/event/drop-in-support-group-bay20-wednesdays-2/2026-07-01/
LOCATION:Bay 20 Community Centre\, 71 St Marks Road\, London\, W10 6JG\, United Kingdom
CATEGORIES:Parent / Carer
ORGANIZER;CN="CAAS Enquiries":MAILTO:enquiries@adhdandautism.org
END:VEVENT
BEGIN:VEVENT
DTSTART;TZID=Europe/London:20260707T163000
DTEND;TZID=Europe/London:20260707T180000
DTSTAMP:20260425T001003
CREATED:20260106T130924Z
LAST-MODIFIED:20260223T145816Z
UID:10022261-1783441800-1783447200@adhdandautism.org
SUMMARY:Social Group for Young People (14-17) (1st Tuesday)
DESCRIPTION:For ADHD/Autistic people in school years 10 to 12. Places must be booked. \nThrough games\, quizzes\, arts/crafts and discussion\, this group gives ADHD/autistic young people the opportunity to develop friendships and connections with other people as well as increase their understanding of what being neurodivergent means to them. \nPre-registration and session-booking are required.
URL:https://adhdandautism.org/event/social-group-plus/2026-07-07/
LOCATION:Bay 20 Community Centre\, 71 St Marks Road\, London\, W10 6JG\, United Kingdom
CATEGORIES:Youth
ORGANIZER;CN="Karen Crocker":MAILTO:karen@adhdandautism.org
END:VEVENT
BEGIN:VEVENT
DTSTART;TZID=Europe/London:20260708T103000
DTEND;TZID=Europe/London:20260708T120000
DTSTAMP:20260425T001003
CREATED:20250912T090042Z
LAST-MODIFIED:20251025T091438Z
UID:10020418-1783506600-1783512000@adhdandautism.org
SUMMARY:Drop-In Support Group (Bay20) (Wednesdays)
DESCRIPTION:The support sessions are a great introduction to our services: you can meet someone from both the Family Support and Youth Teams and find out about the help we can provide for you and your family\, as well as connect with other parents/carers in a similar situation. \n 
URL:https://adhdandautism.org/event/drop-in-support-group-bay20-wednesdays-2/2026-07-08/
LOCATION:Bay 20 Community Centre\, 71 St Marks Road\, London\, W10 6JG\, United Kingdom
CATEGORIES:Parent / Carer
ORGANIZER;CN="CAAS Enquiries":MAILTO:enquiries@adhdandautism.org
END:VEVENT
BEGIN:VEVENT
DTSTART;TZID=Europe/London:20260713T163000
DTEND;TZID=Europe/London:20260713T180000
DTSTAMP:20260425T001003
CREATED:20260106T130950Z
LAST-MODIFIED:20260223T145837Z
UID:10022321-1783960200-1783965600@adhdandautism.org
SUMMARY:Social Group for Young People (11-14) (2nd Monday)
DESCRIPTION:For ADHD/Autistic people in school years 7 to 9. Places must be booked. \nThrough games\, quizzes\, arts/crafts and discussion\, this group gives ADHD/autistic young people the opportunity to develop friendships and connections with other people as well as increase their understanding of what being neurodivergent means to them. \nPre-registration and session-booking are required.
URL:https://adhdandautism.org/event/social-group-2/2026-07-13/
LOCATION:Bay 20 Community Centre\, 71 St Marks Road\, London\, W10 6JG\, United Kingdom
CATEGORIES:Youth
ORGANIZER;CN="Karen Crocker":MAILTO:karen@adhdandautism.org
END:VEVENT
BEGIN:VEVENT
DTSTART;TZID=Europe/London:20260715T103000
DTEND;TZID=Europe/London:20260715T120000
DTSTAMP:20260425T001003
CREATED:20250912T090042Z
LAST-MODIFIED:20251025T091438Z
UID:10020420-1784111400-1784116800@adhdandautism.org
SUMMARY:Drop-In Support Group (Bay20) (Wednesdays)
DESCRIPTION:The support sessions are a great introduction to our services: you can meet someone from both the Family Support and Youth Teams and find out about the help we can provide for you and your family\, as well as connect with other parents/carers in a similar situation. \n 
URL:https://adhdandautism.org/event/drop-in-support-group-bay20-wednesdays-2/2026-07-15/
LOCATION:Bay 20 Community Centre\, 71 St Marks Road\, London\, W10 6JG\, United Kingdom
CATEGORIES:Parent / Carer
ORGANIZER;CN="CAAS Enquiries":MAILTO:enquiries@adhdandautism.org
END:VEVENT
BEGIN:VEVENT
DTSTART;TZID=Europe/London:20260720T190000
DTEND;TZID=Europe/London:20260720T210000
DTSTAMP:20260425T001003
CREATED:20250903T135845Z
LAST-MODIFIED:20250903T135851Z
UID:10020147-1784574000-1784581200@adhdandautism.org
SUMMARY:Women's Forum (Bay20) (3rd Monday)
DESCRIPTION:Closed Group – attendance by appointment only. \nThe aim of the group is to provide a safe\, non-judgmental forum for women to share their thoughts\, experiences and ideas. You may participate actively or passively: you can involve yourself in a group discussion or simply listen to what other women have to say. One topic is selected for discussion each month and advance notice of can be provided to those who wish to know. \n\n\n\n\nNew attendees must be autistic or think they might be on the autism spectrum\, a Harrow or Hillingdon resident\, complete a registration form and engage with an initial meeting with the group facilitators before attending these groups.
URL:https://adhdandautism.org/event/womens-forum-bay20-3rd-monday/2026-07-20/
LOCATION:Bay 20 Community Centre\, 71 St Marks Road\, London\, W10 6JG\, United Kingdom
CATEGORIES:Adults
ORGANIZER;CN="Adult Team":MAILTO:adults@adhdandautism.org
END:VEVENT
BEGIN:VEVENT
DTSTART;TZID=Europe/London:20260721T140000
DTEND;TZID=Europe/London:20260721T140000
DTSTAMP:20260425T001003
CREATED:20250902T102637Z
LAST-MODIFIED:20260223T150434Z
UID:10020009-1784642400-1784642400@adhdandautism.org
SUMMARY:Creative Coffee Connects (Drop-ins) - Bay20 (3rd Tuesday)
DESCRIPTION:If you’re an adult NWL resident who identifies as autistic or ADHD\, come along to one of our Coffee Connects drop-in sessions! \nWhether you’re interested in catching up with friends\, having a cuppa\, or just looking for a relaxing place to unwind with like-minded people – our drop-ins are for you. \nEven if you’re completely new to CAAS\, all are welcome. No registration necessary\, just pop by during one of the sessions for a snack\, a warm drink and some friendly chit-chat; free crafts available for anyone who would like to join in. \nThis session takes place in Bay20 Community Centre as part of Creative Coffee Drop-in’s efforts to go into different boroughs over the next few months. \n 
URL:https://adhdandautism.org/event/ccc-bay20/2026-07-21/
LOCATION:Bay 20 Community Centre\, 71 St Marks Road\, London\, W10 6JG\, United Kingdom
CATEGORIES:Adults
ORGANIZER;CN="Adult Team":MAILTO:adults@adhdandautism.org
END:VEVENT
BEGIN:VEVENT
DTSTART;TZID=Europe/London:20260722T103000
DTEND;TZID=Europe/London:20260722T120000
DTSTAMP:20260425T001003
CREATED:20250912T090042Z
LAST-MODIFIED:20251025T091438Z
UID:10020422-1784716200-1784721600@adhdandautism.org
SUMMARY:Drop-In Support Group (Bay20) (Wednesdays)
DESCRIPTION:The support sessions are a great introduction to our services: you can meet someone from both the Family Support and Youth Teams and find out about the help we can provide for you and your family\, as well as connect with other parents/carers in a similar situation. \n 
URL:https://adhdandautism.org/event/drop-in-support-group-bay20-wednesdays-2/2026-07-22/
LOCATION:Bay 20 Community Centre\, 71 St Marks Road\, London\, W10 6JG\, United Kingdom
CATEGORIES:Parent / Carer
ORGANIZER;CN="CAAS Enquiries":MAILTO:enquiries@adhdandautism.org
END:VEVENT
BEGIN:VEVENT
DTSTART;TZID=Europe/London:20260729T103000
DTEND;TZID=Europe/London:20260729T120000
DTSTAMP:20260425T001003
CREATED:20250912T090042Z
LAST-MODIFIED:20251025T091438Z
UID:10020424-1785321000-1785326400@adhdandautism.org
SUMMARY:Drop-In Support Group (Bay20) (Wednesdays)
DESCRIPTION:The support sessions are a great introduction to our services: you can meet someone from both the Family Support and Youth Teams and find out about the help we can provide for you and your family\, as well as connect with other parents/carers in a similar situation. \n 
URL:https://adhdandautism.org/event/drop-in-support-group-bay20-wednesdays-2/2026-07-29/
LOCATION:Bay 20 Community Centre\, 71 St Marks Road\, London\, W10 6JG\, United Kingdom
CATEGORIES:Parent / Carer
ORGANIZER;CN="CAAS Enquiries":MAILTO:enquiries@adhdandautism.org
END:VEVENT
BEGIN:VEVENT
DTSTART;TZID=Europe/London:20260804T163000
DTEND;TZID=Europe/London:20260804T180000
DTSTAMP:20260425T001003
CREATED:20260106T130924Z
LAST-MODIFIED:20260223T145816Z
UID:10022262-1785861000-1785866400@adhdandautism.org
SUMMARY:Social Group for Young People (14-17) (1st Tuesday)
DESCRIPTION:For ADHD/Autistic people in school years 10 to 12. Places must be booked. \nThrough games\, quizzes\, arts/crafts and discussion\, this group gives ADHD/autistic young people the opportunity to develop friendships and connections with other people as well as increase their understanding of what being neurodivergent means to them. \nPre-registration and session-booking are required.
URL:https://adhdandautism.org/event/social-group-plus/2026-08-04/
LOCATION:Bay 20 Community Centre\, 71 St Marks Road\, London\, W10 6JG\, United Kingdom
CATEGORIES:Youth
ORGANIZER;CN="Karen Crocker":MAILTO:karen@adhdandautism.org
END:VEVENT
BEGIN:VEVENT
DTSTART;TZID=Europe/London:20260805T103000
DTEND;TZID=Europe/London:20260805T120000
DTSTAMP:20260425T001003
CREATED:20250912T090042Z
LAST-MODIFIED:20251025T091438Z
UID:10020426-1785925800-1785931200@adhdandautism.org
SUMMARY:Drop-In Support Group (Bay20) (Wednesdays)
DESCRIPTION:The support sessions are a great introduction to our services: you can meet someone from both the Family Support and Youth Teams and find out about the help we can provide for you and your family\, as well as connect with other parents/carers in a similar situation. \n 
URL:https://adhdandautism.org/event/drop-in-support-group-bay20-wednesdays-2/2026-08-05/
LOCATION:Bay 20 Community Centre\, 71 St Marks Road\, London\, W10 6JG\, United Kingdom
CATEGORIES:Parent / Carer
ORGANIZER;CN="CAAS Enquiries":MAILTO:enquiries@adhdandautism.org
END:VEVENT
BEGIN:VEVENT
DTSTART;TZID=Europe/London:20260810T163000
DTEND;TZID=Europe/London:20260810T180000
DTSTAMP:20260425T001003
CREATED:20260106T130950Z
LAST-MODIFIED:20260223T145837Z
UID:10022322-1786379400-1786384800@adhdandautism.org
SUMMARY:Social Group for Young People (11-14) (2nd Monday)
DESCRIPTION:For ADHD/Autistic people in school years 7 to 9. Places must be booked. \nThrough games\, quizzes\, arts/crafts and discussion\, this group gives ADHD/autistic young people the opportunity to develop friendships and connections with other people as well as increase their understanding of what being neurodivergent means to them. \nPre-registration and session-booking are required.
URL:https://adhdandautism.org/event/social-group-2/2026-08-10/
LOCATION:Bay 20 Community Centre\, 71 St Marks Road\, London\, W10 6JG\, United Kingdom
CATEGORIES:Youth
ORGANIZER;CN="Karen Crocker":MAILTO:karen@adhdandautism.org
END:VEVENT
BEGIN:VEVENT
DTSTART;TZID=Europe/London:20260812T103000
DTEND;TZID=Europe/London:20260812T120000
DTSTAMP:20260425T001003
CREATED:20250912T090042Z
LAST-MODIFIED:20251025T091438Z
UID:10020428-1786530600-1786536000@adhdandautism.org
SUMMARY:Drop-In Support Group (Bay20) (Wednesdays)
DESCRIPTION:The support sessions are a great introduction to our services: you can meet someone from both the Family Support and Youth Teams and find out about the help we can provide for you and your family\, as well as connect with other parents/carers in a similar situation. \n 
URL:https://adhdandautism.org/event/drop-in-support-group-bay20-wednesdays-2/2026-08-12/
LOCATION:Bay 20 Community Centre\, 71 St Marks Road\, London\, W10 6JG\, United Kingdom
CATEGORIES:Parent / Carer
ORGANIZER;CN="CAAS Enquiries":MAILTO:enquiries@adhdandautism.org
END:VEVENT
END:VCALENDAR